Workbook

Sheet Faixa etária 2019-2024
A1: ="Óbitos por município de residência e ano – "&B3&" – 18ª Região de Saúde (Iguatu), 2019 a 2024" -> Óbitos por município de residência e ano – Menor de 1 ano – 18ª Região de Saúde (Iguatu), 2019 a 2024
A3: Faixa etária (filtro): | B3: Menor de 1 ano | F3: ← clique na célula amarela e escolha a faixa etária
A5: Município de residência | B5: 2019 | C5: 2020 | D5: 2021 | E5: 2022 | F5: 2023 | G5: 2024 | H5: Total 2019-2024
A6: ='Base faixa etária'!A12 -> 230030 Acopiara | B6: =IF($B$3="Menor de 1 ano",'Base faixa etária'!B12,IF($B$3="1 a 4 anos",'Base faixa etária'!B27,'Base faixa etária'!B12+'Base faixa etária'!B27)) -> 4 | C6: =IF($B$3="Menor de 1 ano",'Base faixa etária'!C12,IF($B$3="1 a 4 anos",'Base faixa etária'!C27,'Base faixa etária'!C12+'Base faixa etária'!C27)) -> 11 | D6: =IF($B$3="Menor de 1 ano",'Base faixa etária'!D12,IF($B$3="1 a 4 anos",'Base faixa etária'!D27,'Base faixa etária'!D12+'Base faixa etária'!D27)) -> 6 | E6: =IF($B$3="Menor de 1 ano",'Base faixa etária'!E12,IF($B$3="1 a 4 anos",'Base faixa etária'!E27,'Base faixa etária'!E12+'Base faixa etária'!E27)) -> 6 | F6: =IF($B$3="Menor de 1 ano",'Base faixa etária'!F12,IF($B$3="1 a 4 anos",'Base faixa etária'!F27,'Base faixa etária'!F12+'Base faixa etária'!F27)) -> 2 | G6: =IF($B$3="Menor de 1 ano",'Base faixa etária'!G12,IF($B$3="1 a 4 anos",'Base faixa etária'!G27,'Base faixa etária'!G12+'Base faixa etária'!G27)) -> 8 | H6: =SUM(B6:G6) -> 37
A7: ='Base faixa etária'!A13 -> 230330 Cariús | B7: =IF($B$3="Menor de 1 ano",'Base faixa etária'!B13,IF($B$3="1 a 4 anos",'Base faixa etária'!B28,'Base faixa etária'!B13+'Base faixa etária'!B28)) -> 2 | C7: =IF($B$3="Menor de 1 ano",'Base faixa etária'!C13,IF($B$3="1 a 4 anos",'Base faixa etária'!C28,'Base faixa etária'!C13+'Base faixa etária'!C28)) -> 3 | D7: =IF($B$3="Menor de 1 ano",'Base faixa etária'!D13,IF($B$3="1 a 4 anos",'Base faixa etária'!D28,'Base faixa etária'!D13+'Base faixa etária'!D28)) -> 3 | E7: =IF($B$3="Menor de 1 ano",'Base faixa etária'!E13,IF($B$3="1 a 4 anos",'Base faixa etária'!E28,'Base faixa etária'!E13+'Base faixa etária'!E28)) -> 0 | F7: =IF($B$3="Menor de 1 ano",'Base faixa etária'!F13,IF($B$3="1 a 4 anos",'Base faixa etária'!F28,'Base faixa etária'!F13+'Base faixa etária'!F28)) -> 2 | G7: =IF($B$3="Menor de 1 ano",'Base faixa etária'!G13,IF($B$3="1 a 4 anos",'Base faixa etária'!G28,'Base faixa etária'!G13+'Base faixa etária'!G28)) -> 0 | H7: =SUM(B7:G7) -> 10
A8: ='Base faixa etária'!A14 -> 230360 Catarina | B8: =IF($B$3="Menor de 1 ano",'Base faixa etária'!B14,IF($B$3="1 a 4 anos",'Base faixa etária'!B29,'Base faixa etária'!B14+'Base faixa etária'!B29)) -> 3 | C8: =IF($B$3="Menor de 1 ano",'Base faixa etária'!C14,IF($B$3="1 a 4 anos",'Base faixa etária'!C29,'Base faixa etária'!C14+'Base faixa etária'!C29)) -> 1 | D8: =IF($B$3="Menor de 1 ano",'Base faixa etária'!D14,IF($B$3="1 a 4 anos",'Base faixa etária'!D29,'Base faixa etária'!D14+'Base faixa etária'!D29)) -> 1 | E8: =IF($B$3="Menor de 1 ano",'Base faixa etária'!E14,IF($B$3="1 a 4 anos",'Base faixa etária'!E29,'Base faixa etária'!E14+'Base faixa etária'!E29)) -> 2 | F8: =IF($B$3="Menor de 1 ano",'Base faixa etária'!F14,IF($B$3="1 a 4 anos",'Base faixa etária'!F29,'Base faixa etária'!F14+'Base faixa etária'!F29)) -> 1 | G8: =IF($B$3="Menor de 1 ano",'Base faixa etária'!G14,IF($B$3="1 a 4 anos",'Base faixa etária'!G29,'Base faixa etária'!G14+'Base faixa etária'!G29)) -> 0 | H8: =SUM(B8:G8) -> 8
A9: ='Base faixa etária'!A15 -> 230426 Deputado Irapuan Pinheiro | B9: =IF($B$3="Menor de 1 ano",'Base faixa etária'!B15,IF($B$3="1 a 4 anos",'Base faixa etária'!B30,'Base faixa etária'!B15+'Base faixa etária'!B30)) -> 1 | C9: =IF($B$3="Menor de 1 ano",'Base faixa etária'!C15,IF($B$3="1 a 4 anos",'Base faixa etária'!C30,'Base faixa etária'!C15+'Base faixa etária'!C30)) -> 0 | D9: =IF($B$3="Menor de 1 ano",'Base faixa etária'!D15,IF($B$3="1 a 4 anos",'Base faixa etária'!D30,'Base faixa etária'!D15+'Base faixa etária'!D30)) -> 3 | E9: =IF($B$3="Menor de 1 ano",'Base faixa etária'!E15,IF($B$3="1 a 4 anos",'Base faixa etária'!E30,'Base faixa etária'!E15+'Base faixa etária'!E30)) -> 0 | F9: =IF($B$3="Menor de 1 ano",'Base faixa etária'!F15,IF($B$3="1 a 4 anos",'Base faixa etária'!F30,'Base faixa etária'!F15+'Base faixa etária'!F30)) -> 1 | G9: =IF($B$3="Menor de 1 ano",'Base faixa etária'!G15,IF($B$3="1 a 4 anos",'Base faixa etária'!G30,'Base faixa etária'!G15+'Base faixa etária'!G30)) -> 1 | H9: =SUM(B9:G9) -> 6
A10: ='Base faixa etária'!A16 -> 230550 Iguatu | B10: =IF($B$3="Menor de 1 ano",'Base faixa etária'!B16,IF($B$3="1 a 4 anos",'Base faixa etária'!B31,'Base faixa etária'!B16+'Base faixa etária'!B31)) -> 12 | C10: =IF($B$3="Menor de 1 ano",'Base faixa etária'!C16,IF($B$3="1 a 4 anos",'Base faixa etária'!C31,'Base faixa etária'!C16+'Base faixa etária'!C31)) -> 14 | D10: =IF($B$3="Menor de 1 ano",'Base faixa etária'!D16,IF($B$3="1 a 4 anos",'Base faixa etária'!D31,'Base faixa etária'!D16+'Base faixa etária'!D31)) -> 15 | E10: =IF($B$3="Menor de 1 ano",'Base faixa etária'!E16,IF($B$3="1 a 4 anos",'Base faixa etária'!E31,'Base faixa etária'!E16+'Base faixa etária'!E31)) -> 13 | F10: =IF($B$3="Menor de 1 ano",'Base faixa etária'!F16,IF($B$3="1 a 4 anos",'Base faixa etária'!F31,'Base faixa etária'!F16+'Base faixa etária'!F31)) -> 14 | G10: =IF($B$3="Menor de 1 ano",'Base faixa etária'!G16,IF($B$3="1 a 4 anos",'Base faixa etária'!G31,'Base faixa etária'!G16+'Base faixa etária'!G31)) -> 12 | H10: =SUM(B10:G10) -> 80
A11: ='Base faixa etária'!A17 -> 230740 Jucás | B11: =IF($B$3="Menor de 1 ano",'Base faixa etária'!B17,IF($B$3="1 a 4 anos",'Base faixa etária'!B32,'Base faixa etária'!B17+'Base faixa etária'!B32)) -> 6 | C11: =IF($B$3="Menor de 1 ano",'Base faixa etária'!C17,IF($B$3="1 a 4 anos",'Base faixa etária'!C32,'Base faixa etária'!C17+'Base faixa etária'!C32)) -> 2 | D11: =IF($B$3="Menor de 1 ano",'Base faixa etária'!D17,IF($B$3="1 a 4 anos",'Base faixa etária'!D32,'Base faixa etária'!D17+'Base faixa etária'!D32)) -> 4 | E11: =IF($B$3="Menor de 1 ano",'Base faixa etária'!E17,IF($B$3="1 a 4 anos",'Base faixa etária'!E32,'Base faixa etária'!E17+'Base faixa etária'!E32)) -> 2 | F11: =IF($B$3="Menor de 1 ano",'Base faixa etária'!F17,IF($B$3="1 a 4 anos",'Base faixa etária'!F32,'Base faixa etária'!F17+'Base faixa etária'!F32)) -> 6 | G11: =IF($B$3="Menor de 1 ano",'Base faixa etária'!G17,IF($B$3="1 a 4 anos",'Base faixa etária'!G32,'Base faixa etária'!G17+'Base faixa etária'!G32)) -> 3 | H11: =SUM(B11:G11) -> 23
A12: ='Base faixa etária'!A18 -> 230850 Mombaça | B12: =IF($B$3="Menor de 1 ano",'Base faixa etária'!B18,IF($B$3="1 a 4 anos",'Base faixa etária'!B33,'Base faixa etária'!B18+'Base faixa etária'!B33)) -> 1 | C12: =IF($B$3="Menor de 1 ano",'Base faixa etária'!C18,IF($B$3="1 a 4 anos",'Base faixa etária'!C33,'Base faixa etária'!C18+'Base faixa etária'!C33)) -> 6 | D12: =IF($B$3="Menor de 1 ano",'Base faixa etária'!D18,IF($B$3="1 a 4 anos",'Base faixa etária'!D33,'Base faixa etária'!D18+'Base faixa etária'!D33)) -> 7 | E12: =IF($B$3="Menor de 1 ano",'Base faixa etária'!E18,IF($B$3="1 a 4 anos",'Base faixa etária'!E33,'Base faixa etária'!E18+'Base faixa etária'!E33)) -> 6 | F12: =IF($B$3="Menor de 1 ano",'Base faixa etária'!F18,IF($B$3="1 a 4 anos",'Base faixa etária'!F33,'Base faixa etária'!F18+'Base faixa etária'!F33)) -> 5 | G12: =IF($B$3="Menor de 1 ano",'Base faixa etária'!G18,IF($B$3="1 a 4 anos",'Base faixa etária'!G33,'Base faixa etária'!G18+'Base faixa etária'!G33)) -> 5 | H12: =SUM(B12:G12) -> 30
A13: ='Base faixa etária'!A19 -> 231090 Piquet Carneiro | B13: =IF($B$3="Menor de 1 ano",'Base faixa etária'!B19,IF($B$3="1 a 4 anos",'Base faixa etária'!B34,'Base faixa etária'!B19+'Base faixa etária'!B34)) -> 3 | C13: =IF($B$3="Menor de 1 ano",'Base faixa etária'!C19,IF($B$3="1 a 4 anos",'Base faixa etária'!C34,'Base faixa etária'!C19+'Base faixa etária'!C34)) -> 3 | D13: =IF($B$3="Menor de 1 ano",'Base faixa etária'!D19,IF($B$3="1 a 4 anos",'Base faixa etária'!D34,'Base faixa etária'!D19+'Base faixa etária'!D34)) -> 0 | E13: =IF($B$3="Menor de 1 ano",'Base faixa etária'!E19,IF($B$3="1 a 4 anos",'Base faixa etária'!E34,'Base faixa etária'!E19+'Base faixa etária'!E34)) -> 4 | F13: =IF($B$3="Menor de 1 ano",'Base faixa etária'!F19,IF($B$3="1 a 4 anos",'Base faixa etária'!F34,'Base faixa etária'!F19+'Base faixa etária'!F34)) -> 2 | G13: =IF($B$3="Menor de 1 ano",'Base faixa etária'!G19,IF($B$3="1 a 4 anos",'Base faixa etária'!G34,'Base faixa etária'!G19+'Base faixa etária'!G34)) -> 1 | H13: =SUM(B13:G13) -> 13
A14: ='Base faixa etária'!A20 -> 231135 Quixelô | B14: =IF($B$3="Menor de 1 ano",'Base faixa etária'!B20,IF($B$3="1 a 4 anos",'Base faixa etária'!B35,'Base faixa etária'!B20+'Base faixa etária'!B35)) -> 6 | C14: =IF($B$3="Menor de 1 ano",'Base faixa etária'!C20,IF($B$3="1 a 4 anos",'Base faixa etária'!C35,'Base faixa etária'!C20+'Base faixa etária'!C35)) -> 5 | D14: =IF($B$3="Menor de 1 ano",'Base faixa etária'!D20,IF($B$3="1 a 4 anos",'Base faixa etária'!D35,'Base faixa etária'!D20+'Base faixa etária'!D35)) -> 2 | E14: =IF($B$3="Menor de 1 ano",'Base faixa etária'!E20,IF($B$3="1 a 4 anos",'Base faixa etária'!E35,'Base faixa etária'!E20+'Base faixa etária'!E35)) -> 3 | F14: =IF($B$3="Menor de 1 ano",'Base faixa etária'!F20,IF($B$3="1 a 4 anos",'Base faixa etária'!F35,'Base faixa etária'!F20+'Base faixa etária'!F35)) -> 4 | G14: =IF($B$3="Menor de 1 ano",'Base faixa etária'!G20,IF($B$3="1 a 4 anos",'Base faixa etária'!G35,'Base faixa etária'!G20+'Base faixa etária'!G35)) -> 1 | H14: =SUM(B14:G14) -> 21
A15: ='Base faixa etária'!A21 -> 231190 Saboeiro | B15: =IF($B$3="Menor de 1 ano",'Base faixa etária'!B21,IF($B$3="1 a 4 anos",'Base faixa etária'!B36,'Base faixa etária'!B21+'Base faixa etária'!B36)) -> 0 | C15: =IF($B$3="Menor de 1 ano",'Base faixa etária'!C21,IF($B$3="1 a 4 anos",'Base faixa etária'!C36,'Base faixa etária'!C21+'Base faixa etária'!C36)) -> 1 | D15: =IF($B$3="Menor de 1 ano",'Base faixa etária'!D21,IF($B$3="1 a 4 anos",'Base faixa etária'!D36,'Base faixa etária'!D21+'Base faixa etária'!D36)) -> 1 | E15: =IF($B$3="Menor de 1 ano",'Base faixa etária'!E21,IF($B$3="1 a 4 anos",'Base faixa etária'!E36,'Base faixa etária'!E21+'Base faixa etária'!E36)) -> 0 | F15: =IF($B$3="Menor de 1 ano",'Base faixa etária'!F21,IF($B$3="1 a 4 anos",'Base faixa etária'!F36,'Base faixa etária'!F21+'Base faixa etária'!F36)) -> 1 | G15: =IF($B$3="Menor de 1 ano",'Base faixa etária'!G21,IF($B$3="1 a 4 anos",'Base faixa etária'!G36,'Base faixa etária'!G21+'Base faixa etária'!G36)) -> 1 | H15: =SUM(B15:G15) -> 4
A16: Total | B16: =SUM(B6:B15) -> 38 | C16: =SUM(C6:C15) -> 46 | D16: =SUM(D6:D15) -> 42 | E16: =SUM(E6:E15) -> 36 | F16: =SUM(F6:F15) -> 38 | G16: =SUM(G6:G15) -> 32 | H16: =SUM(H6:H15) -> 232
A18: Fonte: SIM/DATASUS – tabulações por faixa etária (FREQUENCIAFAIXAETARIA 2019 a 2024). Dados de origem na aba 'Base faixa etária'.
A19: Municípios ausentes na tabulação de um ano foram considerados com 0 óbitos.

Sheet Idade da mãe 2019-2024
A1: ="Óbitos em menores de 5 anos por município de residência e ano – idade da mãe: "&B3&" – 18ª Região de Saúde (Iguatu), 2019 a 2024" -> Óbitos em menores de 5 anos por município de residência e ano – idade da mãe: Todas as idades – 18ª Região de Saúde (Iguatu), 2019 a 2024
A3: Idade da mãe (filtro): | B3: Todas as idades | F3: ← clique na célula amarela e escolha a idade da mãe
A5: Município de residência | B5: 2019 | C5: 2020 | D5: 2021 | E5: 2022 | F5: 2023 | G5: 2024 | H5: Total 2019-2024
A6: 230030 Acopiara | B6: =IF($B$3="Todas as idades",SUMIFS('Base idade da mãe'!C$16:C$75,'Base idade da mãe'!$B$16:$B$75,$A6),SUMIFS('Base idade da mãe'!C$16:C$75,'Base idade da mãe'!$B$16:$B$75,$A6,'Base idade da mãe'!$A$16:$A$75,$B$3)) -> 5 | C6: =IF($B$3="Todas as idades",SUMIFS('Base idade da mãe'!D$16:D$75,'Base idade da mãe'!$B$16:$B$75,$A6),SUMIFS('Base idade da mãe'!D$16:D$75,'Base idade da mãe'!$B$16:$B$75,$A6,'Base idade da mãe'!$A$16:$A$75,$B$3)) -> 12 | D6: =IF($B$3="Todas as idades",SUMIFS('Base idade da mãe'!E$16:E$75,'Base idade da mãe'!$B$16:$B$75,$A6),SUMIFS('Base idade da mãe'!E$16:E$75,'Base idade da mãe'!$B$16:$B$75,$A6,'Base idade da mãe'!$A$16:$A$75,$B$3)) -> 8 | E6: =IF($B$3="Todas as idades",SUMIFS('Base idade da mãe'!F$16:F$75,'Base idade da mãe'!$B$16:$B$75,$A6),SUMIFS('Base idade da mãe'!F$16:F$75,'Base idade da mãe'!$B$16:$B$75,$A6,'Base idade da mãe'!$A$16:$A$75,$B$3)) -> 8 | F6: =IF($B$3="Todas as idades",SUMIFS('Base idade da mãe'!G$16:G$75,'Base idade da mãe'!$B$16:$B$75,$A6),SUMIFS('Base idade da mãe'!G$16:G$75,'Base idade da mãe'!$B$16:$B$75,$A6,'Base idade da mãe'!$A$16:$A$75,$B$3)) -> 2 | G6: =IF($B$3="Todas as idades",SUMIFS('Base idade da mãe'!H$16:H$75,'Base idade da mãe'!$B$16:$B$75,$A6),SUMIFS('Base idade da mãe'!H$16:H$75,'Base idade da mãe'!$B$16:$B$75,$A6,'Base idade da mãe'!$A$16:$A$75,$B$3)) -> 9 | H6: =SUM(B6:G6) -> 44
A7: 230330 Cariús | B7: =IF($B$3="Todas as idades",SUMIFS('Base idade da mãe'!C$16:C$75,'Base idade da mãe'!$B$16:$B$75,$A7),SUMIFS('Base idade da mãe'!C$16:C$75,'Base idade da mãe'!$B$16:$B$75,$A7,'Base idade da mãe'!$A$16:$A$75,$B$3)) -> 2 | C7: =IF($B$3="Todas as idades",SUMIFS('Base idade da mãe'!D$16:D$75,'Base idade da mãe'!$B$16:$B$75,$A7),SUMIFS('Base idade da mãe'!D$16:D$75,'Base idade da mãe'!$B$16:$B$75,$A7,'Base idade da mãe'!$A$16:$A$75,$B$3)) -> 3 | D7: =IF($B$3="Todas as idades",SUMIFS('Base idade da mãe'!E$16:E$75,'Base idade da mãe'!$B$16:$B$75,$A7),SUMIFS('Base idade da mãe'!E$16:E$75,'Base idade da mãe'!$B$16:$B$75,$A7,'Base idade da mãe'!$A$16:$A$75,$B$3)) -> 3 | E7: =IF($B$3="Todas as idades",SUMIFS('Base idade da mãe'!F$16:F$75,'Base idade da mãe'!$B$16:$B$75,$A7),SUMIFS('Base idade da mãe'!F$16:F$75,'Base idade da mãe'!$B$16:$B$75,$A7,'Base idade da mãe'!$A$16:$A$75,$B$3)) -> 1 | F7: =IF($B$3="Todas as idades",SUMIFS('Base idade da mãe'!G$16:G$75,'Base idade da mãe'!$B$16:$B$75,$A7),SUMIFS('Base idade da mãe'!G$16:G$75,'Base idade da mãe'!$B$16:$B$75,$A7,'Base idade da mãe'!$A$16:$A$75,$B$3)) -> 2 | G7: =IF($B$3="Todas as idades",SUMIFS('Base idade da mãe'!H$16:H$75,'Base idade da mãe'!$B$16:$B$75,$A7),SUMIFS('Base idade da mãe'!H$16:H$75,'Base idade da mãe'!$B$16:$B$75,$A7,'Base idade da mãe'!$A$16:$A$75,$B$3)) -> 2 | H7: =SUM(B7:G7) -> 13
A8: 230360 Catarina | B8: =IF($B$3="Todas as idades",SUMIFS('Base idade da mãe'!C$16:C$75,'Base idade da mãe'!$B$16:$B$75,$A8),SUMIFS('Base idade da mãe'!C$16:C$75,'Base idade da mãe'!$B$16:$B$75,$A8,'Base idade da mãe'!$A$16:$A$75,$B$3)) -> 3 | C8: =IF($B$3="Todas as idades",SUMIFS('Base idade da mãe'!D$16:D$75,'Base idade da mãe'!$B$16:$B$75,$A8),SUMIFS('Base idade da mãe'!D$16:D$75,'Base idade da mãe'!$B$16:$B$75,$A8,'Base idade da mãe'!$A$16:$A$75,$B$3)) -> 2 | D8: =IF($B$3="Todas as idades",SUMIFS('Base idade da mãe'!E$16:E$75,'Base idade da mãe'!$B$16:$B$75,$A8),SUMIFS('Base idade da mãe'!E$16:E$75,'Base idade da mãe'!$B$16:$B$75,$A8,'Base idade da mãe'!$A$16:$A$75,$B$3)) -> 1 | E8: =IF($B$3="Todas as idades",SUMIFS('Base idade da mãe'!F$16:F$75,'Base idade da mãe'!$B$16:$B$75,$A8),SUMIFS('Base idade da mãe'!F$16:F$75,'Base idade da mãe'!$B$16:$B$75,$A8,'Base idade da mãe'!$A$16:$A$75,$B$3)) -> 2 | F8: =IF($B$3="Todas as idades",SUMIFS('Base idade da mãe'!G$16:G$75,'Base idade da mãe'!$B$16:$B$75,$A8),SUMIFS('Base idade da mãe'!G$16:G$75,'Base idade da mãe'!$B$16:$B$75,$A8,'Base idade da mãe'!$A$16:$A$75,$B$3)) -> 1 | G8: =IF($B$3="Todas as idades",SUMIFS('Base idade da mãe'!H$16:H$75,'Base idade da mãe'!$B$16:$B$75,$A8),SUMIFS('Base idade da mãe'!H$16:H$75,'Base idade da mãe'!$B$16:$B$75,$A8,'Base idade da mãe'!$A$16:$A$75,$B$3)) -> 0 | H8: =SUM(B8:G8) -> 9
A9: 230426 Deputado Irapuan Pinheiro | B9: =IF($B$3="Todas as idades",SUMIFS('Base idade da mãe'!C$16:C$75,'Base idade da mãe'!$B$16:$B$75,$A9),SUMIFS('Base idade da mãe'!C$16:C$75,'Base idade da mãe'!$B$16:$B$75,$A9,'Base idade da mãe'!$A$16:$A$75,$B$3)) -> 1 | C9: =IF($B$3="Todas as idades",SUMIFS('Base idade da mãe'!D$16:D$75,'Base idade da mãe'!$B$16:$B$75,$A9),SUMIFS('Base idade da mãe'!D$16:D$75,'Base idade da mãe'!$B$16:$B$75,$A9,'Base idade da mãe'!$A$16:$A$75,$B$3)) -> 0 | D9: =IF($B$3="Todas as idades",SUMIFS('Base idade da mãe'!E$16:E$75,'Base idade da mãe'!$B$16:$B$75,$A9),SUMIFS('Base idade da mãe'!E$16:E$75,'Base idade da mãe'!$B$16:$B$75,$A9,'Base idade da mãe'!$A$16:$A$75,$B$3)) -> 3 | E9: =IF($B$3="Todas as idades",SUMIFS('Base idade da mãe'!F$16:F$75,'Base idade da mãe'!$B$16:$B$75,$A9),SUMIFS('Base idade da mãe'!F$16:F$75,'Base idade da mãe'!$B$16:$B$75,$A9,'Base idade da mãe'!$A$16:$A$75,$B$3)) -> 1 | F9: =IF($B$3="Todas as idades",SUMIFS('Base idade da mãe'!G$16:G$75,'Base idade da mãe'!$B$16:$B$75,$A9),SUMIFS('Base idade da mãe'!G$16:G$75,'Base idade da mãe'!$B$16:$B$75,$A9,'Base idade da mãe'!$A$16:$A$75,$B$3)) -> 1 | G9: =IF($B$3="Todas as idades",SUMIFS('Base idade da mãe'!H$16:H$75,'Base idade da mãe'!$B$16:$B$75,$A9),SUMIFS('Base idade da mãe'!H$16:H$75,'Base idade da mãe'!$B$16:$B$75,$A9,'Base idade da mãe'!$A$16:$A$75,$B$3)) -> 1 | H9: =SUM(B9:G9) -> 7
A10: 230550 Iguatu | B10: =IF($B$3="Todas as idades",SUMIFS('Base idade da mãe'!C$16:C$75,'Base idade da mãe'!$B$16:$B$75,$A10),SUMIFS('Base idade da mãe'!C$16:C$75,'Base idade da mãe'!$B$16:$B$75,$A10,'Base idade da mãe'!$A$16:$A$75,$B$3)) -> 13 | C10: =IF($B$3="Todas as idades",SUMIFS('Base idade da mãe'!D$16:D$75,'Base idade da mãe'!$B$16:$B$75,$A10),SUMIFS('Base idade da mãe'!D$16:D$75,'Base idade da mãe'!$B$16:$B$75,$A10,'Base idade da mãe'!$A$16:$A$75,$B$3)) -> 15 | D10: =IF($B$3="Todas as idades",SUMIFS('Base idade da mãe'!E$16:E$75,'Base idade da mãe'!$B$16:$B$75,$A10),SUMIFS('Base idade da mãe'!E$16:E$75,'Base idade da mãe'!$B$16:$B$75,$A10,'Base idade da mãe'!$A$16:$A$75,$B$3)) -> 17 | E10: =IF($B$3="Todas as idades",SUMIFS('Base idade da mãe'!F$16:F$75,'Base idade da mãe'!$B$16:$B$75,$A10),SUMIFS('Base idade da mãe'!F$16:F$75,'Base idade da mãe'!$B$16:$B$75,$A10,'Base idade da mãe'!$A$16:$A$75,$B$3)) -> 13 | F10: =IF($B$3="Todas as idades",SUMIFS('Base idade da mãe'!G$16:G$75,'Base idade da mãe'!$B$16:$B$75,$A10),SUMIFS('Base idade da mãe'!G$16:G$75,'Base idade da mãe'!$B$16:$B$75,$A10,'Base idade da mãe'!$A$16:$A$75,$B$3)) -> 16 | G10: =IF($B$3="Todas as idades",SUMIFS('Base idade da mãe'!H$16:H$75,'Base idade da mãe'!$B$16:$B$75,$A10),SUMIFS('Base idade da mãe'!H$16:H$75,'Base idade da mãe'!$B$16:$B$75,$A10,'Base idade da mãe'!$A$16:$A$75,$B$3)) -> 12 | H10: =SUM(B10:G10) -> 86
A11: 230740 Jucás | B11: =IF($B$3="Todas as idades",SUMIFS('Base idade da mãe'!C$16:C$75,'Base idade da mãe'!$B$16:$B$75,$A11),SUMIFS('Base idade da mãe'!C$16:C$75,'Base idade da mãe'!$B$16:$B$75,$A11,'Base idade da mãe'!$A$16:$A$75,$B$3)) -> 7 | C11: =IF($B$3="Todas as idades",SUMIFS('Base idade da mãe'!D$16:D$75,'Base idade da mãe'!$B$16:$B$75,$A11),SUMIFS('Base idade da mãe'!D$16:D$75,'Base idade da mãe'!$B$16:$B$75,$A11,'Base idade da mãe'!$A$16:$A$75,$B$3)) -> 2 | D11: =IF($B$3="Todas as idades",SUMIFS('Base idade da mãe'!E$16:E$75,'Base idade da mãe'!$B$16:$B$75,$A11),SUMIFS('Base idade da mãe'!E$16:E$75,'Base idade da mãe'!$B$16:$B$75,$A11,'Base idade da mãe'!$A$16:$A$75,$B$3)) -> 6 | E11: =IF($B$3="Todas as idades",SUMIFS('Base idade da mãe'!F$16:F$75,'Base idade da mãe'!$B$16:$B$75,$A11),SUMIFS('Base idade da mãe'!F$16:F$75,'Base idade da mãe'!$B$16:$B$75,$A11,'Base idade da mãe'!$A$16:$A$75,$B$3)) -> 2 | F11: =IF($B$3="Todas as idades",SUMIFS('Base idade da mãe'!G$16:G$75,'Base idade da mãe'!$B$16:$B$75,$A11),SUMIFS('Base idade da mãe'!G$16:G$75,'Base idade da mãe'!$B$16:$B$75,$A11,'Base idade da mãe'!$A$16:$A$75,$B$3)) -> 7 | G11: =IF($B$3="Todas as idades",SUMIFS('Base idade da mãe'!H$16:H$75,'Base idade da mãe'!$B$16:$B$75,$A11),SUMIFS('Base idade da mãe'!H$16:H$75,'Base idade da mãe'!$B$16:$B$75,$A11,'Base idade da mãe'!$A$16:$A$75,$B$3)) -> 5 | H11: =SUM(B11:G11) -> 29
A12: 230850 Mombaça | B12: =IF($B$3="Todas as idades",SUMIFS('Base idade da mãe'!C$16:C$75,'Base idade da mãe'!$B$16:$B$75,$A12),SUMIFS('Base idade da mãe'!C$16:C$75,'Base idade da mãe'!$B$16:$B$75,$A12,'Base idade da mãe'!$A$16:$A$75,$B$3)) -> 1 | C12: =IF($B$3="Todas as idades",SUMIFS('Base idade da mãe'!D$16:D$75,'Base idade da mãe'!$B$16:$B$75,$A12),SUMIFS('Base idade da mãe'!D$16:D$75,'Base idade da mãe'!$B$16:$B$75,$A12,'Base idade da mãe'!$A$16:$A$75,$B$3)) -> 6 | D12: =IF($B$3="Todas as idades",SUMIFS('Base idade da mãe'!E$16:E$75,'Base idade da mãe'!$B$16:$B$75,$A12),SUMIFS('Base idade da mãe'!E$16:E$75,'Base idade da mãe'!$B$16:$B$75,$A12,'Base idade da mãe'!$A$16:$A$75,$B$3)) -> 7 | E12: =IF($B$3="Todas as idades",SUMIFS('Base idade da mãe'!F$16:F$75,'Base idade da mãe'!$B$16:$B$75,$A12),SUMIFS('Base idade da mãe'!F$16:F$75,'Base idade da mãe'!$B$16:$B$75,$A12,'Base idade da mãe'!$A$16:$A$75,$B$3)) -> 7 | F12: =IF($B$3="Todas as idades",SUMIFS('Base idade da mãe'!G$16:G$75,'Base idade da mãe'!$B$16:$B$75,$A12),SUMIFS('Base idade da mãe'!G$16:G$75,'Base idade da mãe'!$B$16:$B$75,$A12,'Base idade da mãe'!$A$16:$A$75,$B$3)) -> 5 | G12: =IF($B$3="Todas as idades",SUMIFS('Base idade da mãe'!H$16:H$75,'Base idade da mãe'!$B$16:$B$75,$A12),SUMIFS('Base idade da mãe'!H$16:H$75,'Base idade da mãe'!$B$16:$B$75,$A12,'Base idade da mãe'!$A$16:$A$75,$B$3)) -> 6 | H12: =SUM(B12:G12) -> 32
A13: 231090 Piquet Carneiro | B13: =IF($B$3="Todas as idades",SUMIFS('Base idade da mãe'!C$16:C$75,'Base idade da mãe'!$B$16:$B$75,$A13),SUMIFS('Base idade da mãe'!C$16:C$75,'Base idade da mãe'!$B$16:$B$75,$A13,'Base idade da mãe'!$A$16:$A$75,$B$3)) -> 3 | C13: =IF($B$3="Todas as idades",SUMIFS('Base idade da mãe'!D$16:D$75,'Base idade da mãe'!$B$16:$B$75,$A13),SUMIFS('Base idade da mãe'!D$16:D$75,'Base idade da mãe'!$B$16:$B$75,$A13,'Base idade da mãe'!$A$16:$A$75,$B$3)) -> 3 | D13: =IF($B$3="Todas as idades",SUMIFS('Base idade da mãe'!E$16:E$75,'Base idade da mãe'!$B$16:$B$75,$A13),SUMIFS('Base idade da mãe'!E$16:E$75,'Base idade da mãe'!$B$16:$B$75,$A13,'Base idade da mãe'!$A$16:$A$75,$B$3)) -> 0 | E13: =IF($B$3="Todas as idades",SUMIFS('Base idade da mãe'!F$16:F$75,'Base idade da mãe'!$B$16:$B$75,$A13),SUMIFS('Base idade da mãe'!F$16:F$75,'Base idade da mãe'!$B$16:$B$75,$A13,'Base idade da mãe'!$A$16:$A$75,$B$3)) -> 5 | F13: =IF($B$3="Todas as idades",SUMIFS('Base idade da mãe'!G$16:G$75,'Base idade da mãe'!$B$16:$B$75,$A13),SUMIFS('Base idade da mãe'!G$16:G$75,'Base idade da mãe'!$B$16:$B$75,$A13,'Base idade da mãe'!$A$16:$A$75,$B$3)) -> 2 | G13: =IF($B$3="Todas as idades",SUMIFS('Base idade da mãe'!H$16:H$75,'Base idade da mãe'!$B$16:$B$75,$A13),SUMIFS('Base idade da mãe'!H$16:H$75,'Base idade da mãe'!$B$16:$B$75,$A13,'Base idade da mãe'!$A$16:$A$75,$B$3)) -> 1 | H13: =SUM(B13:G13) -> 14
A14: 231135 Quixelô | B14: =IF($B$3="Todas as idades",SUMIFS('Base idade da mãe'!C$16:C$75,'Base idade da mãe'!$B$16:$B$75,$A14),SUMIFS('Base idade da mãe'!C$16:C$75,'Base idade da mãe'!$B$16:$B$75,$A14,'Base idade da mãe'!$A$16:$A$75,$B$3)) -> 7 | C14: =IF($B$3="Todas as idades",SUMIFS('Base idade da mãe'!D$16:D$75,'Base idade da mãe'!$B$16:$B$75,$A14),SUMIFS('Base idade da mãe'!D$16:D$75,'Base idade da mãe'!$B$16:$B$75,$A14,'Base idade da mãe'!$A$16:$A$75,$B$3)) -> 6 | D14: =IF($B$3="Todas as idades",SUMIFS('Base idade da mãe'!E$16:E$75,'Base idade da mãe'!$B$16:$B$75,$A14),SUMIFS('Base idade da mãe'!E$16:E$75,'Base idade da mãe'!$B$16:$B$75,$A14,'Base idade da mãe'!$A$16:$A$75,$B$3)) -> 3 | E14: =IF($B$3="Todas as idades",SUMIFS('Base idade da mãe'!F$16:F$75,'Base idade da mãe'!$B$16:$B$75,$A14),SUMIFS('Base idade da mãe'!F$16:F$75,'Base idade da mãe'!$B$16:$B$75,$A14,'Base idade da mãe'!$A$16:$A$75,$B$3)) -> 3 | F14: =IF($B$3="Todas as idades",SUMIFS('Base idade da mãe'!G$16:G$75,'Base idade da mãe'!$B$16:$B$75,$A14),SUMIFS('Base idade da mãe'!G$16:G$75,'Base idade da mãe'!$B$16:$B$75,$A14,'Base idade da mãe'!$A$16:$A$75,$B$3)) -> 4 | G14: =IF($B$3="Todas as idades",SUMIFS('Base idade da mãe'!H$16:H$75,'Base idade da mãe'!$B$16:$B$75,$A14),SUMIFS('Base idade da mãe'!H$16:H$75,'Base idade da mãe'!$B$16:$B$75,$A14,'Base idade da mãe'!$A$16:$A$75,$B$3)) -> 1 | H14: =SUM(B14:G14) -> 24
A15: 231190 Saboeiro | B15: =IF($B$3="Todas as idades",SUMIFS('Base idade da mãe'!C$16:C$75,'Base idade da mãe'!$B$16:$B$75,$A15),SUMIFS('Base idade da mãe'!C$16:C$75,'Base idade da mãe'!$B$16:$B$75,$A15,'Base idade da mãe'!$A$16:$A$75,$B$3)) -> 0 | C15: =IF($B$3="Todas as idades",SUMIFS('Base idade da mãe'!D$16:D$75,'Base idade da mãe'!$B$16:$B$75,$A15),SUMIFS('Base idade da mãe'!D$16:D$75,'Base idade da mãe'!$B$16:$B$75,$A15,'Base idade da mãe'!$A$16:$A$75,$B$3)) -> 1 | D15: =IF($B$3="Todas as idades",SUMIFS('Base idade da mãe'!E$16:E$75,'Base idade da mãe'!$B$16:$B$75,$A15),SUMIFS('Base idade da mãe'!E$16:E$75,'Base idade da mãe'!$B$16:$B$75,$A15,'Base idade da mãe'!$A$16:$A$75,$B$3)) -> 1 | E15: =IF($B$3="Todas as idades",SUMIFS('Base idade da mãe'!F$16:F$75,'Base idade da mãe'!$B$16:$B$75,$A15),SUMIFS('Base idade da mãe'!F$16:F$75,'Base idade da mãe'!$B$16:$B$75,$A15,'Base idade da mãe'!$A$16:$A$75,$B$3)) -> 2 | F15: =IF($B$3="Todas as idades",SUMIFS('Base idade da mãe'!G$16:G$75,'Base idade da mãe'!$B$16:$B$75,$A15),SUMIFS('Base idade da mãe'!G$16:G$75,'Base idade da mãe'!$B$16:$B$75,$A15,'Base idade da mãe'!$A$16:$A$75,$B$3)) -> 1 | G15: =IF($B$3="Todas as idades",SUMIFS('Base idade da mãe'!H$16:H$75,'Base idade da mãe'!$B$16:$B$75,$A15),SUMIFS('Base idade da mãe'!H$16:H$75,'Base idade da mãe'!$B$16:$B$75,$A15,'Base idade da mãe'!$A$16:$A$75,$B$3)) -> 1 | H15: =SUM(B15:G15) -> 6
A16: Total | B16: =SUM(B6:B15) -> 42 | C16: =SUM(C6:C15) -> 50 | D16: =SUM(D6:D15) -> 49 | E16: =SUM(E6:E15) -> 44 | F16: =SUM(F6:F15) -> 41 | G16: =SUM(G6:G15) -> 38 | H16: =SUM(H6:H15) -> 264
A18: Fonte: SIM/DATASUS – tabulações por idade da mãe (FREQUENCIAIDADEMAE 2019 a 2024). Dados de origem na aba 'Base idade da mãe'.
A19: Municípios ou faixas ausentes na tabulação de um ano foram considerados com 0 óbitos.

Sheet Escolaridade mãe 2019-2024
A1: ="Óbitos em menores de 5 anos por município de residência e ano – escolaridade da mãe: "&B3&" – 18ª Região de Saúde (Iguatu), 2019 a 2024" -> Óbitos em menores de 5 anos por município de residência e ano – escolaridade da mãe: Todas – 18ª Região de Saúde (Iguatu), 2019 a 2024
A3: Escolaridade da mãe (filtro): | B3: Todas | F3: ← clique na célula amarela e escolha a categoria
A5: Município de residência | B5: 2019 | C5: 2020 | D5: 2021 | E5: 2022 | F5: 2023 | G5: 2024 | H5: Total 2019-2024
A6: 230030 Acopiara | B6: =IF($B$3="Todas",SUMIFS('Base escolaridade da mãe'!C$17:C$86,'Base escolaridade da mãe'!$B$17:$B$86,$A6),SUMIFS('Base escolaridade da mãe'!C$17:C$86,'Base escolaridade da mãe'!$B$17:$B$86,$A6,'Base escolaridade da mãe'!$A$17:$A$86,$B$3)) -> 5 | C6: =IF($B$3="Todas",SUMIFS('Base escolaridade da mãe'!D$17:D$86,'Base escolaridade da mãe'!$B$17:$B$86,$A6),SUMIFS('Base escolaridade da mãe'!D$17:D$86,'Base escolaridade da mãe'!$B$17:$B$86,$A6,'Base escolaridade da mãe'!$A$17:$A$86,$B$3)) -> 12 | D6: =IF($B$3="Todas",SUMIFS('Base escolaridade da mãe'!E$17:E$86,'Base escolaridade da mãe'!$B$17:$B$86,$A6),SUMIFS('Base escolaridade da mãe'!E$17:E$86,'Base escolaridade da mãe'!$B$17:$B$86,$A6,'Base escolaridade da mãe'!$A$17:$A$86,$B$3)) -> 8 | E6: =IF($B$3="Todas",SUMIFS('Base escolaridade da mãe'!F$17:F$86,'Base escolaridade da mãe'!$B$17:$B$86,$A6),SUMIFS('Base escolaridade da mãe'!F$17:F$86,'Base escolaridade da mãe'!$B$17:$B$86,$A6,'Base escolaridade da mãe'!$A$17:$A$86,$B$3)) -> 8 | F6: =IF($B$3="Todas",SUMIFS('Base escolaridade da mãe'!G$17:G$86,'Base escolaridade da mãe'!$B$17:$B$86,$A6),SUMIFS('Base escolaridade da mãe'!G$17:G$86,'Base escolaridade da mãe'!$B$17:$B$86,$A6,'Base escolaridade da mãe'!$A$17:$A$86,$B$3)) -> 2 | G6: =IF($B$3="Todas",SUMIFS('Base escolaridade da mãe'!H$17:H$86,'Base escolaridade da mãe'!$B$17:$B$86,$A6),SUMIFS('Base escolaridade da mãe'!H$17:H$86,'Base escolaridade da mãe'!$B$17:$B$86,$A6,'Base escolaridade da mãe'!$A$17:$A$86,$B$3)) -> 9 | H6: =SUM(B6:G6) -> 44
A7: 230330 Cariús | B7: =IF($B$3="Todas",SUMIFS('Base escolaridade da mãe'!C$17:C$86,'Base escolaridade da mãe'!$B$17:$B$86,$A7),SUMIFS('Base escolaridade da mãe'!C$17:C$86,'Base escolaridade da mãe'!$B$17:$B$86,$A7,'Base escolaridade da mãe'!$A$17:$A$86,$B$3)) -> 2 | C7: =IF($B$3="Todas",SUMIFS('Base escolaridade da mãe'!D$17:D$86,'Base escolaridade da mãe'!$B$17:$B$86,$A7),SUMIFS('Base escolaridade da mãe'!D$17:D$86,'Base escolaridade da mãe'!$B$17:$B$86,$A7,'Base escolaridade da mãe'!$A$17:$A$86,$B$3)) -> 3 | D7: =IF($B$3="Todas",SUMIFS('Base escolaridade da mãe'!E$17:E$86,'Base escolaridade da mãe'!$B$17:$B$86,$A7),SUMIFS('Base escolaridade da mãe'!E$17:E$86,'Base escolaridade da mãe'!$B$17:$B$86,$A7,'Base escolaridade da mãe'!$A$17:$A$86,$B$3)) -> 3 | E7: =IF($B$3="Todas",SUMIFS('Base escolaridade da mãe'!F$17:F$86,'Base escolaridade da mãe'!$B$17:$B$86,$A7),SUMIFS('Base escolaridade da mãe'!F$17:F$86,'Base escolaridade da mãe'!$B$17:$B$86,$A7,'Base escolaridade da mãe'!$A$17:$A$86,$B$3)) -> 1 | F7: =IF($B$3="Todas",SUMIFS('Base escolaridade da mãe'!G$17:G$86,'Base escolaridade da mãe'!$B$17:$B$86,$A7),SUMIFS('Base escolaridade da mãe'!G$17:G$86,'Base escolaridade da mãe'!$B$17:$B$86,$A7,'Base escolaridade da mãe'!$A$17:$A$86,$B$3)) -> 2 | G7: =IF($B$3="Todas",SUMIFS('Base escolaridade da mãe'!H$17:H$86,'Base escolaridade da mãe'!$B$17:$B$86,$A7),SUMIFS('Base escolaridade da mãe'!H$17:H$86,'Base escolaridade da mãe'!$B$17:$B$86,$A7,'Base escolaridade da mãe'!$A$17:$A$86,$B$3)) -> 2 | H7: =SUM(B7:G7) -> 13
A8: 230360 Catarina | B8: =IF($B$3="Todas",SUMIFS('Base escolaridade da mãe'!C$17:C$86,'Base escolaridade da mãe'!$B$17:$B$86,$A8),SUMIFS('Base escolaridade da mãe'!C$17:C$86,'Base escolaridade da mãe'!$B$17:$B$86,$A8,'Base escolaridade da mãe'!$A$17:$A$86,$B$3)) -> 3 | C8: =IF($B$3="Todas",SUMIFS('Base escolaridade da mãe'!D$17:D$86,'Base escolaridade da mãe'!$B$17:$B$86,$A8),SUMIFS('Base escolaridade da mãe'!D$17:D$86,'Base escolaridade da mãe'!$B$17:$B$86,$A8,'Base escolaridade da mãe'!$A$17:$A$86,$B$3)) -> 2 | D8: =IF($B$3="Todas",SUMIFS('Base escolaridade da mãe'!E$17:E$86,'Base escolaridade da mãe'!$B$17:$B$86,$A8),SUMIFS('Base escolaridade da mãe'!E$17:E$86,'Base escolaridade da mãe'!$B$17:$B$86,$A8,'Base escolaridade da mãe'!$A$17:$A$86,$B$3)) -> 1 | E8: =IF($B$3="Todas",SUMIFS('Base escolaridade da mãe'!F$17:F$86,'Base escolaridade da mãe'!$B$17:$B$86,$A8),SUMIFS('Base escolaridade da mãe'!F$17:F$86,'Base escolaridade da mãe'!$B$17:$B$86,$A8,'Base escolaridade da mãe'!$A$17:$A$86,$B$3)) -> 2 | F8: =IF($B$3="Todas",SUMIFS('Base escolaridade da mãe'!G$17:G$86,'Base escolaridade da mãe'!$B$17:$B$86,$A8),SUMIFS('Base escolaridade da mãe'!G$17:G$86,'Base escolaridade da mãe'!$B$17:$B$86,$A8,'Base escolaridade da mãe'!$A$17:$A$86,$B$3)) -> 1 | G8: =IF($B$3="Todas",SUMIFS('Base escolaridade da mãe'!H$17:H$86,'Base escolaridade da mãe'!$B$17:$B$86,$A8),SUMIFS('Base escolaridade da mãe'!H$17:H$86,'Base escolaridade da mãe'!$B$17:$B$86,$A8,'Base escolaridade da mãe'!$A$17:$A$86,$B$3)) -> 0 | H8: =SUM(B8:G8) -> 9
A9: 230426 Deputado Irapuan Pinheiro | B9: =IF($B$3="Todas",SUMIFS('Base escolaridade da mãe'!C$17:C$86,'Base escolaridade da mãe'!$B$17:$B$86,$A9),SUMIFS('Base escolaridade da mãe'!C$17:C$86,'Base escolaridade da mãe'!$B$17:$B$86,$A9,'Base escolaridade da mãe'!$A$17:$A$86,$B$3)) -> 1 | C9: =IF($B$3="Todas",SUMIFS('Base escolaridade da mãe'!D$17:D$86,'Base escolaridade da mãe'!$B$17:$B$86,$A9),SUMIFS('Base escolaridade da mãe'!D$17:D$86,'Base escolaridade da mãe'!$B$17:$B$86,$A9,'Base escolaridade da mãe'!$A$17:$A$86,$B$3)) -> 0 | D9: =IF($B$3="Todas",SUMIFS('Base escolaridade da mãe'!E$17:E$86,'Base escolaridade da mãe'!$B$17:$B$86,$A9),SUMIFS('Base escolaridade da mãe'!E$17:E$86,'Base escolaridade da mãe'!$B$17:$B$86,$A9,'Base escolaridade da mãe'!$A$17:$A$86,$B$3)) -> 3 | E9: =IF($B$3="Todas",SUMIFS('Base escolaridade da mãe'!F$17:F$86,'Base escolaridade da mãe'!$B$17:$B$86,$A9),SUMIFS('Base escolaridade da mãe'!F$17:F$86,'Base escolaridade da mãe'!$B$17:$B$86,$A9,'Base escolaridade da mãe'!$A$17:$A$86,$B$3)) -> 1 | F9: =IF($B$3="Todas",SUMIFS('Base escolaridade da mãe'!G$17:G$86,'Base escolaridade da mãe'!$B$17:$B$86,$A9),SUMIFS('Base escolaridade da mãe'!G$17:G$86,'Base escolaridade da mãe'!$B$17:$B$86,$A9,'Base escolaridade da mãe'!$A$17:$A$86,$B$3)) -> 1 | G9: =IF($B$3="Todas",SUMIFS('Base escolaridade da mãe'!H$17:H$86,'Base escolaridade da mãe'!$B$17:$B$86,$A9),SUMIFS('Base escolaridade da mãe'!H$17:H$86,'Base escolaridade da mãe'!$B$17:$B$86,$A9,'Base escolaridade da mãe'!$A$17:$A$86,$B$3)) -> 1 | H9: =SUM(B9:G9) -> 7
A10: 230550 Iguatu | B10: =IF($B$3="Todas",SUMIFS('Base escolaridade da mãe'!C$17:C$86,'Base escolaridade da mãe'!$B$17:$B$86,$A10),SUMIFS('Base escolaridade da mãe'!C$17:C$86,'Base escolaridade da mãe'!$B$17:$B$86,$A10,'Base escolaridade da mãe'!$A$17:$A$86,$B$3)) -> 13 | C10: =IF($B$3="Todas",SUMIFS('Base escolaridade da mãe'!D$17:D$86,'Base escolaridade da mãe'!$B$17:$B$86,$A10),SUMIFS('Base escolaridade da mãe'!D$17:D$86,'Base escolaridade da mãe'!$B$17:$B$86,$A10,'Base escolaridade da mãe'!$A$17:$A$86,$B$3)) -> 15 | D10: =IF($B$3="Todas",SUMIFS('Base escolaridade da mãe'!E$17:E$86,'Base escolaridade da mãe'!$B$17:$B$86,$A10),SUMIFS('Base escolaridade da mãe'!E$17:E$86,'Base escolaridade da mãe'!$B$17:$B$86,$A10,'Base escolaridade da mãe'!$A$17:$A$86,$B$3)) -> 17 | E10: =IF($B$3="Todas",SUMIFS('Base escolaridade da mãe'!F$17:F$86,'Base escolaridade da mãe'!$B$17:$B$86,$A10),SUMIFS('Base escolaridade da mãe'!F$17:F$86,'Base escolaridade da mãe'!$B$17:$B$86,$A10,'Base escolaridade da mãe'!$A$17:$A$86,$B$3)) -> 13 | F10: =IF($B$3="Todas",SUMIFS('Base escolaridade da mãe'!G$17:G$86,'Base escolaridade da mãe'!$B$17:$B$86,$A10),SUMIFS('Base escolaridade da mãe'!G$17:G$86,'Base escolaridade da mãe'!$B$17:$B$86,$A10,'Base escolaridade da mãe'!$A$17:$A$86,$B$3)) -> 16 | G10: =IF($B$3="Todas",SUMIFS('Base escolaridade da mãe'!H$17:H$86,'Base escolaridade da mãe'!$B$17:$B$86,$A10),SUMIFS('Base escolaridade da mãe'!H$17:H$86,'Base escolaridade da mãe'!$B$17:$B$86,$A10,'Base escolaridade da mãe'!$A$17:$A$86,$B$3)) -> 12 | H10: =SUM(B10:G10) -> 86
A11: 230740 Jucás | B11: =IF($B$3="Todas",SUMIFS('Base escolaridade da mãe'!C$17:C$86,'Base escolaridade da mãe'!$B$17:$B$86,$A11),SUMIFS('Base escolaridade da mãe'!C$17:C$86,'Base escolaridade da mãe'!$B$17:$B$86,$A11,'Base escolaridade da mãe'!$A$17:$A$86,$B$3)) -> 7 | C11: =IF($B$3="Todas",SUMIFS('Base escolaridade da mãe'!D$17:D$86,'Base escolaridade da mãe'!$B$17:$B$86,$A11),SUMIFS('Base escolaridade da mãe'!D$17:D$86,'Base escolaridade da mãe'!$B$17:$B$86,$A11,'Base escolaridade da mãe'!$A$17:$A$86,$B$3)) -> 2 | D11: =IF($B$3="Todas",SUMIFS('Base escolaridade da mãe'!E$17:E$86,'Base escolaridade da mãe'!$B$17:$B$86,$A11),SUMIFS('Base escolaridade da mãe'!E$17:E$86,'Base escolaridade da mãe'!$B$17:$B$86,$A11,'Base escolaridade da mãe'!$A$17:$A$86,$B$3)) -> 6 | E11: =IF($B$3="Todas",SUMIFS('Base escolaridade da mãe'!F$17:F$86,'Base escolaridade da mãe'!$B$17:$B$86,$A11),SUMIFS('Base escolaridade da mãe'!F$17:F$86,'Base escolaridade da mãe'!$B$17:$B$86,$A11,'Base escolaridade da mãe'!$A$17:$A$86,$B$3)) -> 2 | F11: =IF($B$3="Todas",SUMIFS('Base escolaridade da mãe'!G$17:G$86,'Base escolaridade da mãe'!$B$17:$B$86,$A11),SUMIFS('Base escolaridade da mãe'!G$17:G$86,'Base escolaridade da mãe'!$B$17:$B$86,$A11,'Base escolaridade da mãe'!$A$17:$A$86,$B$3)) -> 7 | G11: =IF($B$3="Todas",SUMIFS('Base escolaridade da mãe'!H$17:H$86,'Base escolaridade da mãe'!$B$17:$B$86,$A11),SUMIFS('Base escolaridade da mãe'!H$17:H$86,'Base escolaridade da mãe'!$B$17:$B$86,$A11,'Base escolaridade da mãe'!$A$17:$A$86,$B$3)) -> 5 | H11: =SUM(B11:G11) -> 29
A12: 230850 Mombaça | B12: =IF($B$3="Todas",SUMIFS('Base escolaridade da mãe'!C$17:C$86,'Base escolaridade da mãe'!$B$17:$B$86,$A12),SUMIFS('Base escolaridade da mãe'!C$17:C$86,'Base escolaridade da mãe'!$B$17:$B$86,$A12,'Base escolaridade da mãe'!$A$17:$A$86,$B$3)) -> 1 | C12: =IF($B$3="Todas",SUMIFS('Base escolaridade da mãe'!D$17:D$86,'Base escolaridade da mãe'!$B$17:$B$86,$A12),SUMIFS('Base escolaridade da mãe'!D$17:D$86,'Base escolaridade da mãe'!$B$17:$B$86,$A12,'Base escolaridade da mãe'!$A$17:$A$86,$B$3)) -> 6 | D12: =IF($B$3="Todas",SUMIFS('Base escolaridade da mãe'!E$17:E$86,'Base escolaridade da mãe'!$B$17:$B$86,$A12),SUMIFS('Base escolaridade da mãe'!E$17:E$86,'Base escolaridade da mãe'!$B$17:$B$86,$A12,'Base escolaridade da mãe'!$A$17:$A$86,$B$3)) -> 7 | E12: =IF($B$3="Todas",SUMIFS('Base escolaridade da mãe'!F$17:F$86,'Base escolaridade da mãe'!$B$17:$B$86,$A12),SUMIFS('Base escolaridade da mãe'!F$17:F$86,'Base escolaridade da mãe'!$B$17:$B$86,$A12,'Base escolaridade da mãe'!$A$17:$A$86,$B$3)) -> 7 | F12: =IF($B$3="Todas",SUMIFS('Base escolaridade da mãe'!G$17:G$86,'Base escolaridade da mãe'!$B$17:$B$86,$A12),SUMIFS('Base escolaridade da mãe'!G$17:G$86,'Base escolaridade da mãe'!$B$17:$B$86,$A12,'Base escolaridade da mãe'!$A$17:$A$86,$B$3)) -> 5 | G12: =IF($B$3="Todas",SUMIFS('Base escolaridade da mãe'!H$17:H$86,'Base escolaridade da mãe'!$B$17:$B$86,$A12),SUMIFS('Base escolaridade da mãe'!H$17:H$86,'Base escolaridade da mãe'!$B$17:$B$86,$A12,'Base escolaridade da mãe'!$A$17:$A$86,$B$3)) -> 6 | H12: =SUM(B12:G12) -> 32
A13: 231090 Piquet Carneiro | B13: =IF($B$3="Todas",SUMIFS('Base escolaridade da mãe'!C$17:C$86,'Base escolaridade da mãe'!$B$17:$B$86,$A13),SUMIFS('Base escolaridade da mãe'!C$17:C$86,'Base escolaridade da mãe'!$B$17:$B$86,$A13,'Base escolaridade da mãe'!$A$17:$A$86,$B$3)) -> 3 | C13: =IF($B$3="Todas",SUMIFS('Base escolaridade da mãe'!D$17:D$86,'Base escolaridade da mãe'!$B$17:$B$86,$A13),SUMIFS('Base escolaridade da mãe'!D$17:D$86,'Base escolaridade da mãe'!$B$17:$B$86,$A13,'Base escolaridade da mãe'!$A$17:$A$86,$B$3)) -> 3 | D13: =IF($B$3="Todas",SUMIFS('Base escolaridade da mãe'!E$17:E$86,'Base escolaridade da mãe'!$B$17:$B$86,$A13),SUMIFS('Base escolaridade da mãe'!E$17:E$86,'Base escolaridade da mãe'!$B$17:$B$86,$A13,'Base escolaridade da mãe'!$A$17:$A$86,$B$3)) -> 0 | E13: =IF($B$3="Todas",SUMIFS('Base escolaridade da mãe'!F$17:F$86,'Base escolaridade da mãe'!$B$17:$B$86,$A13),SUMIFS('Base escolaridade da mãe'!F$17:F$86,'Base escolaridade da mãe'!$B$17:$B$86,$A13,'Base escolaridade da mãe'!$A$17:$A$86,$B$3)) -> 5 | F13: =IF($B$3="Todas",SUMIFS('Base escolaridade da mãe'!G$17:G$86,'Base escolaridade da mãe'!$B$17:$B$86,$A13),SUMIFS('Base escolaridade da mãe'!G$17:G$86,'Base escolaridade da mãe'!$B$17:$B$86,$A13,'Base escolaridade da mãe'!$A$17:$A$86,$B$3)) -> 2 | G13: =IF($B$3="Todas",SUMIFS('Base escolaridade da mãe'!H$17:H$86,'Base escolaridade da mãe'!$B$17:$B$86,$A13),SUMIFS('Base escolaridade da mãe'!H$17:H$86,'Base escolaridade da mãe'!$B$17:$B$86,$A13,'Base escolaridade da mãe'!$A$17:$A$86,$B$3)) -> 1 | H13: =SUM(B13:G13) -> 14
A14: 231135 Quixelô | B14: =IF($B$3="Todas",SUMIFS('Base escolaridade da mãe'!C$17:C$86,'Base escolaridade da mãe'!$B$17:$B$86,$A14),SUMIFS('Base escolaridade da mãe'!C$17:C$86,'Base escolaridade da mãe'!$B$17:$B$86,$A14,'Base escolaridade da mãe'!$A$17:$A$86,$B$3)) -> 7 | C14: =IF($B$3="Todas",SUMIFS('Base escolaridade da mãe'!D$17:D$86,'Base escolaridade da mãe'!$B$17:$B$86,$A14),SUMIFS('Base escolaridade da mãe'!D$17:D$86,'Base escolaridade da mãe'!$B$17:$B$86,$A14,'Base escolaridade da mãe'!$A$17:$A$86,$B$3)) -> 6 | D14: =IF($B$3="Todas",SUMIFS('Base escolaridade da mãe'!E$17:E$86,'Base escolaridade da mãe'!$B$17:$B$86,$A14),SUMIFS('Base escolaridade da mãe'!E$17:E$86,'Base escolaridade da mãe'!$B$17:$B$86,$A14,'Base escolaridade da mãe'!$A$17:$A$86,$B$3)) -> 3 | E14: =IF($B$3="Todas",SUMIFS('Base escolaridade da mãe'!F$17:F$86,'Base escolaridade da mãe'!$B$17:$B$86,$A14),SUMIFS('Base escolaridade da mãe'!F$17:F$86,'Base escolaridade da mãe'!$B$17:$B$86,$A14,'Base escolaridade da mãe'!$A$17:$A$86,$B$3)) -> 3 | F14: =IF($B$3="Todas",SUMIFS('Base escolaridade da mãe'!G$17:G$86,'Base escolaridade da mãe'!$B$17:$B$86,$A14),SUMIFS('Base escolaridade da mãe'!G$17:G$86,'Base escolaridade da mãe'!$B$17:$B$86,$A14,'Base escolaridade da mãe'!$A$17:$A$86,$B$3)) -> 4 | G14: =IF($B$3="Todas",SUMIFS('Base escolaridade da mãe'!H$17:H$86,'Base escolaridade da mãe'!$B$17:$B$86,$A14),SUMIFS('Base escolaridade da mãe'!H$17:H$86,'Base escolaridade da mãe'!$B$17:$B$86,$A14,'Base escolaridade da mãe'!$A$17:$A$86,$B$3)) -> 1 | H14: =SUM(B14:G14) -> 24
A15: 231190 Saboeiro | B15: =IF($B$3="Todas",SUMIFS('Base escolaridade da mãe'!C$17:C$86,'Base escolaridade da mãe'!$B$17:$B$86,$A15),SUMIFS('Base escolaridade da mãe'!C$17:C$86,'Base escolaridade da mãe'!$B$17:$B$86,$A15,'Base escolaridade da mãe'!$A$17:$A$86,$B$3)) -> 0 | C15: =IF($B$3="Todas",SUMIFS('Base escolaridade da mãe'!D$17:D$86,'Base escolaridade da mãe'!$B$17:$B$86,$A15),SUMIFS('Base escolaridade da mãe'!D$17:D$86,'Base escolaridade da mãe'!$B$17:$B$86,$A15,'Base escolaridade da mãe'!$A$17:$A$86,$B$3)) -> 1 | D15: =IF($B$3="Todas",SUMIFS('Base escolaridade da mãe'!E$17:E$86,'Base escolaridade da mãe'!$B$17:$B$86,$A15),SUMIFS('Base escolaridade da mãe'!E$17:E$86,'Base escolaridade da mãe'!$B$17:$B$86,$A15,'Base escolaridade da mãe'!$A$17:$A$86,$B$3)) -> 1 | E15: =IF($B$3="Todas",SUMIFS('Base escolaridade da mãe'!F$17:F$86,'Base escolaridade da mãe'!$B$17:$B$86,$A15),SUMIFS('Base escolaridade da mãe'!F$17:F$86,'Base escolaridade da mãe'!$B$17:$B$86,$A15,'Base escolaridade da mãe'!$A$17:$A$86,$B$3)) -> 2 | F15: =IF($B$3="Todas",SUMIFS('Base escolaridade da mãe'!G$17:G$86,'Base escolaridade da mãe'!$B$17:$B$86,$A15),SUMIFS('Base escolaridade da mãe'!G$17:G$86,'Base escolaridade da mãe'!$B$17:$B$86,$A15,'Base escolaridade da mãe'!$A$17:$A$86,$B$3)) -> 1 | G15: =IF($B$3="Todas",SUMIFS('Base escolaridade da mãe'!H$17:H$86,'Base escolaridade da mãe'!$B$17:$B$86,$A15),SUMIFS('Base escolaridade da mãe'!H$17:H$86,'Base escolaridade da mãe'!$B$17:$B$86,$A15,'Base escolaridade da mãe'!$A$17:$A$86,$B$3)) -> 1 | H15: =SUM(B15:G15) -> 6
A16: Total | B16: =SUM(B6:B15) -> 42 | C16: =SUM(C6:C15) -> 50 | D16: =SUM(D6:D15) -> 49 | E16: =SUM(E6:E15) -> 44 | F16: =SUM(F6:F15) -> 41 | G16: =SUM(G6:G15) -> 38 | H16: =SUM(H6:H15) -> 264
A18: Fonte: SIM/DATASUS – tabulações por escolaridade da mãe (FREQescolaridadeMAE 2019 a 2024). Dados de origem na aba 'Base escolaridade da mãe'.
A19: Municípios ou categorias ausentes na tabulação de um ano foram considerados com 0 óbitos.

Sheet Raça-cor 2019-2024
A1: ="Óbitos em menores de 5 anos por município de residência e ano – raça/cor: "&B3&" – 18ª Região de Saúde (Iguatu), 2019 a 2024" -> Óbitos em menores de 5 anos por município de residência e ano – raça/cor: Todas – 18ª Região de Saúde (Iguatu), 2019 a 2024
A3: Raça/cor (filtro): | B3: Todas | F3: ← clique na célula amarela e escolha a categoria
A5: Município de residência | B5: 2019 | C5: 2020 | D5: 2021 | E5: 2022 | F5: 2023 | G5: 2024 | H5: Total 2019-2024
A6: 230030 Acopiara | B6: =IF($B$3="Todas",SUMIFS('Base raça-cor'!C$15:C$64,'Base raça-cor'!$B$15:$B$64,$A6),SUMIFS('Base raça-cor'!C$15:C$64,'Base raça-cor'!$B$15:$B$64,$A6,'Base raça-cor'!$A$15:$A$64,$B$3)) -> 5 | C6: =IF($B$3="Todas",SUMIFS('Base raça-cor'!D$15:D$64,'Base raça-cor'!$B$15:$B$64,$A6),SUMIFS('Base raça-cor'!D$15:D$64,'Base raça-cor'!$B$15:$B$64,$A6,'Base raça-cor'!$A$15:$A$64,$B$3)) -> 12 | D6: =IF($B$3="Todas",SUMIFS('Base raça-cor'!E$15:E$64,'Base raça-cor'!$B$15:$B$64,$A6),SUMIFS('Base raça-cor'!E$15:E$64,'Base raça-cor'!$B$15:$B$64,$A6,'Base raça-cor'!$A$15:$A$64,$B$3)) -> 8 | E6: =IF($B$3="Todas",SUMIFS('Base raça-cor'!F$15:F$64,'Base raça-cor'!$B$15:$B$64,$A6),SUMIFS('Base raça-cor'!F$15:F$64,'Base raça-cor'!$B$15:$B$64,$A6,'Base raça-cor'!$A$15:$A$64,$B$3)) -> 8 | F6: =IF($B$3="Todas",SUMIFS('Base raça-cor'!G$15:G$64,'Base raça-cor'!$B$15:$B$64,$A6),SUMIFS('Base raça-cor'!G$15:G$64,'Base raça-cor'!$B$15:$B$64,$A6,'Base raça-cor'!$A$15:$A$64,$B$3)) -> 2 | G6: =IF($B$3="Todas",SUMIFS('Base raça-cor'!H$15:H$64,'Base raça-cor'!$B$15:$B$64,$A6),SUMIFS('Base raça-cor'!H$15:H$64,'Base raça-cor'!$B$15:$B$64,$A6,'Base raça-cor'!$A$15:$A$64,$B$3)) -> 9 | H6: =SUM(B6:G6) -> 44
A7: 230330 Cariús | B7: =IF($B$3="Todas",SUMIFS('Base raça-cor'!C$15:C$64,'Base raça-cor'!$B$15:$B$64,$A7),SUMIFS('Base raça-cor'!C$15:C$64,'Base raça-cor'!$B$15:$B$64,$A7,'Base raça-cor'!$A$15:$A$64,$B$3)) -> 2 | C7: =IF($B$3="Todas",SUMIFS('Base raça-cor'!D$15:D$64,'Base raça-cor'!$B$15:$B$64,$A7),SUMIFS('Base raça-cor'!D$15:D$64,'Base raça-cor'!$B$15:$B$64,$A7,'Base raça-cor'!$A$15:$A$64,$B$3)) -> 3 | D7: =IF($B$3="Todas",SUMIFS('Base raça-cor'!E$15:E$64,'Base raça-cor'!$B$15:$B$64,$A7),SUMIFS('Base raça-cor'!E$15:E$64,'Base raça-cor'!$B$15:$B$64,$A7,'Base raça-cor'!$A$15:$A$64,$B$3)) -> 3 | E7: =IF($B$3="Todas",SUMIFS('Base raça-cor'!F$15:F$64,'Base raça-cor'!$B$15:$B$64,$A7),SUMIFS('Base raça-cor'!F$15:F$64,'Base raça-cor'!$B$15:$B$64,$A7,'Base raça-cor'!$A$15:$A$64,$B$3)) -> 1 | F7: =IF($B$3="Todas",SUMIFS('Base raça-cor'!G$15:G$64,'Base raça-cor'!$B$15:$B$64,$A7),SUMIFS('Base raça-cor'!G$15:G$64,'Base raça-cor'!$B$15:$B$64,$A7,'Base raça-cor'!$A$15:$A$64,$B$3)) -> 2 | G7: =IF($B$3="Todas",SUMIFS('Base raça-cor'!H$15:H$64,'Base raça-cor'!$B$15:$B$64,$A7),SUMIFS('Base raça-cor'!H$15:H$64,'Base raça-cor'!$B$15:$B$64,$A7,'Base raça-cor'!$A$15:$A$64,$B$3)) -> 2 | H7: =SUM(B7:G7) -> 13
A8: 230360 Catarina | B8: =IF($B$3="Todas",SUMIFS('Base raça-cor'!C$15:C$64,'Base raça-cor'!$B$15:$B$64,$A8),SUMIFS('Base raça-cor'!C$15:C$64,'Base raça-cor'!$B$15:$B$64,$A8,'Base raça-cor'!$A$15:$A$64,$B$3)) -> 3 | C8: =IF($B$3="Todas",SUMIFS('Base raça-cor'!D$15:D$64,'Base raça-cor'!$B$15:$B$64,$A8),SUMIFS('Base raça-cor'!D$15:D$64,'Base raça-cor'!$B$15:$B$64,$A8,'Base raça-cor'!$A$15:$A$64,$B$3)) -> 2 | D8: =IF($B$3="Todas",SUMIFS('Base raça-cor'!E$15:E$64,'Base raça-cor'!$B$15:$B$64,$A8),SUMIFS('Base raça-cor'!E$15:E$64,'Base raça-cor'!$B$15:$B$64,$A8,'Base raça-cor'!$A$15:$A$64,$B$3)) -> 1 | E8: =IF($B$3="Todas",SUMIFS('Base raça-cor'!F$15:F$64,'Base raça-cor'!$B$15:$B$64,$A8),SUMIFS('Base raça-cor'!F$15:F$64,'Base raça-cor'!$B$15:$B$64,$A8,'Base raça-cor'!$A$15:$A$64,$B$3)) -> 2 | F8: =IF($B$3="Todas",SUMIFS('Base raça-cor'!G$15:G$64,'Base raça-cor'!$B$15:$B$64,$A8),SUMIFS('Base raça-cor'!G$15:G$64,'Base raça-cor'!$B$15:$B$64,$A8,'Base raça-cor'!$A$15:$A$64,$B$3)) -> 1 | G8: =IF($B$3="Todas",SUMIFS('Base raça-cor'!H$15:H$64,'Base raça-cor'!$B$15:$B$64,$A8),SUMIFS('Base raça-cor'!H$15:H$64,'Base raça-cor'!$B$15:$B$64,$A8,'Base raça-cor'!$A$15:$A$64,$B$3)) -> 0 | H8: =SUM(B8:G8) -> 9
A9: 230426 Deputado Irapuan Pinheiro | B9: =IF($B$3="Todas",SUMIFS('Base raça-cor'!C$15:C$64,'Base raça-cor'!$B$15:$B$64,$A9),SUMIFS('Base raça-cor'!C$15:C$64,'Base raça-cor'!$B$15:$B$64,$A9,'Base raça-cor'!$A$15:$A$64,$B$3)) -> 1 | C9: =IF($B$3="Todas",SUMIFS('Base raça-cor'!D$15:D$64,'Base raça-cor'!$B$15:$B$64,$A9),SUMIFS('Base raça-cor'!D$15:D$64,'Base raça-cor'!$B$15:$B$64,$A9,'Base raça-cor'!$A$15:$A$64,$B$3)) -> 0 | D9: =IF($B$3="Todas",SUMIFS('Base raça-cor'!E$15:E$64,'Base raça-cor'!$B$15:$B$64,$A9),SUMIFS('Base raça-cor'!E$15:E$64,'Base raça-cor'!$B$15:$B$64,$A9,'Base raça-cor'!$A$15:$A$64,$B$3)) -> 3 | E9: =IF($B$3="Todas",SUMIFS('Base raça-cor'!F$15:F$64,'Base raça-cor'!$B$15:$B$64,$A9),SUMIFS('Base raça-cor'!F$15:F$64,'Base raça-cor'!$B$15:$B$64,$A9,'Base raça-cor'!$A$15:$A$64,$B$3)) -> 1 | F9: =IF($B$3="Todas",SUMIFS('Base raça-cor'!G$15:G$64,'Base raça-cor'!$B$15:$B$64,$A9),SUMIFS('Base raça-cor'!G$15:G$64,'Base raça-cor'!$B$15:$B$64,$A9,'Base raça-cor'!$A$15:$A$64,$B$3)) -> 1 | G9: =IF($B$3="Todas",SUMIFS('Base raça-cor'!H$15:H$64,'Base raça-cor'!$B$15:$B$64,$A9),SUMIFS('Base raça-cor'!H$15:H$64,'Base raça-cor'!$B$15:$B$64,$A9,'Base raça-cor'!$A$15:$A$64,$B$3)) -> 1 | H9: =SUM(B9:G9) -> 7
A10: 230550 Iguatu | B10: =IF($B$3="Todas",SUMIFS('Base raça-cor'!C$15:C$64,'Base raça-cor'!$B$15:$B$64,$A10),SUMIFS('Base raça-cor'!C$15:C$64,'Base raça-cor'!$B$15:$B$64,$A10,'Base raça-cor'!$A$15:$A$64,$B$3)) -> 13 | C10: =IF($B$3="Todas",SUMIFS('Base raça-cor'!D$15:D$64,'Base raça-cor'!$B$15:$B$64,$A10),SUMIFS('Base raça-cor'!D$15:D$64,'Base raça-cor'!$B$15:$B$64,$A10,'Base raça-cor'!$A$15:$A$64,$B$3)) -> 15 | D10: =IF($B$3="Todas",SUMIFS('Base raça-cor'!E$15:E$64,'Base raça-cor'!$B$15:$B$64,$A10),SUMIFS('Base raça-cor'!E$15:E$64,'Base raça-cor'!$B$15:$B$64,$A10,'Base raça-cor'!$A$15:$A$64,$B$3)) -> 17 | E10: =IF($B$3="Todas",SUMIFS('Base raça-cor'!F$15:F$64,'Base raça-cor'!$B$15:$B$64,$A10),SUMIFS('Base raça-cor'!F$15:F$64,'Base raça-cor'!$B$15:$B$64,$A10,'Base raça-cor'!$A$15:$A$64,$B$3)) -> 13 | F10: =IF($B$3="Todas",SUMIFS('Base raça-cor'!G$15:G$64,'Base raça-cor'!$B$15:$B$64,$A10),SUMIFS('Base raça-cor'!G$15:G$64,'Base raça-cor'!$B$15:$B$64,$A10,'Base raça-cor'!$A$15:$A$64,$B$3)) -> 16 | G10: =IF($B$3="Todas",SUMIFS('Base raça-cor'!H$15:H$64,'Base raça-cor'!$B$15:$B$64,$A10),SUMIFS('Base raça-cor'!H$15:H$64,'Base raça-cor'!$B$15:$B$64,$A10,'Base raça-cor'!$A$15:$A$64,$B$3)) -> 12 | H10: =SUM(B10:G10) -> 86
A11: 230740 Jucás | B11: =IF($B$3="Todas",SUMIFS('Base raça-cor'!C$15:C$64,'Base raça-cor'!$B$15:$B$64,$A11),SUMIFS('Base raça-cor'!C$15:C$64,'Base raça-cor'!$B$15:$B$64,$A11,'Base raça-cor'!$A$15:$A$64,$B$3)) -> 7 | C11: =IF($B$3="Todas",SUMIFS('Base raça-cor'!D$15:D$64,'Base raça-cor'!$B$15:$B$64,$A11),SUMIFS('Base raça-cor'!D$15:D$64,'Base raça-cor'!$B$15:$B$64,$A11,'Base raça-cor'!$A$15:$A$64,$B$3)) -> 2 | D11: =IF($B$3="Todas",SUMIFS('Base raça-cor'!E$15:E$64,'Base raça-cor'!$B$15:$B$64,$A11),SUMIFS('Base raça-cor'!E$15:E$64,'Base raça-cor'!$B$15:$B$64,$A11,'Base raça-cor'!$A$15:$A$64,$B$3)) -> 6 | E11: =IF($B$3="Todas",SUMIFS('Base raça-cor'!F$15:F$64,'Base raça-cor'!$B$15:$B$64,$A11),SUMIFS('Base raça-cor'!F$15:F$64,'Base raça-cor'!$B$15:$B$64,$A11,'Base raça-cor'!$A$15:$A$64,$B$3)) -> 2 | F11: =IF($B$3="Todas",SUMIFS('Base raça-cor'!G$15:G$64,'Base raça-cor'!$B$15:$B$64,$A11),SUMIFS('Base raça-cor'!G$15:G$64,'Base raça-cor'!$B$15:$B$64,$A11,'Base raça-cor'!$A$15:$A$64,$B$3)) -> 7 | G11: =IF($B$3="Todas",SUMIFS('Base raça-cor'!H$15:H$64,'Base raça-cor'!$B$15:$B$64,$A11),SUMIFS('Base raça-cor'!H$15:H$64,'Base raça-cor'!$B$15:$B$64,$A11,'Base raça-cor'!$A$15:$A$64,$B$3)) -> 5 | H11: =SUM(B11:G11) -> 29
A12: 230850 Mombaça | B12: =IF($B$3="Todas",SUMIFS('Base raça-cor'!C$15:C$64,'Base raça-cor'!$B$15:$B$64,$A12),SUMIFS('Base raça-cor'!C$15:C$64,'Base raça-cor'!$B$15:$B$64,$A12,'Base raça-cor'!$A$15:$A$64,$B$3)) -> 1 | C12: =IF($B$3="Todas",SUMIFS('Base raça-cor'!D$15:D$64,'Base raça-cor'!$B$15:$B$64,$A12),SUMIFS('Base raça-cor'!D$15:D$64,'Base raça-cor'!$B$15:$B$64,$A12,'Base raça-cor'!$A$15:$A$64,$B$3)) -> 6 | D12: =IF($B$3="Todas",SUMIFS('Base raça-cor'!E$15:E$64,'Base raça-cor'!$B$15:$B$64,$A12),SUMIFS('Base raça-cor'!E$15:E$64,'Base raça-cor'!$B$15:$B$64,$A12,'Base raça-cor'!$A$15:$A$64,$B$3)) -> 7 | E12: =IF($B$3="Todas",SUMIFS('Base raça-cor'!F$15:F$64,'Base raça-cor'!$B$15:$B$64,$A12),SUMIFS('Base raça-cor'!F$15:F$64,'Base raça-cor'!$B$15:$B$64,$A12,'Base raça-cor'!$A$15:$A$64,$B$3)) -> 7 | F12: =IF($B$3="Todas",SUMIFS('Base raça-cor'!G$15:G$64,'Base raça-cor'!$B$15:$B$64,$A12),SUMIFS('Base raça-cor'!G$15:G$64,'Base raça-cor'!$B$15:$B$64,$A12,'Base raça-cor'!$A$15:$A$64,$B$3)) -> 5 | G12: =IF($B$3="Todas",SUMIFS('Base raça-cor'!H$15:H$64,'Base raça-cor'!$B$15:$B$64,$A12),SUMIFS('Base raça-cor'!H$15:H$64,'Base raça-cor'!$B$15:$B$64,$A12,'Base raça-cor'!$A$15:$A$64,$B$3)) -> 6 | H12: =SUM(B12:G12) -> 32
A13: 231090 Piquet Carneiro | B13: =IF($B$3="Todas",SUMIFS('Base raça-cor'!C$15:C$64,'Base raça-cor'!$B$15:$B$64,$A13),SUMIFS('Base raça-cor'!C$15:C$64,'Base raça-cor'!$B$15:$B$64,$A13,'Base raça-cor'!$A$15:$A$64,$B$3)) -> 3 | C13: =IF($B$3="Todas",SUMIFS('Base raça-cor'!D$15:D$64,'Base raça-cor'!$B$15:$B$64,$A13),SUMIFS('Base raça-cor'!D$15:D$64,'Base raça-cor'!$B$15:$B$64,$A13,'Base raça-cor'!$A$15:$A$64,$B$3)) -> 3 | D13: =IF($B$3="Todas",SUMIFS('Base raça-cor'!E$15:E$64,'Base raça-cor'!$B$15:$B$64,$A13),SUMIFS('Base raça-cor'!E$15:E$64,'Base raça-cor'!$B$15:$B$64,$A13,'Base raça-cor'!$A$15:$A$64,$B$3)) -> 0 | E13: =IF($B$3="Todas",SUMIFS('Base raça-cor'!F$15:F$64,'Base raça-cor'!$B$15:$B$64,$A13),SUMIFS('Base raça-cor'!F$15:F$64,'Base raça-cor'!$B$15:$B$64,$A13,'Base raça-cor'!$A$15:$A$64,$B$3)) -> 5 | F13: =IF($B$3="Todas",SUMIFS('Base raça-cor'!G$15:G$64,'Base raça-cor'!$B$15:$B$64,$A13),SUMIFS('Base raça-cor'!G$15:G$64,'Base raça-cor'!$B$15:$B$64,$A13,'Base raça-cor'!$A$15:$A$64,$B$3)) -> 2 | G13: =IF($B$3="Todas",SUMIFS('Base raça-cor'!H$15:H$64,'Base raça-cor'!$B$15:$B$64,$A13),SUMIFS('Base raça-cor'!H$15:H$64,'Base raça-cor'!$B$15:$B$64,$A13,'Base raça-cor'!$A$15:$A$64,$B$3)) -> 1 | H13: =SUM(B13:G13) -> 14
A14: 231135 Quixelô | B14: =IF($B$3="Todas",SUMIFS('Base raça-cor'!C$15:C$64,'Base raça-cor'!$B$15:$B$64,$A14),SUMIFS('Base raça-cor'!C$15:C$64,'Base raça-cor'!$B$15:$B$64,$A14,'Base raça-cor'!$A$15:$A$64,$B$3)) -> 7 | C14: =IF($B$3="Todas",SUMIFS('Base raça-cor'!D$15:D$64,'Base raça-cor'!$B$15:$B$64,$A14),SUMIFS('Base raça-cor'!D$15:D$64,'Base raça-cor'!$B$15:$B$64,$A14,'Base raça-cor'!$A$15:$A$64,$B$3)) -> 6 | D14: =IF($B$3="Todas",SUMIFS('Base raça-cor'!E$15:E$64,'Base raça-cor'!$B$15:$B$64,$A14),SUMIFS('Base raça-cor'!E$15:E$64,'Base raça-cor'!$B$15:$B$64,$A14,'Base raça-cor'!$A$15:$A$64,$B$3)) -> 3 | E14: =IF($B$3="Todas",SUMIFS('Base raça-cor'!F$15:F$64,'Base raça-cor'!$B$15:$B$64,$A14),SUMIFS('Base raça-cor'!F$15:F$64,'Base raça-cor'!$B$15:$B$64,$A14,'Base raça-cor'!$A$15:$A$64,$B$3)) -> 3 | F14: =IF($B$3="Todas",SUMIFS('Base raça-cor'!G$15:G$64,'Base raça-cor'!$B$15:$B$64,$A14),SUMIFS('Base raça-cor'!G$15:G$64,'Base raça-cor'!$B$15:$B$64,$A14,'Base raça-cor'!$A$15:$A$64,$B$3)) -> 4 | G14: =IF($B$3="Todas",SUMIFS('Base raça-cor'!H$15:H$64,'Base raça-cor'!$B$15:$B$64,$A14),SUMIFS('Base raça-cor'!H$15:H$64,'Base raça-cor'!$B$15:$B$64,$A14,'Base raça-cor'!$A$15:$A$64,$B$3)) -> 1 | H14: =SUM(B14:G14) -> 24
A15: 231190 Saboeiro | B15: =IF($B$3="Todas",SUMIFS('Base raça-cor'!C$15:C$64,'Base raça-cor'!$B$15:$B$64,$A15),SUMIFS('Base raça-cor'!C$15:C$64,'Base raça-cor'!$B$15:$B$64,$A15,'Base raça-cor'!$A$15:$A$64,$B$3)) -> 0 | C15: =IF($B$3="Todas",SUMIFS('Base raça-cor'!D$15:D$64,'Base raça-cor'!$B$15:$B$64,$A15),SUMIFS('Base raça-cor'!D$15:D$64,'Base raça-cor'!$B$15:$B$64,$A15,'Base raça-cor'!$A$15:$A$64,$B$3)) -> 1 | D15: =IF($B$3="Todas",SUMIFS('Base raça-cor'!E$15:E$64,'Base raça-cor'!$B$15:$B$64,$A15),SUMIFS('Base raça-cor'!E$15:E$64,'Base raça-cor'!$B$15:$B$64,$A15,'Base raça-cor'!$A$15:$A$64,$B$3)) -> 1 | E15: =IF($B$3="Todas",SUMIFS('Base raça-cor'!F$15:F$64,'Base raça-cor'!$B$15:$B$64,$A15),SUMIFS('Base raça-cor'!F$15:F$64,'Base raça-cor'!$B$15:$B$64,$A15,'Base raça-cor'!$A$15:$A$64,$B$3)) -> 2 | F15: =IF($B$3="Todas",SUMIFS('Base raça-cor'!G$15:G$64,'Base raça-cor'!$B$15:$B$64,$A15),SUMIFS('Base raça-cor'!G$15:G$64,'Base raça-cor'!$B$15:$B$64,$A15,'Base raça-cor'!$A$15:$A$64,$B$3)) -> 1 | G15: =IF($B$3="Todas",SUMIFS('Base raça-cor'!H$15:H$64,'Base raça-cor'!$B$15:$B$64,$A15),SUMIFS('Base raça-cor'!H$15:H$64,'Base raça-cor'!$B$15:$B$64,$A15,'Base raça-cor'!$A$15:$A$64,$B$3)) -> 1 | H15: =SUM(B15:G15) -> 6
A16: Total | B16: =SUM(B6:B15) -> 42 | C16: =SUM(C6:C15) -> 50 | D16: =SUM(D6:D15) -> 49 | E16: =SUM(E6:E15) -> 44 | F16: =SUM(F6:F15) -> 41 | G16: =SUM(G6:G15) -> 38 | H16: =SUM(H6:H15) -> 264
A18: Fonte: SIM/DATASUS – tabulações por raça/cor (FREQra_acor 2019 a 2024). Nenhum óbito de raça/cor amarela no período. Dados de origem na aba 'Base raça-cor'.
A19: Municípios ou categorias ausentes na tabulação de um ano foram considerados com 0 óbitos.

Sheet Comparativo 2019-2024
A1: Óbitos em menores de 5 anos evitáveis por município – 18ª Região de Saúde, 2019 a 2024
A3: Município de residência | B3: Evitáveis 2019 | C3: Total 2019 | D3: % Evitáveis 2019 | E3: Evitáveis 2020 | F3: Total 2020 | G3: % Evitáveis 2020 | H3: Evitáveis 2021 | I3: Total 2021 | J3: % Evitáveis 2021 | K3: Evitáveis 2022 | L3: Total 2022 | M3: % Evitáveis 2022 | N3: Evitáveis 2023 | O3: Total 2023 | P3: % Evitáveis 2023 | Q3: Evitáveis 2024 | R3: Total 2024 | S3: % Evitáveis 2024 | T3: Evitáveis 2019-2024 | U3: Total 2019-2024 | V3: % Evitáveis 2019-2024
A4: ='Evitabilidade 2019'!A4 -> 230030 Acopiara | B4: ='Evitabilidade 2019'!B4 -> 3 | C4: ='Evitabilidade 2019'!F4 -> 5 | D4: ='Evitabilidade 2019'!G4 -> 0.6 | E4: ='Evitabilidade 2020'!B4 -> 8 | F4: ='Evitabilidade 2020'!F4 -> 12 | G4: ='Evitabilidade 2020'!G4 -> 0.66666667 | H4: ='Evitabilidade 2021'!B4 -> 6 | I4: ='Evitabilidade 2021'!F4 -> 8 | J4: ='Evitabilidade 2021'!G4 -> 0.75 | K4: ='Evitabilidade 2022'!B4 -> 7 | L4: ='Evitabilidade 2022'!F4 -> 8 | M4: ='Evitabilidade 2022'!G4 -> 0.875 | N4: ='Evitabilidade 2023'!B4 -> 1 | O4: ='Evitabilidade 2023'!F4 -> 2 | P4: ='Evitabilidade 2023'!G4 -> 0.5 | Q4: ='Evitabilidade 2024'!B4 -> 7 | R4: ='Evitabilidade 2024'!F4 -> 9 | S4: ='Evitabilidade 2024'!G4 -> 0.77777778 | T4: =B4+E4+H4+K4+N4+Q4 -> 32 | U4: =C4+F4+I4+L4+O4+R4 -> 44 | V4: =IF(U4=0,"–",T4/U4) -> 0.72727273
A5: ='Evitabilidade 2019'!A5 -> 230330 Cariús | B5: ='Evitabilidade 2019'!B5 -> 1 | C5: ='Evitabilidade 2019'!F5 -> 2 | D5: ='Evitabilidade 2019'!G5 -> 0.5 | E5: ='Evitabilidade 2020'!B5 -> 2 | F5: ='Evitabilidade 2020'!F5 -> 3 | G5: ='Evitabilidade 2020'!G5 -> 0.66666667 | H5: ='Evitabilidade 2021'!B5 -> 3 | I5: ='Evitabilidade 2021'!F5 -> 3 | J5: ='Evitabilidade 2021'!G5 -> 1 | K5: ='Evitabilidade 2022'!B5 -> 1 | L5: ='Evitabilidade 2022'!F5 -> 1 | M5: ='Evitabilidade 2022'!G5 -> 1 | N5: ='Evitabilidade 2023'!B5 -> 2 | O5: ='Evitabilidade 2023'!F5 -> 2 | P5: ='Evitabilidade 2023'!G5 -> 1 | Q5: ='Evitabilidade 2024'!B5 -> 1 | R5: ='Evitabilidade 2024'!F5 -> 2 | S5: ='Evitabilidade 2024'!G5 -> 0.5 | T5: =B5+E5+H5+K5+N5+Q5 -> 10 | U5: =C5+F5+I5+L5+O5+R5 -> 13 | V5: =IF(U5=0,"–",T5/U5) -> 0.76923077
A6: ='Evitabilidade 2019'!A6 -> 230360 Catarina | B6: ='Evitabilidade 2019'!B6 -> 3 | C6: ='Evitabilidade 2019'!F6 -> 3 | D6: ='Evitabilidade 2019'!G6 -> 1 | E6: ='Evitabilidade 2020'!B6 -> 1 | F6: ='Evitabilidade 2020'!F6 -> 2 | G6: ='Evitabilidade 2020'!G6 -> 0.5 | H6: ='Evitabilidade 2021'!B6 -> 1 | I6: ='Evitabilidade 2021'!F6 -> 1 | J6: ='Evitabilidade 2021'!G6 -> 1 | K6: ='Evitabilidade 2022'!B6 -> 2 | L6: ='Evitabilidade 2022'!F6 -> 2 | M6: ='Evitabilidade 2022'!G6 -> 1 | N6: ='Evitabilidade 2023'!B6 -> 1 | O6: ='Evitabilidade 2023'!F6 -> 1 | P6: ='Evitabilidade 2023'!G6 -> 1 | Q6: ='Evitabilidade 2024'!B6 -> 0 | R6: ='Evitabilidade 2024'!F6 -> 0 | S6: ='Evitabilidade 2024'!G6 -> – | T6: =B6+E6+H6+K6+N6+Q6 -> 8 | U6: =C6+F6+I6+L6+O6+R6 -> 9 | V6: =IF(U6=0,"–",T6/U6) -> 0.88888889
A7: ='Evitabilidade 2019'!A7 -> 230426 Deputado Irapuan Pinheiro | B7: ='Evitabilidade 2019'!B7 -> 1 | C7: ='Evitabilidade 2019'!F7 -> 1 | D7: ='Evitabilidade 2019'!G7 -> 1 | E7: ='Evitabilidade 2020'!B7 -> 0 | F7: ='Evitabilidade 2020'!F7 -> 0 | G7: ='Evitabilidade 2020'!G7 -> – | H7: ='Evitabilidade 2021'!B7 -> 2 | I7: ='Evitabilidade 2021'!F7 -> 3 | J7: ='Evitabilidade 2021'!G7 -> 0.66666667 | K7: ='Evitabilidade 2022'!B7 -> 1 | L7: ='Evitabilidade 2022'!F7 -> 1 | M7: ='Evitabilidade 2022'!G7 -> 1 | N7: ='Evitabilidade 2023'!B7 -> 1 | O7: ='Evitabilidade 2023'!F7 -> 1 | P7: ='Evitabilidade 2023'!G7 -> 1 | Q7: ='Evitabilidade 2024'!B7 -> 0 | R7: ='Evitabilidade 2024'!F7 -> 1 | S7: ='Evitabilidade 2024'!G7 -> 0 | T7: =B7+E7+H7+K7+N7+Q7 -> 5 | U7: =C7+F7+I7+L7+O7+R7 -> 7 | V7: =IF(U7=0,"–",T7/U7) -> 0.71428571
A8: ='Evitabilidade 2019'!A8 -> 230550 Iguatu | B8: ='Evitabilidade 2019'!B8 -> 12 | C8: ='Evitabilidade 2019'!F8 -> 13 | D8: ='Evitabilidade 2019'!G8 -> 0.92307692 | E8: ='Evitabilidade 2020'!B8 -> 13 | F8: ='Evitabilidade 2020'!F8 -> 15 | G8: ='Evitabilidade 2020'!G8 -> 0.86666667 | H8: ='Evitabilidade 2021'!B8 -> 14 | I8: ='Evitabilidade 2021'!F8 -> 17 | J8: ='Evitabilidade 2021'!G8 -> 0.82352941 | K8: ='Evitabilidade 2022'!B8 -> 11 | L8: ='Evitabilidade 2022'!F8 -> 13 | M8: ='Evitabilidade 2022'!G8 -> 0.84615385 | N8: ='Evitabilidade 2023'!B8 -> 15 | O8: ='Evitabilidade 2023'!F8 -> 16 | P8: ='Evitabilidade 2023'!G8 -> 0.9375 | Q8: ='Evitabilidade 2024'!B8 -> 7 | R8: ='Evitabilidade 2024'!F8 -> 12 | S8: ='Evitabilidade 2024'!G8 -> 0.58333333 | T8: =B8+E8+H8+K8+N8+Q8 -> 72 | U8: =C8+F8+I8+L8+O8+R8 -> 86 | V8: =IF(U8=0,"–",T8/U8) -> 0.8372093
A9: ='Evitabilidade 2019'!A9 -> 230740 Jucás | B9: ='Evitabilidade 2019'!B9 -> 5 | C9: ='Evitabilidade 2019'!F9 -> 7 | D9: ='Evitabilidade 2019'!G9 -> 0.71428571 | E9: ='Evitabilidade 2020'!B9 -> 1 | F9: ='Evitabilidade 2020'!F9 -> 2 | G9: ='Evitabilidade 2020'!G9 -> 0.5 | H9: ='Evitabilidade 2021'!B9 -> 5 | I9: ='Evitabilidade 2021'!F9 -> 6 | J9: ='Evitabilidade 2021'!G9 -> 0.83333333 | K9: ='Evitabilidade 2022'!B9 -> 1 | L9: ='Evitabilidade 2022'!F9 -> 2 | M9: ='Evitabilidade 2022'!G9 -> 0.5 | N9: ='Evitabilidade 2023'!B9 -> 6 | O9: ='Evitabilidade 2023'!F9 -> 7 | P9: ='Evitabilidade 2023'!G9 -> 0.85714286 | Q9: ='Evitabilidade 2024'!B9 -> 4 | R9: ='Evitabilidade 2024'!F9 -> 5 | S9: ='Evitabilidade 2024'!G9 -> 0.8 | T9: =B9+E9+H9+K9+N9+Q9 -> 22 | U9: =C9+F9+I9+L9+O9+R9 -> 29 | V9: =IF(U9=0,"–",T9/U9) -> 0.75862069
A10: ='Evitabilidade 2019'!A10 -> 230850 Mombaça | B10: ='Evitabilidade 2019'!B10 -> 1 | C10: ='Evitabilidade 2019'!F10 -> 1 | D10: ='Evitabilidade 2019'!G10 -> 1 | E10: ='Evitabilidade 2020'!B10 -> 5 | F10: ='Evitabilidade 2020'!F10 -> 6 | G10: ='Evitabilidade 2020'!G10 -> 0.83333333 | H10: ='Evitabilidade 2021'!B10 -> 5 | I10: ='Evitabilidade 2021'!F10 -> 7 | J10: ='Evitabilidade 2021'!G10 -> 0.71428571 | K10: ='Evitabilidade 2022'!B10 -> 6 | L10: ='Evitabilidade 2022'!F10 -> 7 | M10: ='Evitabilidade 2022'!G10 -> 0.85714286 | N10: ='Evitabilidade 2023'!B10 -> 3 | O10: ='Evitabilidade 2023'!F10 -> 5 | P10: ='Evitabilidade 2023'!G10 -> 0.6 | Q10: ='Evitabilidade 2024'!B10 -> 1 | R10: ='Evitabilidade 2024'!F10 -> 6 | S10: ='Evitabilidade 2024'!G10 -> 0.16666667 | T10: =B10+E10+H10+K10+N10+Q10 -> 21 | U10: =C10+F10+I10+L10+O10+R10 -> 32 | V10: =IF(U10=0,"–",T10/U10) -> 0.65625
A11: ='Evitabilidade 2019'!A11 -> 231090 Piquet Carneiro | B11: ='Evitabilidade 2019'!B11 -> 3 | C11: ='Evitabilidade 2019'!F11 -> 3 | D11: ='Evitabilidade 2019'!G11 -> 1 | E11: ='Evitabilidade 2020'!B11 -> 3 | F11: ='Evitabilidade 2020'!F11 -> 3 | G11: ='Evitabilidade 2020'!G11 -> 1 | H11: ='Evitabilidade 2021'!B11 -> 0 | I11: ='Evitabilidade 2021'!F11 -> 0 | J11: ='Evitabilidade 2021'!G11 -> – | K11: ='Evitabilidade 2022'!B11 -> 2 | L11: ='Evitabilidade 2022'!F11 -> 5 | M11: ='Evitabilidade 2022'!G11 -> 0.4 | N11: ='Evitabilidade 2023'!B11 -> 1 | O11: ='Evitabilidade 2023'!F11 -> 2 | P11: ='Evitabilidade 2023'!G11 -> 0.5 | Q11: ='Evitabilidade 2024'!B11 -> 0 | R11: ='Evitabilidade 2024'!F11 -> 1 | S11: ='Evitabilidade 2024'!G11 -> 0 | T11: =B11+E11+H11+K11+N11+Q11 -> 9 | U11: =C11+F11+I11+L11+O11+R11 -> 14 | V11: =IF(U11=0,"–",T11/U11) -> 0.64285714
A12: ='Evitabilidade 2019'!A12 -> 231135 Quixelô | B12: ='Evitabilidade 2019'!B12 -> 3 | C12: ='Evitabilidade 2019'!F12 -> 7 | D12: ='Evitabilidade 2019'!G12 -> 0.42857143 | E12: ='Evitabilidade 2020'!B12 -> 4 | F12: ='Evitabilidade 2020'!F12 -> 6 | G12: ='Evitabilidade 2020'!G12 -> 0.66666667 | H12: ='Evitabilidade 2021'!B12 -> 3 | I12: ='Evitabilidade 2021'!F12 -> 3 | J12: ='Evitabilidade 2021'!G12 -> 1 | K12: ='Evitabilidade 2022'!B12 -> 3 | L12: ='Evitabilidade 2022'!F12 -> 3 | M12: ='Evitabilidade 2022'!G12 -> 1 | N12: ='Evitabilidade 2023'!B12 -> 4 | O12: ='Evitabilidade 2023'!F12 -> 4 | P12: ='Evitabilidade 2023'!G12 -> 1 | Q12: ='Evitabilidade 2024'!B12 -> 1 | R12: ='Evitabilidade 2024'!F12 -> 1 | S12: ='Evitabilidade 2024'!G12 -> 1 | T12: =B12+E12+H12+K12+N12+Q12 -> 18 | U12: =C12+F12+I12+L12+O12+R12 -> 24 | V12: =IF(U12=0,"–",T12/U12) -> 0.75
A13: ='Evitabilidade 2019'!A13 -> 231190 Saboeiro | B13: ='Evitabilidade 2019'!B13 -> 0 | C13: ='Evitabilidade 2019'!F13 -> 0 | D13: ='Evitabilidade 2019'!G13 -> – | E13: ='Evitabilidade 2020'!B13 -> 1 | F13: ='Evitabilidade 2020'!F13 -> 1 | G13: ='Evitabilidade 2020'!G13 -> 1 | H13: ='Evitabilidade 2021'!B13 -> 1 | I13: ='Evitabilidade 2021'!F13 -> 1 | J13: ='Evitabilidade 2021'!G13 -> 1 | K13: ='Evitabilidade 2022'!B13 -> 1 | L13: ='Evitabilidade 2022'!F13 -> 2 | M13: ='Evitabilidade 2022'!G13 -> 0.5 | N13: ='Evitabilidade 2023'!B13 -> 1 | O13: ='Evitabilidade 2023'!F13 -> 1 | P13: ='Evitabilidade 2023'!G13 -> 1 | Q13: ='Evitabilidade 2024'!B13 -> 1 | R13: ='Evitabilidade 2024'!F13 -> 1 | S13: ='Evitabilidade 2024'!G13 -> 1 | T13: =B13+E13+H13+K13+N13+Q13 -> 5 | U13: =C13+F13+I13+L13+O13+R13 -> 6 | V13: =IF(U13=0,"–",T13/U13) -> 0.83333333
A14: ='Evitabilidade 2019'!A14 -> Total | B14: ='Evitabilidade 2019'!B14 -> 32 | C14: ='Evitabilidade 2019'!F14 -> 42 | D14: ='Evitabilidade 2019'!G14 -> 0.76190476 | E14: ='Evitabilidade 2020'!B14 -> 38 | F14: ='Evitabilidade 2020'!F14 -> 50 | G14: ='Evitabilidade 2020'!G14 -> 0.76 | H14: ='Evitabilidade 2021'!B14 -> 40 | I14: ='Evitabilidade 2021'!F14 -> 49 | J14: ='Evitabilidade 2021'!G14 -> 0.81632653 | K14: ='Evitabilidade 2022'!B14 -> 35 | L14: ='Evitabilidade 2022'!F14 -> 44 | M14: ='Evitabilidade 2022'!G14 -> 0.79545455 | N14: ='Evitabilidade 2023'!B14 -> 35 | O14: ='Evitabilidade 2023'!F14 -> 41 | P14: ='Evitabilidade 2023'!G14 -> 0.85365854 | Q14: ='Evitabilidade 2024'!B14 -> 22 | R14: ='Evitabilidade 2024'!F14 -> 38 | S14: ='Evitabilidade 2024'!G14 -> 0.57894737 | T14: =B14+E14+H14+K14+N14+Q14 -> 202 | U14: =C14+F14+I14+L14+O14+R14 -> 264 | V14: =IF(U14=0,"–",T14/U14) -> 0.76515152
A16: Fonte: SIM/DATASUS. Classificação aproximada por capítulo CID-10 (ver notas em cada aba).

Sheet Base faixa etária
A1: Óbitos em menores de 5 anos por faixa etária e ano – 18ª Região de Saúde (Iguatu), 2019 a 2024
A3: Faixa etária | B3: 2019 | C3: 2020 | D3: 2021 | E3: 2022 | F3: 2023 | G3: 2024 | H3: Total 2019-2024
A4: Menor de 1 ano (infantil) | B4: =B22 -> 38 | C4: =C22 -> 46 | D4: =D22 -> 42 | E4: =E22 -> 36 | F4: =F22 -> 38 | G4: =G22 -> 32 | H4: =H22 -> 232
A5: 1 a 4 anos | B5: =B37 -> 4 | C5: =C37 -> 4 | D5: =D37 -> 7 | E5: =E37 -> 8 | F5: =F37 -> 3 | G5: =G37 -> 6 | H5: =H37 -> 32
A6: Total menores de 5 anos | B6: =B4+B5 -> 42 | C6: =C4+C5 -> 50 | D6: =D4+D5 -> 49 | E6: =E4+E5 -> 44 | F6: =F4+F5 -> 41 | G6: =G4+G5 -> 38 | H6: =H4+H5 -> 264
A7: % óbitos infantis no total | B7: =IF(B6=0,"–",B4/B6) -> 0.9047619 | C7: =IF(C6=0,"–",C4/C6) -> 0.92 | D7: =IF(D6=0,"–",D4/D6) -> 0.85714286 | E7: =IF(E6=0,"–",E4/E6) -> 0.81818182 | F7: =IF(F6=0,"–",F4/F6) -> 0.92682927 | G7: =IF(G6=0,"–",G4/G6) -> 0.84210526 | H7: =IF(H6=0,"–",H4/H6) -> 0.87878788
A10: Menores de 1 ano (óbitos infantis) por município
A11: Município de residência | B11: 2019 | C11: 2020 | D11: 2021 | E11: 2022 | F11: 2023 | G11: 2024 | H11: Total 2019-2024
A12: 230030 Acopiara | B12: 4 | C12: 11 | D12: 6 | E12: 6 | F12: 2 | G12: 8 | H12: =SUM(B12:G12) -> 37
A13: 230330 Cariús | B13: 2 | C13: 3 | D13: 3 | E13: 0 | F13: 2 | G13: 0 | H13: =SUM(B13:G13) -> 10
A14: 230360 Catarina | B14: 3 | C14: 1 | D14: 1 | E14: 2 | F14: 1 | G14: 0 | H14: =SUM(B14:G14) -> 8
A15: 230426 Deputado Irapuan Pinheiro | B15: 1 | C15: 0 | D15: 3 | E15: 0 | F15: 1 | G15: 1 | H15: =SUM(B15:G15) -> 6
A16: 230550 Iguatu | B16: 12 | C16: 14 | D16: 15 | E16: 13 | F16: 14 | G16: 12 | H16: =SUM(B16:G16) -> 80
A17: 230740 Jucás | B17: 6 | C17: 2 | D17: 4 | E17: 2 | F17: 6 | G17: 3 | H17: =SUM(B17:G17) -> 23
A18: 230850 Mombaça | B18: 1 | C18: 6 | D18: 7 | E18: 6 | F18: 5 | G18: 5 | H18: =SUM(B18:G18) -> 30
A19: 231090 Piquet Carneiro | B19: 3 | C19: 3 | D19: 0 | E19: 4 | F19: 2 | G19: 1 | H19: =SUM(B19:G19) -> 13
A20: 231135 Quixelô | B20: 6 | C20: 5 | D20: 2 | E20: 3 | F20: 4 | G20: 1 | H20: =SUM(B20:G20) -> 21
A21: 231190 Saboeiro | B21: 0 | C21: 1 | D21: 1 | E21: 0 | F21: 1 | G21: 1 | H21: =SUM(B21:G21) -> 4
A22: Total | B22: =SUM(B12:B21) -> 38 | C22: =SUM(C12:C21) -> 46 | D22: =SUM(D12:D21) -> 42 | E22: =SUM(E12:E21) -> 36 | F22: =SUM(F12:F21) -> 38 | G22: =SUM(G12:G21) -> 32 | H22: =SUM(H12:H21) -> 232
A25: 1 a 4 anos por município
A26: Município de residência | B26: 2019 | C26: 2020 | D26: 2021 | E26: 2022 | F26: 2023 | G26: 2024 | H26: Total 2019-2024
A27: 230030 Acopiara | B27: 1 | C27: 1 | D27: 2 | E27: 2 | F27: 0 | G27: 1 | H27: =SUM(B27:G27) -> 7
A28: 230330 Cariús | B28: 0 | C28: 0 | D28: 0 | E28: 1 | F28: 0 | G28: 2 | H28: =SUM(B28:G28) -> 3
A29: 230360 Catarina | B29: 0 | C29: 1 | D29: 0 | E29: 0 | F29: 0 | G29: 0 | H29: =SUM(B29:G29) -> 1
A30: 230426 Deputado Irapuan Pinheiro | B30: 0 | C30: 0 | D30: 0 | E30: 1 | F30: 0 | G30: 0 | H30: =SUM(B30:G30) -> 1
A31: 230550 Iguatu | B31: 1 | C31: 1 | D31: 2 | E31: 0 | F31: 2 | G31: 0 | H31: =SUM(B31:G31) -> 6
A32: 230740 Jucás | B32: 1 | C32: 0 | D32: 2 | E32: 0 | F32: 1 | G32: 2 | H32: =SUM(B32:G32) -> 6
A33: 230850 Mombaça | B33: 0 | C33: 0 | D33: 0 | E33: 1 | F33: 0 | G33: 1 | H33: =SUM(B33:G33) -> 2
A34: 231090 Piquet Carneiro | B34: 0 | C34: 0 | D34: 0 | E34: 1 | F34: 0 | G34: 0 | H34: =SUM(B34:G34) -> 1
A35: 231135 Quixelô | B35: 1 | C35: 1 | D35: 1 | E35: 0 | F35: 0 | G35: 0 | H35: =SUM(B35:G35) -> 3
A36: 231190 Saboeiro | B36: 0 | C36: 0 | D36: 0 | E36: 2 | F36: 0 | G36: 0 | H36: =SUM(B36:G36) -> 2
A37: Total | B37: =SUM(B27:B36) -> 4 | C37: =SUM(C27:C36) -> 4 | D37: =SUM(D27:D36) -> 7 | E37: =SUM(E27:E36) -> 8 | F37: =SUM(F27:F36) -> 3 | G37: =SUM(G27:G36) -> 6 | H37: =SUM(H27:H36) -> 32
A39: Fonte: SIM/DATASUS – tabulações por faixa etária enviadas pela usuária (arquivos FREQUENCIAFAIXAETARIA 2019 a 2024). Municípios ausentes na tabulação de um ano = 0 óbitos.
A40: Os totais anuais coincidem com as tabelas por capítulo CID-10 das demais abas, que portanto se referem a menores de 5 anos.

Sheet Base idade da mãe
A1: Base – óbitos em menores de 5 anos por idade da mãe, município e ano – 18ª Região de Saúde, 2019 a 2024
A3: Idade da mãe | B3: 2019 | C3: 2020 | D3: 2021 | E3: 2022 | F3: 2023 | G3: 2024 | H3: Total 2019-2024
A4: 10 a 14 anos | B4: =SUMIFS(C16:C75,$A$16:$A$75,$A4) -> 0 | C4: =SUMIFS(D16:D75,$A$16:$A$75,$A4) -> 2 | D4: =SUMIFS(E16:E75,$A$16:$A$75,$A4) -> 0 | E4: =SUMIFS(F16:F75,$A$16:$A$75,$A4) -> 0 | F4: =SUMIFS(G16:G75,$A$16:$A$75,$A4) -> 0 | G4: =SUMIFS(H16:H75,$A$16:$A$75,$A4) -> 0 | H4: =SUM(B4:G4) -> 2
A5: 15 a 19 anos | B5: =SUMIFS(C16:C75,$A$16:$A$75,$A5) -> 10 | C5: =SUMIFS(D16:D75,$A$16:$A$75,$A5) -> 12 | D5: =SUMIFS(E16:E75,$A$16:$A$75,$A5) -> 7 | E5: =SUMIFS(F16:F75,$A$16:$A$75,$A5) -> 4 | F5: =SUMIFS(G16:G75,$A$16:$A$75,$A5) -> 5 | G5: =SUMIFS(H16:H75,$A$16:$A$75,$A5) -> 6 | H5: =SUM(B5:G5) -> 44
A6: 20 a 30 anos | B6: =SUMIFS(C16:C75,$A$16:$A$75,$A6) -> 17 | C6: =SUMIFS(D16:D75,$A$16:$A$75,$A6) -> 16 | D6: =SUMIFS(E16:E75,$A$16:$A$75,$A6) -> 20 | E6: =SUMIFS(F16:F75,$A$16:$A$75,$A6) -> 11 | F6: =SUMIFS(G16:G75,$A$16:$A$75,$A6) -> 22 | G6: =SUMIFS(H16:H75,$A$16:$A$75,$A6) -> 16 | H6: =SUM(B6:G6) -> 102
A7: 31 a 40 anos | B7: =SUMIFS(C16:C75,$A$16:$A$75,$A7) -> 8 | C7: =SUMIFS(D16:D75,$A$16:$A$75,$A7) -> 15 | D7: =SUMIFS(E16:E75,$A$16:$A$75,$A7) -> 13 | E7: =SUMIFS(F16:F75,$A$16:$A$75,$A7) -> 21 | F7: =SUMIFS(G16:G75,$A$16:$A$75,$A7) -> 9 | G7: =SUMIFS(H16:H75,$A$16:$A$75,$A7) -> 9 | H7: =SUM(B7:G7) -> 75
A8: 41 a 50 anos | B8: =SUMIFS(C16:C75,$A$16:$A$75,$A8) -> 3 | C8: =SUMIFS(D16:D75,$A$16:$A$75,$A8) -> 1 | D8: =SUMIFS(E16:E75,$A$16:$A$75,$A8) -> 1 | E8: =SUMIFS(F16:F75,$A$16:$A$75,$A8) -> 0 | F8: =SUMIFS(G16:G75,$A$16:$A$75,$A8) -> 2 | G8: =SUMIFS(H16:H75,$A$16:$A$75,$A8) -> 1 | H8: =SUM(B8:G8) -> 8
A9: Não informada | B9: =SUMIFS(C16:C75,$A$16:$A$75,$A9) -> 4 | C9: =SUMIFS(D16:D75,$A$16:$A$75,$A9) -> 4 | D9: =SUMIFS(E16:E75,$A$16:$A$75,$A9) -> 8 | E9: =SUMIFS(F16:F75,$A$16:$A$75,$A9) -> 8 | F9: =SUMIFS(G16:G75,$A$16:$A$75,$A9) -> 3 | G9: =SUMIFS(H16:H75,$A$16:$A$75,$A9) -> 6 | H9: =SUM(B9:G9) -> 33
A10: Total | B10: =SUM(B4:B9) -> 42 | C10: =SUM(C4:C9) -> 50 | D10: =SUM(D4:D9) -> 49 | E10: =SUM(E4:E9) -> 44 | F10: =SUM(F4:F9) -> 41 | G10: =SUM(G4:G9) -> 38 | H10: =SUM(H4:H9) -> 264
A11: % mães adolescentes (10 a 19 anos) | B11: =IF(B10=0,"–",(B4+B5)/B10) -> 0.23809524 | C11: =IF(C10=0,"–",(C4+C5)/C10) -> 0.28 | D11: =IF(D10=0,"–",(D4+D5)/D10) -> 0.14285714 | E11: =IF(E10=0,"–",(E4+E5)/E10) -> 0.090909091 | F11: =IF(F10=0,"–",(F4+F5)/F10) -> 0.12195122 | G11: =IF(G10=0,"–",(G4+G5)/G10) -> 0.15789474 | H11: =IF(H10=0,"–",(H4+H5)/H10) -> 0.17424242
A13: Dados de origem (formato longo)
A15: Idade da mãe | B15: Município de residência | C15: 2019 | D15: 2020 | E15: 2021 | F15: 2022 | G15: 2023 | H15: 2024
A16: 10 a 14 anos | B16: 230030 Acopiara | C16: 0 | D16: 0 | E16: 0 | F16: 0 | G16: 0 | H16: 0
A17: 10 a 14 anos | B17: 230330 Cariús | C17: 0 | D17: 0 | E17: 0 | F17: 0 | G17: 0 | H17: 0
A18: 10 a 14 anos | B18: 230360 Catarina | C18: 0 | D18: 0 | E18: 0 | F18: 0 | G18: 0 | H18: 0
A19: 10 a 14 anos | B19: 230426 Deputado Irapuan Pinheiro | C19: 0 | D19: 0 | E19: 0 | F19: 0 | G19: 0 | H19: 0
A20: 10 a 14 anos | B20: 230550 Iguatu | C20: 0 | D20: 0 | E20: 0 | F20: 0 | G20: 0 | H20: 0
A21: 10 a 14 anos | B21: 230740 Jucás | C21: 0 | D21: 0 | E21: 0 | F21: 0 | G21: 0 | H21: 0
A22: 10 a 14 anos | B22: 230850 Mombaça | C22: 0 | D22: 1 | E22: 0 | F22: 0 | G22: 0 | H22: 0
A23: 10 a 14 anos | B23: 231090 Piquet Carneiro | C23: 0 | D23: 1 | E23: 0 | F23: 0 | G23: 0 | H23: 0
A24: 10 a 14 anos | B24: 231135 Quixelô | C24: 0 | D24: 0 | E24: 0 | F24: 0 | G24: 0 | H24: 0
A25: 10 a 14 anos | B25: 231190 Saboeiro | C25: 0 | D25: 0 | E25: 0 | F25: 0 | G25: 0 | H25: 0
A26: 15 a 19 anos | B26: 230030 Acopiara | C26: 1 | D26: 2 | E26: 1 | F26: 0 | G26: 1 | H26: 1
A27: 15 a 19 anos | B27: 230330 Cariús | C27: 1 | D27: 3 | E27: 1 | F27: 0 | G27: 0 | H27: 0
... A75: Não informada | B75: 231190 Saboeiro | C75: 0 | D75: 0 | E75: 0 | F75: 2 | G75: 0 | H75: 0
A77: Fonte: SIM/DATASUS – tabulações por idade da mãe (FREQUENCIAIDADEMAE 2019 a 2024). Faixas ausentes num ano ou municípios ausentes = 0 óbitos.

Sheet Base escolaridade da mãe
A1: Base – óbitos em menores de 5 anos por escolaridade da mãe, município e ano – 18ª Região de Saúde, 2019 a 2024
A3: Escolaridade da mãe | B3: 2019 | C3: 2020 | D3: 2021 | E3: 2022 | F3: 2023 | G3: 2024 | H3: Total 2019-2024
A4: Nenhuma | B4: =SUMIFS(C17:C86,$A$17:$A$86,$A4) -> 0 | C4: =SUMIFS(D17:D86,$A$17:$A$86,$A4) -> 1 | D4: =SUMIFS(E17:E86,$A$17:$A$86,$A4) -> 1 | E4: =SUMIFS(F17:F86,$A$17:$A$86,$A4) -> 1 | F4: =SUMIFS(G17:G86,$A$17:$A$86,$A4) -> 1 | G4: =SUMIFS(H17:H86,$A$17:$A$86,$A4) -> 0 | H4: =SUM(B4:G4) -> 4
A5: 1 a 3 anos de estudo | B5: =SUMIFS(C17:C86,$A$17:$A$86,$A5) -> 1 | C5: =SUMIFS(D17:D86,$A$17:$A$86,$A5) -> 4 | D5: =SUMIFS(E17:E86,$A$17:$A$86,$A5) -> 1 | E5: =SUMIFS(F17:F86,$A$17:$A$86,$A5) -> 4 | F5: =SUMIFS(G17:G86,$A$17:$A$86,$A5) -> 2 | G5: =SUMIFS(H17:H86,$A$17:$A$86,$A5) -> 0 | H5: =SUM(B5:G5) -> 12
A6: 4 a 7 anos de estudo | B6: =SUMIFS(C17:C86,$A$17:$A$86,$A6) -> 9 | C6: =SUMIFS(D17:D86,$A$17:$A$86,$A6) -> 10 | D6: =SUMIFS(E17:E86,$A$17:$A$86,$A6) -> 6 | E6: =SUMIFS(F17:F86,$A$17:$A$86,$A6) -> 3 | F6: =SUMIFS(G17:G86,$A$17:$A$86,$A6) -> 4 | G6: =SUMIFS(H17:H86,$A$17:$A$86,$A6) -> 7 | H6: =SUM(B6:G6) -> 39
A7: 8 a 11 anos de estudo | B7: =SUMIFS(C17:C86,$A$17:$A$86,$A7) -> 23 | C7: =SUMIFS(D17:D86,$A$17:$A$86,$A7) -> 27 | D7: =SUMIFS(E17:E86,$A$17:$A$86,$A7) -> 30 | E7: =SUMIFS(F17:F86,$A$17:$A$86,$A7) -> 24 | F7: =SUMIFS(G17:G86,$A$17:$A$86,$A7) -> 26 | G7: =SUMIFS(H17:H86,$A$17:$A$86,$A7) -> 21 | H7: =SUM(B7:G7) -> 151
A8: 12 anos ou mais de estudo | B8: =SUMIFS(C17:C86,$A$17:$A$86,$A8) -> 4 | C8: =SUMIFS(D17:D86,$A$17:$A$86,$A8) -> 3 | D8: =SUMIFS(E17:E86,$A$17:$A$86,$A8) -> 4 | E8: =SUMIFS(F17:F86,$A$17:$A$86,$A8) -> 3 | F8: =SUMIFS(G17:G86,$A$17:$A$86,$A8) -> 5 | G8: =SUMIFS(H17:H86,$A$17:$A$86,$A8) -> 4 | H8: =SUM(B8:G8) -> 23
A9: Ignorada | B9: =SUMIFS(C17:C86,$A$17:$A$86,$A9) -> 0 | C9: =SUMIFS(D17:D86,$A$17:$A$86,$A9) -> 1 | D9: =SUMIFS(E17:E86,$A$17:$A$86,$A9) -> 0 | E9: =SUMIFS(F17:F86,$A$17:$A$86,$A9) -> 1 | F9: =SUMIFS(G17:G86,$A$17:$A$86,$A9) -> 0 | G9: =SUMIFS(H17:H86,$A$17:$A$86,$A9) -> 0 | H9: =SUM(B9:G9) -> 2
A10: Não informada | B10: =SUMIFS(C17:C86,$A$17:$A$86,$A10) -> 5 | C10: =SUMIFS(D17:D86,$A$17:$A$86,$A10) -> 4 | D10: =SUMIFS(E17:E86,$A$17:$A$86,$A10) -> 7 | E10: =SUMIFS(F17:F86,$A$17:$A$86,$A10) -> 8 | F10: =SUMIFS(G17:G86,$A$17:$A$86,$A10) -> 3 | G10: =SUMIFS(H17:H86,$A$17:$A$86,$A10) -> 6 | H10: =SUM(B10:G10) -> 33
A11: Total | B11: =SUM(B4:B10) -> 42 | C11: =SUM(C4:C10) -> 50 | D11: =SUM(D4:D10) -> 49 | E11: =SUM(E4:E10) -> 44 | F11: =SUM(F4:F10) -> 41 | G11: =SUM(G4:G10) -> 38 | H11: =SUM(H4:H10) -> 264
A12: % mães com até 7 anos de estudo | B12: =IF(B11=0,"–",(B4+B5+B6)/B11) -> 0.23809524 | C12: =IF(C11=0,"–",(C4+C5+C6)/C11) -> 0.3 | D12: =IF(D11=0,"–",(D4+D5+D6)/D11) -> 0.16326531 | E12: =IF(E11=0,"–",(E4+E5+E6)/E11) -> 0.18181818 | F12: =IF(F11=0,"–",(F4+F5+F6)/F11) -> 0.17073171 | G12: =IF(G11=0,"–",(G4+G5+G6)/G11) -> 0.18421053 | H12: =IF(H11=0,"–",(H4+H5+H6)/H11) -> 0.20833333
A14: Dados de origem (formato longo)
A16: Escolaridade da mãe | B16: Município de residência | C16: 2019 | D16: 2020 | E16: 2021 | F16: 2022 | G16: 2023 | H16: 2024
A17: Nenhuma | B17: 230030 Acopiara | C17: 0 | D17: 1 | E17: 0 | F17: 0 | G17: 0 | H17: 0
A18: Nenhuma | B18: 230330 Cariús | C18: 0 | D18: 0 | E18: 0 | F18: 0 | G18: 0 | H18: 0
A19: Nenhuma | B19: 230360 Catarina | C19: 0 | D19: 0 | E19: 0 | F19: 0 | G19: 0 | H19: 0
A20: Nenhuma | B20: 230426 Deputado Irapuan Pinheiro | C20: 0 | D20: 0 | E20: 0 | F20: 0 | G20: 0 | H20: 0
A21: Nenhuma | B21: 230550 Iguatu | C21: 0 | D21: 0 | E21: 0 | F21: 0 | G21: 0 | H21: 0
A22: Nenhuma | B22: 230740 Jucás | C22: 0 | D22: 0 | E22: 0 | F22: 0 | G22: 0 | H22: 0
A23: Nenhuma | B23: 230850 Mombaça | C23: 0 | D23: 0 | E23: 1 | F23: 0 | G23: 1 | H23: 0
A24: Nenhuma | B24: 231090 Piquet Carneiro | C24: 0 | D24: 0 | E24: 0 | F24: 1 | G24: 0 | H24: 0
A25: Nenhuma | B25: 231135 Quixelô | C25: 0 | D25: 0 | E25: 0 | F25: 0 | G25: 0 | H25: 0
A26: Nenhuma | B26: 231190 Saboeiro | C26: 0 | D26: 0 | E26: 0 | F26: 0 | G26: 0 | H26: 0
A27: 1 a 3 anos de estudo | B27: 230030 Acopiara | C27: 0 | D27: 1 | E27: 0 | F27: 1 | G27: 0 | H27: 0
A28: 1 a 3 anos de estudo | B28: 230330 Cariús | C28: 0 | D28: 0 | E28: 0 | F28: 0 | G28: 0 | H28: 0
... A86: Não informada | B86: 231190 Saboeiro | C86: 0 | D86: 0 | E86: 0 | F86: 2 | G86: 0 | H86: 0
A88: Fonte: SIM/DATASUS – tabulações por escolaridade da mãe (FREQescolaridadeMAE 2019 a 2024). Categorias ou municípios ausentes num ano = 0 óbitos.

Sheet Base raça-cor
A1: Base – óbitos em menores de 5 anos por raça/cor, município e ano – 18ª Região de Saúde, 2019 a 2024
A3: Raça/cor | B3: 2019 | C3: 2020 | D3: 2021 | E3: 2022 | F3: 2023 | G3: 2024 | H3: Total 2019-2024
A4: Branca | B4: =SUMIFS(C15:C64,$A$15:$A$64,$A4) -> 6 | C4: =SUMIFS(D15:D64,$A$15:$A$64,$A4) -> 7 | D4: =SUMIFS(E15:E64,$A$15:$A$64,$A4) -> 16 | E4: =SUMIFS(F15:F64,$A$15:$A$64,$A4) -> 13 | F4: =SUMIFS(G15:G64,$A$15:$A$64,$A4) -> 8 | G4: =SUMIFS(H15:H64,$A$15:$A$64,$A4) -> 7 | H4: =SUM(B4:G4) -> 57
A5: Preta | B5: =SUMIFS(C15:C64,$A$15:$A$64,$A5) -> 0 | C5: =SUMIFS(D15:D64,$A$15:$A$64,$A5) -> 1 | D5: =SUMIFS(E15:E64,$A$15:$A$64,$A5) -> 0 | E5: =SUMIFS(F15:F64,$A$15:$A$64,$A5) -> 0 | F5: =SUMIFS(G15:G64,$A$15:$A$64,$A5) -> 1 | G5: =SUMIFS(H15:H64,$A$15:$A$64,$A5) -> 1 | H5: =SUM(B5:G5) -> 3
A6: Parda | B6: =SUMIFS(C15:C64,$A$15:$A$64,$A6) -> 33 | C6: =SUMIFS(D15:D64,$A$15:$A$64,$A6) -> 40 | D6: =SUMIFS(E15:E64,$A$15:$A$64,$A6) -> 31 | E6: =SUMIFS(F15:F64,$A$15:$A$64,$A6) -> 26 | F6: =SUMIFS(G15:G64,$A$15:$A$64,$A6) -> 28 | G6: =SUMIFS(H15:H64,$A$15:$A$64,$A6) -> 28 | H6: =SUM(B6:G6) -> 186
A7: Indígena | B7: =SUMIFS(C15:C64,$A$15:$A$64,$A7) -> 0 | C7: =SUMIFS(D15:D64,$A$15:$A$64,$A7) -> 1 | D7: =SUMIFS(E15:E64,$A$15:$A$64,$A7) -> 0 | E7: =SUMIFS(F15:F64,$A$15:$A$64,$A7) -> 0 | F7: =SUMIFS(G15:G64,$A$15:$A$64,$A7) -> 0 | G7: =SUMIFS(H15:H64,$A$15:$A$64,$A7) -> 0 | H7: =SUM(B7:G7) -> 1
A8: Não informada | B8: =SUMIFS(C15:C64,$A$15:$A$64,$A8) -> 3 | C8: =SUMIFS(D15:D64,$A$15:$A$64,$A8) -> 1 | D8: =SUMIFS(E15:E64,$A$15:$A$64,$A8) -> 2 | E8: =SUMIFS(F15:F64,$A$15:$A$64,$A8) -> 5 | F8: =SUMIFS(G15:G64,$A$15:$A$64,$A8) -> 4 | G8: =SUMIFS(H15:H64,$A$15:$A$64,$A8) -> 2 | H8: =SUM(B8:G8) -> 17
A9: Total | B9: =SUM(B4:B8) -> 42 | C9: =SUM(C4:C8) -> 50 | D9: =SUM(D4:D8) -> 49 | E9: =SUM(E4:E8) -> 44 | F9: =SUM(F4:F8) -> 41 | G9: =SUM(G4:G8) -> 38 | H9: =SUM(H4:H8) -> 264
A10: % pretos e pardos (população negra) | B10: =IF(B9=0,"–",(B5+B6)/B9) -> 0.78571429 | C10: =IF(C9=0,"–",(C5+C6)/C9) -> 0.82 | D10: =IF(D9=0,"–",(D5+D6)/D9) -> 0.63265306 | E10: =IF(E9=0,"–",(E5+E6)/E9) -> 0.59090909 | F10: =IF(F9=0,"–",(F5+F6)/F9) -> 0.70731707 | G10: =IF(G9=0,"–",(G5+G6)/G9) -> 0.76315789 | H10: =IF(H9=0,"–",(H5+H6)/H9) -> 0.71590909
A12: Dados de origem (formato longo)
A14: Raça/cor | B14: Município de residência | C14: 2019 | D14: 2020 | E14: 2021 | F14: 2022 | G14: 2023 | H14: 2024
A15: Branca | B15: 230030 Acopiara | C15: 0 | D15: 2 | E15: 3 | F15: 5 | G15: 0 | H15: 2
A16: Branca | B16: 230330 Cariús | C16: 1 | D16: 1 | E16: 0 | F16: 1 | G16: 0 | H16: 1
A17: Branca | B17: 230360 Catarina | C17: 0 | D17: 0 | E17: 0 | F17: 0 | G17: 0 | H17: 0
A18: Branca | B18: 230426 Deputado Irapuan Pinheiro | C18: 0 | D18: 0 | E18: 1 | F18: 1 | G18: 0 | H18: 0
A19: Branca | B19: 230550 Iguatu | C19: 2 | D19: 2 | E19: 3 | F19: 2 | G19: 3 | H19: 2
A20: Branca | B20: 230740 Jucás | C20: 2 | D20: 0 | E20: 3 | F20: 0 | G20: 2 | H20: 1
A21: Branca | B21: 230850 Mombaça | C21: 0 | D21: 0 | E21: 5 | F21: 1 | G21: 1 | H21: 0
A22: Branca | B22: 231090 Piquet Carneiro | C22: 0 | D22: 1 | E22: 0 | F22: 1 | G22: 1 | H22: 0
A23: Branca | B23: 231135 Quixelô | C23: 1 | D23: 1 | E23: 1 | F23: 1 | G23: 0 | H23: 0
A24: Branca | B24: 231190 Saboeiro | C24: 0 | D24: 0 | E24: 0 | F24: 1 | G24: 1 | H24: 1
A25: Preta | B25: 230030 Acopiara | C25: 0 | D25: 0 | E25: 0 | F25: 0 | G25: 0 | H25: 0
A26: Preta | B26: 230330 Cariús | C26: 0 | D26: 0 | E26: 0 | F26: 0 | G26: 0 | H26: 0
... A64: Não informada | B64: 231190 Saboeiro | C64: 0 | D64: 0 | E64: 0 | F64: 0 | G64: 0 | H64: 0
A66: Fonte: SIM/DATASUS – tabulações por raça/cor (FREQra_acor 2019 a 2024). Nenhum óbito de raça/cor amarela no período. Categorias ou municípios ausentes num ano = 0 óbitos.

Sheet Evitabilidade 2019
A1: Óbitos em menores de 5 anos por evitabilidade, segundo município de residência – 18ª Região de Saúde (Iguatu), 2019
A3: Município de residência | B3: Evitáveis¹ | C3: A classificar² | D3: Não evitáveis³ | E3: Mal definidas⁴ | F3: Total | G3: % Evitáveis | I3: Indicadores regionais
A4: ='Dados 2019'!A4 -> 230030 Acopiara | B4: ='Dados 2019'!B4+'Dados 2019'!E4+'Dados 2019'!F4+'Dados 2019'!I4 -> 3 | C4: ='Dados 2019'!C4+'Dados 2019'!D4 -> 1 | D4: ='Dados 2019'!G4 -> 1 | E4: ='Dados 2019'!H4 -> 0 | F4: =SUM(B4:E4) -> 5 | G4: =IF(F4=0,"–",B4/F4) -> 0.6 | I4: % evitáveis (mínimo) | J4: =B14/F14 -> 0.76190476
A5: ='Dados 2019'!A5 -> 230330 Cariús | B5: ='Dados 2019'!B5+'Dados 2019'!E5+'Dados 2019'!F5+'Dados 2019'!I5 -> 1 | C5: ='Dados 2019'!C5+'Dados 2019'!D5 -> 0 | D5: ='Dados 2019'!G5 -> 1 | E5: ='Dados 2019'!H5 -> 0 | F5: =SUM(B5:E5) -> 2 | G5: =IF(F5=0,"–",B5/F5) -> 0.5 | I5: % evitáveis (máximo, se 'a classificar' forem evitáveis) | J5: =(B14+C14)/F14 -> 0.85714286
A6: ='Dados 2019'!A6 -> 230360 Catarina | B6: ='Dados 2019'!B6+'Dados 2019'!E6+'Dados 2019'!F6+'Dados 2019'!I6 -> 3 | C6: ='Dados 2019'!C6+'Dados 2019'!D6 -> 0 | D6: ='Dados 2019'!G6 -> 0 | E6: ='Dados 2019'!H6 -> 0 | F6: =SUM(B6:E6) -> 3 | G6: =IF(F6=0,"–",B6/F6) -> 1 | I6: Óbitos perinatais (Cap. XVI) entre os evitáveis | J6: ='Dados 2019'!F14/B14 -> 0.8125
A7: ='Dados 2019'!A7 -> 230426 Deputado Irapuan Pinheiro | B7: ='Dados 2019'!B7+'Dados 2019'!E7+'Dados 2019'!F7+'Dados 2019'!I7 -> 1 | C7: ='Dados 2019'!C7+'Dados 2019'!D7 -> 0 | D7: ='Dados 2019'!G7 -> 0 | E7: ='Dados 2019'!H7 -> 0 | F7: =SUM(B7:E7) -> 1 | G7: =IF(F7=0,"–",B7/F7) -> 1 | I7: Participação de Iguatu nos evitáveis | J7: =B8/B14 -> 0.375
A8: ='Dados 2019'!A8 -> 230550 Iguatu | B8: ='Dados 2019'!B8+'Dados 2019'!E8+'Dados 2019'!F8+'Dados 2019'!I8 -> 12 | C8: ='Dados 2019'!C8+'Dados 2019'!D8 -> 0 | D8: ='Dados 2019'!G8 -> 1 | E8: ='Dados 2019'!H8 -> 0 | F8: =SUM(B8:E8) -> 13 | G8: =IF(F8=0,"–",B8/F8) -> 0.92307692
A9: ='Dados 2019'!A9 -> 230740 Jucás | B9: ='Dados 2019'!B9+'Dados 2019'!E9+'Dados 2019'!F9+'Dados 2019'!I9 -> 5 | C9: ='Dados 2019'!C9+'Dados 2019'!D9 -> 2 | D9: ='Dados 2019'!G9 -> 0 | E9: ='Dados 2019'!H9 -> 0 | F9: =SUM(B9:E9) -> 7 | G9: =IF(F9=0,"–",B9/F9) -> 0.71428571
A10: ='Dados 2019'!A10 -> 230850 Mombaça | B10: ='Dados 2019'!B10+'Dados 2019'!E10+'Dados 2019'!F10+'Dados 2019'!I10 -> 1 | C10: ='Dados 2019'!C10+'Dados 2019'!D10 -> 0 | D10: ='Dados 2019'!G10 -> 0 | E10: ='Dados 2019'!H10 -> 0 | F10: =SUM(B10:E10) -> 1 | G10: =IF(F10=0,"–",B10/F10) -> 1
A11: ='Dados 2019'!A11 -> 231090 Piquet Carneiro | B11: ='Dados 2019'!B11+'Dados 2019'!E11+'Dados 2019'!F11+'Dados 2019'!I11 -> 3 | C11: ='Dados 2019'!C11+'Dados 2019'!D11 -> 0 | D11: ='Dados 2019'!G11 -> 0 | E11: ='Dados 2019'!H11 -> 0 | F11: =SUM(B11:E11) -> 3 | G11: =IF(F11=0,"–",B11/F11) -> 1
A12: ='Dados 2019'!A12 -> 231135 Quixelô | B12: ='Dados 2019'!B12+'Dados 2019'!E12+'Dados 2019'!F12+'Dados 2019'!I12 -> 3 | C12: ='Dados 2019'!C12+'Dados 2019'!D12 -> 1 | D12: ='Dados 2019'!G12 -> 2 | E12: ='Dados 2019'!H12 -> 1 | F12: =SUM(B12:E12) -> 7 | G12: =IF(F12=0,"–",B12/F12) -> 0.42857143
A13: ='Dados 2019'!A13 -> 231190 Saboeiro | B13: ='Dados 2019'!B13+'Dados 2019'!E13+'Dados 2019'!F13+'Dados 2019'!I13 -> 0 | C13: ='Dados 2019'!C13+'Dados 2019'!D13 -> 0 | D13: ='Dados 2019'!G13 -> 0 | E13: ='Dados 2019'!H13 -> 0 | F13: =SUM(B13:E13) -> 0 | G13: =IF(F13=0,"–",B13/F13) -> –
A14: Total | B14: =SUM(B4:B13) -> 32 | C14: =SUM(C4:C13) -> 4 | D14: =SUM(D4:D13) -> 5 | E14: =SUM(E4:E13) -> 1 | F14: =SUM(F4:F13) -> 42 | G14: =IF(F14=0,"–",B14/F14) -> 0.76190476
A16: ¹ Evitáveis: Cap. I, X, XVI, XX (infecciosas, respiratório, perinatais e causas externas, conforme presentes no ano).
A17: ² A classificar: Cap. IV, VI — parcialmente evitáveis, dependem do código CID-10.
A18: ³ Não evitáveis (demais causas): Cap. XVII.
A19: ⁴ Mal definidas: Cap. XVIII.
A20: Classificação aproximada por capítulo, com base na Lista Brasileira de Causas de Mortes Evitáveis por Intervenções do SUS (menores de 5 anos, Malta et al.).
A21: Fonte: SIM/DATASUS. Saboeiro não registrou óbitos infantis em 2019 (não aparece na tabulação original).

Sheet Dados 2019
A1: Óbitos em menores de 5 anos por capítulo CID-10, segundo município de residência – 18ª Região de Saúde, 2019
A3: Município de residência | B3: Cap. I | C3: Cap. IV | D3: Cap. VI | E3: Cap. X | F3: Cap. XVI | G3: Cap. XVII | H3: Cap. XVIII | I3: Cap. XX | J3: Total
A4: 230030 Acopiara | B4: 0 | C4: 0 | D4: 1 | E4: 0 | F4: 3 | G4: 1 | H4: 0 | I4: 0 | J4: =SUM(B4:I4) -> 5
A5: 230330 Cariús | B5: 0 | C5: 0 | D5: 0 | E5: 0 | F5: 0 | G5: 1 | H5: 0 | I5: 1 | J5: =SUM(B5:I5) -> 2
A6: 230360 Catarina | B6: 0 | C6: 0 | D6: 0 | E6: 0 | F6: 3 | G6: 0 | H6: 0 | I6: 0 | J6: =SUM(B6:I6) -> 3
A7: 230426 Deputado Irapuan Pinheiro | B7: 0 | C7: 0 | D7: 0 | E7: 0 | F7: 1 | G7: 0 | H7: 0 | I7: 0 | J7: =SUM(B7:I7) -> 1
A8: 230550 Iguatu | B8: 1 | C8: 0 | D8: 0 | E8: 1 | F8: 9 | G8: 1 | H8: 0 | I8: 1 | J8: =SUM(B8:I8) -> 13
A9: 230740 Jucás | B9: 1 | C9: 2 | D9: 0 | E9: 1 | F9: 3 | G9: 0 | H9: 0 | I9: 0 | J9: =SUM(B9:I9) -> 7
A10: 230850 Mombaça | B10: 0 | C10: 0 | D10: 0 | E10: 0 | F10: 1 | G10: 0 | H10: 0 | I10: 0 | J10: =SUM(B10:I10) -> 1
A11: 231090 Piquet Carneiro | B11: 0 | C11: 0 | D11: 0 | E11: 0 | F11: 3 | G11: 0 | H11: 0 | I11: 0 | J11: =SUM(B11:I11) -> 3
A12: 231135 Quixelô | B12: 0 | C12: 0 | D12: 1 | E12: 0 | F12: 3 | G12: 2 | H12: 1 | I12: 0 | J12: =SUM(B12:I12) -> 7
A13: 231190 Saboeiro | B13: 0 | C13: 0 | D13: 0 | E13: 0 | F13: 0 | G13: 0 | H13: 0 | I13: 0 | J13: =SUM(B13:I13) -> 0
A14: Total | B14: =SUM(B4:B13) -> 2 | C14: =SUM(C4:C13) -> 2 | D14: =SUM(D4:D13) -> 2 | E14: =SUM(E4:E13) -> 2 | F14: =SUM(F4:F13) -> 26 | G14: =SUM(G4:G13) -> 5 | H14: =SUM(H4:H13) -> 1 | I14: =SUM(I4:I13) -> 2 | J14: =SUM(J4:J13) -> 42
A16: Fonte: SIM/DATASUS (tabulação informada pela usuária). Saboeiro não registrou óbitos infantis em 2019 (não aparece na tabulação original).
A17: Valores em azul são dados de entrada; totais calculados por fórmula.

Sheet Evitabilidade 2020
A1: Óbitos em menores de 5 anos por evitabilidade, segundo município de residência – 18ª Região de Saúde (Iguatu), 2020
A3: Município de residência | B3: Evitáveis¹ | C3: A classificar² | D3: Não evitáveis³ | E3: Mal definidas⁴ | F3: Total | G3: % Evitáveis | I3: Indicadores regionais
A4: ='Dados 2020'!A4 -> 230030 Acopiara | B4: ='Dados 2020'!B4+'Dados 2020'!G4+'Dados 2020'!H4 -> 8 | C4: ='Dados 2020'!D4+'Dados 2020'!E4 -> 1 | D4: ='Dados 2020'!C4+'Dados 2020'!F4+'Dados 2020'!I4 -> 2 | E4: ='Dados 2020'!J4 -> 1 | F4: =SUM(B4:E4) -> 12 | G4: =IF(F4=0,"–",B4/F4) -> 0.66666667 | I4: % evitáveis (mínimo) | J4: =B14/F14 -> 0.76
A5: ='Dados 2020'!A5 -> 230330 Cariús | B5: ='Dados 2020'!B5+'Dados 2020'!G5+'Dados 2020'!H5 -> 2 | C5: ='Dados 2020'!D5+'Dados 2020'!E5 -> 0 | D5: ='Dados 2020'!C5+'Dados 2020'!F5+'Dados 2020'!I5 -> 0 | E5: ='Dados 2020'!J5 -> 1 | F5: =SUM(B5:E5) -> 3 | G5: =IF(F5=0,"–",B5/F5) -> 0.66666667 | I5: % evitáveis (máximo, se 'a classificar' forem evitáveis) | J5: =(B14+C14)/F14 -> 0.8
A6: ='Dados 2020'!A6 -> 230360 Catarina | B6: ='Dados 2020'!B6+'Dados 2020'!G6+'Dados 2020'!H6 -> 1 | C6: ='Dados 2020'!D6+'Dados 2020'!E6 -> 0 | D6: ='Dados 2020'!C6+'Dados 2020'!F6+'Dados 2020'!I6 -> 1 | E6: ='Dados 2020'!J6 -> 0 | F6: =SUM(B6:E6) -> 2 | G6: =IF(F6=0,"–",B6/F6) -> 0.5 | I6: Óbitos perinatais (Cap. XVI) entre os evitáveis | J6: ='Dados 2020'!H14/B14 -> 0.76315789
A7: ='Dados 2020'!A7 -> 230426 Deputado Irapuan Pinheiro | B7: ='Dados 2020'!B7+'Dados 2020'!G7+'Dados 2020'!H7 -> 0 | C7: ='Dados 2020'!D7+'Dados 2020'!E7 -> 0 | D7: ='Dados 2020'!C7+'Dados 2020'!F7+'Dados 2020'!I7 -> 0 | E7: ='Dados 2020'!J7 -> 0 | F7: =SUM(B7:E7) -> 0 | G7: =IF(F7=0,"–",B7/F7) -> – | I7: Participação de Iguatu nos evitáveis | J7: =B8/B14 -> 0.34210526
A8: ='Dados 2020'!A8 -> 230550 Iguatu | B8: ='Dados 2020'!B8+'Dados 2020'!G8+'Dados 2020'!H8 -> 13 | C8: ='Dados 2020'!D8+'Dados 2020'!E8 -> 0 | D8: ='Dados 2020'!C8+'Dados 2020'!F8+'Dados 2020'!I8 -> 2 | E8: ='Dados 2020'!J8 -> 0 | F8: =SUM(B8:E8) -> 15 | G8: =IF(F8=0,"–",B8/F8) -> 0.86666667
A9: ='Dados 2020'!A9 -> 230740 Jucás | B9: ='Dados 2020'!B9+'Dados 2020'!G9+'Dados 2020'!H9 -> 1 | C9: ='Dados 2020'!D9+'Dados 2020'!E9 -> 0 | D9: ='Dados 2020'!C9+'Dados 2020'!F9+'Dados 2020'!I9 -> 1 | E9: ='Dados 2020'!J9 -> 0 | F9: =SUM(B9:E9) -> 2 | G9: =IF(F9=0,"–",B9/F9) -> 0.5
A10: ='Dados 2020'!A10 -> 230850 Mombaça | B10: ='Dados 2020'!B10+'Dados 2020'!G10+'Dados 2020'!H10 -> 5 | C10: ='Dados 2020'!D10+'Dados 2020'!E10 -> 1 | D10: ='Dados 2020'!C10+'Dados 2020'!F10+'Dados 2020'!I10 -> 0 | E10: ='Dados 2020'!J10 -> 0 | F10: =SUM(B10:E10) -> 6 | G10: =IF(F10=0,"–",B10/F10) -> 0.83333333
A11: ='Dados 2020'!A11 -> 231090 Piquet Carneiro | B11: ='Dados 2020'!B11+'Dados 2020'!G11+'Dados 2020'!H11 -> 3 | C11: ='Dados 2020'!D11+'Dados 2020'!E11 -> 0 | D11: ='Dados 2020'!C11+'Dados 2020'!F11+'Dados 2020'!I11 -> 0 | E11: ='Dados 2020'!J11 -> 0 | F11: =SUM(B11:E11) -> 3 | G11: =IF(F11=0,"–",B11/F11) -> 1
A12: ='Dados 2020'!A12 -> 231135 Quixelô | B12: ='Dados 2020'!B12+'Dados 2020'!G12+'Dados 2020'!H12 -> 4 | C12: ='Dados 2020'!D12+'Dados 2020'!E12 -> 0 | D12: ='Dados 2020'!C12+'Dados 2020'!F12+'Dados 2020'!I12 -> 2 | E12: ='Dados 2020'!J12 -> 0 | F12: =SUM(B12:E12) -> 6 | G12: =IF(F12=0,"–",B12/F12) -> 0.66666667
A13: ='Dados 2020'!A13 -> 231190 Saboeiro | B13: ='Dados 2020'!B13+'Dados 2020'!G13+'Dados 2020'!H13 -> 1 | C13: ='Dados 2020'!D13+'Dados 2020'!E13 -> 0 | D13: ='Dados 2020'!C13+'Dados 2020'!F13+'Dados 2020'!I13 -> 0 | E13: ='Dados 2020'!J13 -> 0 | F13: =SUM(B13:E13) -> 1 | G13: =IF(F13=0,"–",B13/F13) -> 1
A14: Total | B14: =SUM(B4:B13) -> 38 | C14: =SUM(C4:C13) -> 2 | D14: =SUM(D4:D13) -> 8 | E14: =SUM(E4:E13) -> 2 | F14: =SUM(F4:F13) -> 50 | G14: =IF(F14=0,"–",B14/F14) -> 0.76
A16: ¹ Evitáveis: Cap. I, X, XVI (infecciosas, respiratório, perinatais e causas externas, conforme presentes no ano).
A17: ² A classificar: Cap. III, VI — parcialmente evitáveis, dependem do código CID-10.
A18: ³ Não evitáveis (demais causas): Cap. II, IX, XVII — maioria dos códigos dos Cap. IX e XI não é evitável.
A19: ⁴ Mal definidas: Cap. XVIII.
A20: Classificação aproximada por capítulo, com base na Lista Brasileira de Causas de Mortes Evitáveis por Intervenções do SUS (menores de 5 anos, Malta et al.).
A21: Fonte: SIM/DATASUS. Deputado Irapuan Pinheiro não registrou óbitos infantis em 2020 (não aparece na tabulação original).

Sheet Dados 2020
A1: Óbitos em menores de 5 anos por capítulo CID-10, segundo município de residência – 18ª Região de Saúde, 2020
A3: Município de residência | B3: Cap. I | C3: Cap. II | D3: Cap. III | E3: Cap. VI | F3: Cap. IX | G3: Cap. X | H3: Cap. XVI | I3: Cap. XVII | J3: Cap. XVIII | K3: Total
A4: 230030 Acopiara | B4: 2 | C4: 0 | D4: 1 | E4: 0 | F4: 0 | G4: 0 | H4: 6 | I4: 2 | J4: 1 | K4: =SUM(B4:J4) -> 12
A5: 230330 Cariús | B5: 0 | C5: 0 | D5: 0 | E5: 0 | F5: 0 | G5: 0 | H5: 2 | I5: 0 | J5: 1 | K5: =SUM(B5:J5) -> 3
A6: 230360 Catarina | B6: 0 | C6: 0 | D6: 0 | E6: 0 | F6: 0 | G6: 1 | H6: 0 | I6: 1 | J6: 0 | K6: =SUM(B6:J6) -> 2
A7: 230426 Deputado Irapuan Pinheiro | B7: 0 | C7: 0 | D7: 0 | E7: 0 | F7: 0 | G7: 0 | H7: 0 | I7: 0 | J7: 0 | K7: =SUM(B7:J7) -> 0
A8: 230550 Iguatu | B8: 2 | C8: 0 | D8: 0 | E8: 0 | F8: 1 | G8: 0 | H8: 11 | I8: 1 | J8: 0 | K8: =SUM(B8:J8) -> 15
A9: 230740 Jucás | B9: 0 | C9: 0 | D9: 0 | E9: 0 | F9: 0 | G9: 0 | H9: 1 | I9: 1 | J9: 0 | K9: =SUM(B9:J9) -> 2
A10: 230850 Mombaça | B10: 1 | C10: 0 | D10: 0 | E10: 1 | F10: 0 | G10: 1 | H10: 3 | I10: 0 | J10: 0 | K10: =SUM(B10:J10) -> 6
A11: 231090 Piquet Carneiro | B11: 1 | C11: 0 | D11: 0 | E11: 0 | F11: 0 | G11: 0 | H11: 2 | I11: 0 | J11: 0 | K11: =SUM(B11:J11) -> 3
A12: 231135 Quixelô | B12: 1 | C12: 1 | D12: 0 | E12: 0 | F12: 0 | G12: 0 | H12: 3 | I12: 1 | J12: 0 | K12: =SUM(B12:J12) -> 6
A13: 231190 Saboeiro | B13: 0 | C13: 0 | D13: 0 | E13: 0 | F13: 0 | G13: 0 | H13: 1 | I13: 0 | J13: 0 | K13: =SUM(B13:J13) -> 1
A14: Total | B14: =SUM(B4:B13) -> 7 | C14: =SUM(C4:C13) -> 1 | D14: =SUM(D4:D13) -> 1 | E14: =SUM(E4:E13) -> 1 | F14: =SUM(F4:F13) -> 1 | G14: =SUM(G4:G13) -> 2 | H14: =SUM(H4:H13) -> 29 | I14: =SUM(I4:I13) -> 6 | ... K14: =SUM(K4:K13) -> 50
A16: Fonte: SIM/DATASUS (tabulação informada pela usuária). Deputado Irapuan Pinheiro não registrou óbitos infantis em 2020 (não aparece na tabulação original).
A17: Valores em azul são dados de entrada; totais calculados por fórmula.

Sheet Evitabilidade 2021
A1: Óbitos em menores de 5 anos por evitabilidade, segundo município de residência – 18ª Região de Saúde (Iguatu), 2021
A3: Município de residência | B3: Evitáveis¹ | C3: A classificar² | D3: Não evitáveis³ | E3: Mal definidas⁴ | F3: Total | G3: % Evitáveis | I3: Indicadores regionais
A4: ='Dados 2021'!A4 -> 230030 Acopiara | B4: ='Dados 2021'!B4+'Dados 2021'!F4+'Dados 2021'!H4+'Dados 2021'!J4 -> 6 | C4: ='Dados 2021'!C4+'Dados 2021'!D4 -> 1 | D4: ='Dados 2021'!E4+'Dados 2021'!G4+'Dados 2021'!I4 -> 1 | E4: =0 -> 0 | F4: =SUM(B4:E4) -> 8 | G4: =IF(F4=0,"–",B4/F4) -> 0.75 | I4: % evitáveis (mínimo) | J4: =B14/F14 -> 0.81632653
A5: ='Dados 2021'!A5 -> 230330 Cariús | B5: ='Dados 2021'!B5+'Dados 2021'!F5+'Dados 2021'!H5+'Dados 2021'!J5 -> 3 | C5: ='Dados 2021'!C5+'Dados 2021'!D5 -> 0 | D5: ='Dados 2021'!E5+'Dados 2021'!G5+'Dados 2021'!I5 -> 0 | E5: =0 -> 0 | F5: =SUM(B5:E5) -> 3 | G5: =IF(F5=0,"–",B5/F5) -> 1 | I5: % evitáveis (máximo, se 'a classificar' forem evitáveis) | J5: =(B14+C14)/F14 -> 0.85714286
A6: ='Dados 2021'!A6 -> 230360 Catarina | B6: ='Dados 2021'!B6+'Dados 2021'!F6+'Dados 2021'!H6+'Dados 2021'!J6 -> 1 | C6: ='Dados 2021'!C6+'Dados 2021'!D6 -> 0 | D6: ='Dados 2021'!E6+'Dados 2021'!G6+'Dados 2021'!I6 -> 0 | E6: =0 -> 0 | F6: =SUM(B6:E6) -> 1 | G6: =IF(F6=0,"–",B6/F6) -> 1 | I6: Óbitos perinatais (Cap. XVI) entre os evitáveis | J6: ='Dados 2021'!H14/B14 -> 0.75
A7: ='Dados 2021'!A7 -> 230426 Deputado Irapuan Pinheiro | B7: ='Dados 2021'!B7+'Dados 2021'!F7+'Dados 2021'!H7+'Dados 2021'!J7 -> 2 | C7: ='Dados 2021'!C7+'Dados 2021'!D7 -> 0 | D7: ='Dados 2021'!E7+'Dados 2021'!G7+'Dados 2021'!I7 -> 1 | E7: =0 -> 0 | F7: =SUM(B7:E7) -> 3 | G7: =IF(F7=0,"–",B7/F7) -> 0.66666667 | I7: Participação de Iguatu nos evitáveis | J7: =B8/B14 -> 0.35
A8: ='Dados 2021'!A8 -> 230550 Iguatu | B8: ='Dados 2021'!B8+'Dados 2021'!F8+'Dados 2021'!H8+'Dados 2021'!J8 -> 14 | C8: ='Dados 2021'!C8+'Dados 2021'!D8 -> 0 | D8: ='Dados 2021'!E8+'Dados 2021'!G8+'Dados 2021'!I8 -> 3 | E8: =0 -> 0 | F8: =SUM(B8:E8) -> 17 | G8: =IF(F8=0,"–",B8/F8) -> 0.82352941
A9: ='Dados 2021'!A9 -> 230740 Jucás | B9: ='Dados 2021'!B9+'Dados 2021'!F9+'Dados 2021'!H9+'Dados 2021'!J9 -> 5 | C9: ='Dados 2021'!C9+'Dados 2021'!D9 -> 0 | D9: ='Dados 2021'!E9+'Dados 2021'!G9+'Dados 2021'!I9 -> 1 | E9: =0 -> 0 | F9: =SUM(B9:E9) -> 6 | G9: =IF(F9=0,"–",B9/F9) -> 0.83333333
A10: ='Dados 2021'!A10 -> 230850 Mombaça | B10: ='Dados 2021'!B10+'Dados 2021'!F10+'Dados 2021'!H10+'Dados 2021'!J10 -> 5 | C10: ='Dados 2021'!C10+'Dados 2021'!D10 -> 1 | D10: ='Dados 2021'!E10+'Dados 2021'!G10+'Dados 2021'!I10 -> 1 | E10: =0 -> 0 | F10: =SUM(B10:E10) -> 7 | G10: =IF(F10=0,"–",B10/F10) -> 0.71428571
A11: ='Dados 2021'!A11 -> 231090 Piquet Carneiro | B11: ='Dados 2021'!B11+'Dados 2021'!F11+'Dados 2021'!H11+'Dados 2021'!J11 -> 0 | C11: ='Dados 2021'!C11+'Dados 2021'!D11 -> 0 | D11: ='Dados 2021'!E11+'Dados 2021'!G11+'Dados 2021'!I11 -> 0 | E11: =0 -> 0 | F11: =SUM(B11:E11) -> 0 | G11: =IF(F11=0,"–",B11/F11) -> –
A12: ='Dados 2021'!A12 -> 231135 Quixelô | B12: ='Dados 2021'!B12+'Dados 2021'!F12+'Dados 2021'!H12+'Dados 2021'!J12 -> 3 | C12: ='Dados 2021'!C12+'Dados 2021'!D12 -> 0 | D12: ='Dados 2021'!E12+'Dados 2021'!G12+'Dados 2021'!I12 -> 0 | E12: =0 -> 0 | F12: =SUM(B12:E12) -> 3 | G12: =IF(F12=0,"–",B12/F12) -> 1
A13: ='Dados 2021'!A13 -> 231190 Saboeiro | B13: ='Dados 2021'!B13+'Dados 2021'!F13+'Dados 2021'!H13+'Dados 2021'!J13 -> 1 | C13: ='Dados 2021'!C13+'Dados 2021'!D13 -> 0 | D13: ='Dados 2021'!E13+'Dados 2021'!G13+'Dados 2021'!I13 -> 0 | E13: =0 -> 0 | F13: =SUM(B13:E13) -> 1 | G13: =IF(F13=0,"–",B13/F13) -> 1
A14: Total | B14: =SUM(B4:B13) -> 40 | C14: =SUM(C4:C13) -> 2 | D14: =SUM(D4:D13) -> 7 | E14: =SUM(E4:E13) -> 0 | F14: =SUM(F4:F13) -> 49 | G14: =IF(F14=0,"–",B14/F14) -> 0.81632653
A16: ¹ Evitáveis: Cap. I, X, XVI, XX (infecciosas, respiratório, perinatais e causas externas, conforme presentes no ano).
A17: ² A classificar: Cap. III, VI — parcialmente evitáveis, dependem do código CID-10.
A18: ³ Não evitáveis (demais causas): Cap. IX, XI, XVII — maioria dos códigos dos Cap. IX e XI não é evitável.
A19: ⁴ Mal definidas: Cap. —.
A20: Classificação aproximada por capítulo, com base na Lista Brasileira de Causas de Mortes Evitáveis por Intervenções do SUS (menores de 5 anos, Malta et al.).
A21: Fonte: SIM/DATASUS. Piquet Carneiro não registrou óbitos infantis em 2021 (não aparece na tabulação original).

Sheet Dados 2021
A1: Óbitos em menores de 5 anos por capítulo CID-10, segundo município de residência – 18ª Região de Saúde, 2021
A3: Município de residência | B3: Cap. I | C3: Cap. III | D3: Cap. VI | E3: Cap. IX | F3: Cap. X | G3: Cap. XI | H3: Cap. XVI | I3: Cap. XVII | J3: Cap. XX | K3: Total
A4: 230030 Acopiara | B4: 0 | C4: 1 | D4: 0 | E4: 0 | F4: 0 | G4: 0 | H4: 5 | I4: 1 | J4: 1 | K4: =SUM(B4:J4) -> 8
A5: 230330 Cariús | B5: 1 | C5: 0 | D5: 0 | E5: 0 | F5: 0 | G5: 0 | H5: 2 | I5: 0 | J5: 0 | K5: =SUM(B5:J5) -> 3
A6: 230360 Catarina | B6: 0 | C6: 0 | D6: 0 | E6: 0 | F6: 0 | G6: 0 | H6: 1 | I6: 0 | J6: 0 | K6: =SUM(B6:J6) -> 1
A7: 230426 Deputado Irapuan Pinheiro | B7: 0 | C7: 0 | D7: 0 | E7: 0 | F7: 0 | G7: 1 | H7: 2 | I7: 0 | J7: 0 | K7: =SUM(B7:J7) -> 3
A8: 230550 Iguatu | B8: 0 | C8: 0 | D8: 0 | E8: 2 | F8: 2 | G8: 0 | H8: 12 | I8: 1 | J8: 0 | K8: =SUM(B8:J8) -> 17
A9: 230740 Jucás | B9: 1 | C9: 0 | D9: 0 | E9: 0 | F9: 0 | G9: 0 | H9: 2 | I9: 1 | J9: 2 | K9: =SUM(B9:J9) -> 6
A10: 230850 Mombaça | B10: 1 | C10: 0 | D10: 1 | E10: 0 | F10: 0 | G10: 0 | H10: 4 | I10: 1 | J10: 0 | K10: =SUM(B10:J10) -> 7
A11: 231090 Piquet Carneiro | B11: 0 | C11: 0 | D11: 0 | E11: 0 | F11: 0 | G11: 0 | H11: 0 | I11: 0 | J11: 0 | K11: =SUM(B11:J11) -> 0
A12: 231135 Quixelô | B12: 1 | C12: 0 | D12: 0 | E12: 0 | F12: 0 | G12: 0 | H12: 1 | I12: 0 | J12: 1 | K12: =SUM(B12:J12) -> 3
A13: 231190 Saboeiro | B13: 0 | C13: 0 | D13: 0 | E13: 0 | F13: 0 | G13: 0 | H13: 1 | I13: 0 | J13: 0 | K13: =SUM(B13:J13) -> 1
A14: Total | B14: =SUM(B4:B13) -> 4 | C14: =SUM(C4:C13) -> 1 | D14: =SUM(D4:D13) -> 1 | E14: =SUM(E4:E13) -> 2 | F14: =SUM(F4:F13) -> 2 | G14: =SUM(G4:G13) -> 1 | H14: =SUM(H4:H13) -> 30 | I14: =SUM(I4:I13) -> 4 | ... K14: =SUM(K4:K13) -> 49
A16: Fonte: SIM/DATASUS (tabulação informada pela usuária). Piquet Carneiro não registrou óbitos infantis em 2021 (não aparece na tabulação original).
A17: Valores em azul são dados de entrada; totais calculados por fórmula.

Sheet Evitabilidade 2022
A1: Óbitos em menores de 5 anos por evitabilidade, segundo município de residência – 18ª Região de Saúde (Iguatu), 2022
A3: Município de residência | B3: Evitáveis¹ | C3: A classificar² | D3: Não evitáveis³ | E3: Mal definidas⁴ | F3: Total | G3: % Evitáveis | I3: Indicadores regionais
A4: ='Dados 2022'!A4 -> 230030 Acopiara | B4: ='Dados 2022'!B4+'Dados 2022'!D4+'Dados 2022'!F4+'Dados 2022'!I4 -> 7 | C4: ='Dados 2022'!C4+'Dados 2022'!E4 -> 0 | D4: ='Dados 2022'!G4 -> 0 | E4: ='Dados 2022'!H4 -> 1 | F4: =SUM(B4:E4) -> 8 | G4: =IF(F4=0,"–",B4/F4) -> 0.875 | I4: % evitáveis (mínimo) | J4: =B14/F14 -> 0.79545455
A5: ='Dados 2022'!A5 -> 230330 Cariús | B5: ='Dados 2022'!B5+'Dados 2022'!D5+'Dados 2022'!F5+'Dados 2022'!I5 -> 1 | C5: ='Dados 2022'!C5+'Dados 2022'!E5 -> 0 | D5: ='Dados 2022'!G5 -> 0 | E5: ='Dados 2022'!H5 -> 0 | F5: =SUM(B5:E5) -> 1 | G5: =IF(F5=0,"–",B5/F5) -> 1 | I5: % evitáveis (máximo, se 'a classificar' forem evitáveis) | J5: =(B14+C14)/F14 -> 0.86363636
A6: ='Dados 2022'!A6 -> 230360 Catarina | B6: ='Dados 2022'!B6+'Dados 2022'!D6+'Dados 2022'!F6+'Dados 2022'!I6 -> 2 | C6: ='Dados 2022'!C6+'Dados 2022'!E6 -> 0 | D6: ='Dados 2022'!G6 -> 0 | E6: ='Dados 2022'!H6 -> 0 | F6: =SUM(B6:E6) -> 2 | G6: =IF(F6=0,"–",B6/F6) -> 1 | I6: Óbitos perinatais (Cap. XVI) entre os evitáveis | J6: ='Dados 2022'!F14/B14 -> 0.77142857
A7: ='Dados 2022'!A7 -> 230426 Deputado Irapuan Pinheiro | B7: ='Dados 2022'!B7+'Dados 2022'!D7+'Dados 2022'!F7+'Dados 2022'!I7 -> 1 | C7: ='Dados 2022'!C7+'Dados 2022'!E7 -> 0 | D7: ='Dados 2022'!G7 -> 0 | E7: ='Dados 2022'!H7 -> 0 | F7: =SUM(B7:E7) -> 1 | G7: =IF(F7=0,"–",B7/F7) -> 1 | I7: Participação de Iguatu nos evitáveis | J7: =B8/B14 -> 0.31428571
A8: ='Dados 2022'!A8 -> 230550 Iguatu | B8: ='Dados 2022'!B8+'Dados 2022'!D8+'Dados 2022'!F8+'Dados 2022'!I8 -> 11 | C8: ='Dados 2022'!C8+'Dados 2022'!E8 -> 0 | D8: ='Dados 2022'!G8 -> 2 | E8: ='Dados 2022'!H8 -> 0 | F8: =SUM(B8:E8) -> 13 | G8: =IF(F8=0,"–",B8/F8) -> 0.84615385
A9: ='Dados 2022'!A9 -> 230740 Jucás | B9: ='Dados 2022'!B9+'Dados 2022'!D9+'Dados 2022'!F9+'Dados 2022'!I9 -> 1 | C9: ='Dados 2022'!C9+'Dados 2022'!E9 -> 0 | D9: ='Dados 2022'!G9 -> 1 | E9: ='Dados 2022'!H9 -> 0 | F9: =SUM(B9:E9) -> 2 | G9: =IF(F9=0,"–",B9/F9) -> 0.5
A10: ='Dados 2022'!A10 -> 230850 Mombaça | B10: ='Dados 2022'!B10+'Dados 2022'!D10+'Dados 2022'!F10+'Dados 2022'!I10 -> 6 | C10: ='Dados 2022'!C10+'Dados 2022'!E10 -> 1 | D10: ='Dados 2022'!G10 -> 0 | E10: ='Dados 2022'!H10 -> 0 | F10: =SUM(B10:E10) -> 7 | G10: =IF(F10=0,"–",B10/F10) -> 0.85714286
A11: ='Dados 2022'!A11 -> 231090 Piquet Carneiro | B11: ='Dados 2022'!B11+'Dados 2022'!D11+'Dados 2022'!F11+'Dados 2022'!I11 -> 2 | C11: ='Dados 2022'!C11+'Dados 2022'!E11 -> 1 | D11: ='Dados 2022'!G11 -> 2 | E11: ='Dados 2022'!H11 -> 0 | F11: =SUM(B11:E11) -> 5 | G11: =IF(F11=0,"–",B11/F11) -> 0.4
A12: ='Dados 2022'!A12 -> 231135 Quixelô | B12: ='Dados 2022'!B12+'Dados 2022'!D12+'Dados 2022'!F12+'Dados 2022'!I12 -> 3 | C12: ='Dados 2022'!C12+'Dados 2022'!E12 -> 0 | D12: ='Dados 2022'!G12 -> 0 | E12: ='Dados 2022'!H12 -> 0 | F12: =SUM(B12:E12) -> 3 | G12: =IF(F12=0,"–",B12/F12) -> 1
A13: ='Dados 2022'!A13 -> 231190 Saboeiro | B13: ='Dados 2022'!B13+'Dados 2022'!D13+'Dados 2022'!F13+'Dados 2022'!I13 -> 1 | C13: ='Dados 2022'!C13+'Dados 2022'!E13 -> 1 | D13: ='Dados 2022'!G13 -> 0 | E13: ='Dados 2022'!H13 -> 0 | F13: =SUM(B13:E13) -> 2 | G13: =IF(F13=0,"–",B13/F13) -> 0.5
A14: Total | B14: =SUM(B4:B13) -> 35 | C14: =SUM(C4:C13) -> 3 | D14: =SUM(D4:D13) -> 5 | E14: =SUM(E4:E13) -> 1 | F14: =SUM(F4:F13) -> 44 | G14: =IF(F14=0,"–",B14/F14) -> 0.79545455
A16: ¹ Evitáveis: Cap. I, X, XVI, XX (infecciosas, respiratório, perinatais e causas externas, conforme presentes no ano).
A17: ² A classificar: Cap. VI, XII — parcialmente evitáveis, dependem do código CID-10.
A18: ³ Não evitáveis (demais causas): Cap. XVII.
A19: ⁴ Mal definidas: Cap. XVIII.
A20: Classificação aproximada por capítulo, com base na Lista Brasileira de Causas de Mortes Evitáveis por Intervenções do SUS (menores de 5 anos, Malta et al.).
A21: Fonte: SIM/DATASUS. Todos os municípios registraram óbitos infantis em 2022.

Sheet Dados 2022
A1: Óbitos em menores de 5 anos por capítulo CID-10, segundo município de residência – 18ª Região de Saúde, 2022
A3: Município de residência | B3: Cap. I | C3: Cap. VI | D3: Cap. X | E3: Cap. XII | F3: Cap. XVI | G3: Cap. XVII | H3: Cap. XVIII | I3: Cap. XX | J3: Total
A4: 230030 Acopiara | B4: 2 | C4: 0 | D4: 0 | E4: 0 | F4: 5 | G4: 0 | H4: 1 | I4: 0 | J4: =SUM(B4:I4) -> 8
A5: 230330 Cariús | B5: 0 | C5: 0 | D5: 0 | E5: 0 | F5: 0 | G5: 0 | H5: 0 | I5: 1 | J5: =SUM(B5:I5) -> 1
A6: 230360 Catarina | B6: 0 | C6: 0 | D6: 0 | E6: 0 | F6: 2 | G6: 0 | H6: 0 | I6: 0 | J6: =SUM(B6:I6) -> 2
A7: 230426 Deputado Irapuan Pinheiro | B7: 1 | C7: 0 | D7: 0 | E7: 0 | F7: 0 | G7: 0 | H7: 0 | I7: 0 | J7: =SUM(B7:I7) -> 1
A8: 230550 Iguatu | B8: 0 | C8: 0 | D8: 2 | E8: 0 | F8: 9 | G8: 2 | H8: 0 | I8: 0 | J8: =SUM(B8:I8) -> 13
A9: 230740 Jucás | B9: 0 | C9: 0 | D9: 0 | E9: 0 | F9: 1 | G9: 1 | H9: 0 | I9: 0 | J9: =SUM(B9:I9) -> 2
A10: 230850 Mombaça | B10: 0 | C10: 1 | D10: 0 | E10: 0 | F10: 6 | G10: 0 | H10: 0 | I10: 0 | J10: =SUM(B10:I10) -> 7
A11: 231090 Piquet Carneiro | B11: 0 | C11: 0 | D11: 1 | E11: 1 | F11: 1 | G11: 2 | H11: 0 | I11: 0 | J11: =SUM(B11:I11) -> 5
A12: 231135 Quixelô | B12: 0 | C12: 0 | D12: 0 | E12: 0 | F12: 3 | G12: 0 | H12: 0 | I12: 0 | J12: =SUM(B12:I12) -> 3
A13: 231190 Saboeiro | B13: 1 | C13: 1 | D13: 0 | E13: 0 | F13: 0 | G13: 0 | H13: 0 | I13: 0 | J13: =SUM(B13:I13) -> 2
A14: Total | B14: =SUM(B4:B13) -> 4 | C14: =SUM(C4:C13) -> 2 | D14: =SUM(D4:D13) -> 3 | E14: =SUM(E4:E13) -> 1 | F14: =SUM(F4:F13) -> 27 | G14: =SUM(G4:G13) -> 5 | H14: =SUM(H4:H13) -> 1 | I14: =SUM(I4:I13) -> 1 | J14: =SUM(J4:J13) -> 44
A16: Fonte: SIM/DATASUS (tabulação informada pela usuária). Todos os municípios registraram óbitos infantis em 2022.
A17: Valores em azul são dados de entrada; totais calculados por fórmula.

Sheet Evitabilidade 2023
A1: Óbitos em menores de 5 anos por evitabilidade, segundo município de residência – 18ª Região de Saúde (Iguatu), 2023
A3: Município de residência | B3: Evitáveis¹ | C3: A classificar² | D3: Não evitáveis³ | E3: Mal definidas⁴ | F3: Total | G3: % Evitáveis | I3: Indicadores regionais
A4: ='Dados 2023'!A4 -> 230030 Acopiara | B4: ='Dados 2023'!D4+'Dados 2023'!E4+'Dados 2023'!G4 -> 1 | C4: ='Dados 2023'!B4+'Dados 2023'!C4 -> 1 | D4: ='Dados 2023'!F4 -> 0 | E4: =0 -> 0 | F4: =SUM(B4:E4) -> 2 | G4: =IF(F4=0,"–",B4/F4) -> 0.5 | I4: % evitáveis (mínimo) | J4: =B14/F14 -> 0.85365854
A5: ='Dados 2023'!A5 -> 230330 Cariús | B5: ='Dados 2023'!D5+'Dados 2023'!E5+'Dados 2023'!G5 -> 2 | C5: ='Dados 2023'!B5+'Dados 2023'!C5 -> 0 | D5: ='Dados 2023'!F5 -> 0 | E5: =0 -> 0 | F5: =SUM(B5:E5) -> 2 | G5: =IF(F5=0,"–",B5/F5) -> 1 | I5: % evitáveis (máximo, se 'a classificar' forem evitáveis) | J5: =(B14+C14)/F14 -> 0.90243902
A6: ='Dados 2023'!A6 -> 230360 Catarina | B6: ='Dados 2023'!D6+'Dados 2023'!E6+'Dados 2023'!G6 -> 1 | C6: ='Dados 2023'!B6+'Dados 2023'!C6 -> 0 | D6: ='Dados 2023'!F6 -> 0 | E6: =0 -> 0 | F6: =SUM(B6:E6) -> 1 | G6: =IF(F6=0,"–",B6/F6) -> 1 | I6: Óbitos perinatais (Cap. XVI) entre os evitáveis | J6: ='Dados 2023'!E14/B14 -> 0.82857143
A7: ='Dados 2023'!A7 -> 230426 Deputado Irapuan Pinheiro | B7: ='Dados 2023'!D7+'Dados 2023'!E7+'Dados 2023'!G7 -> 1 | C7: ='Dados 2023'!B7+'Dados 2023'!C7 -> 0 | D7: ='Dados 2023'!F7 -> 0 | E7: =0 -> 0 | F7: =SUM(B7:E7) -> 1 | G7: =IF(F7=0,"–",B7/F7) -> 1 | I7: Participação de Iguatu nos evitáveis | J7: =B8/B14 -> 0.42857143
A8: ='Dados 2023'!A8 -> 230550 Iguatu | B8: ='Dados 2023'!D8+'Dados 2023'!E8+'Dados 2023'!G8 -> 15 | C8: ='Dados 2023'!B8+'Dados 2023'!C8 -> 1 | D8: ='Dados 2023'!F8 -> 0 | E8: =0 -> 0 | F8: =SUM(B8:E8) -> 16 | G8: =IF(F8=0,"–",B8/F8) -> 0.9375
A9: ='Dados 2023'!A9 -> 230740 Jucás | B9: ='Dados 2023'!D9+'Dados 2023'!E9+'Dados 2023'!G9 -> 6 | C9: ='Dados 2023'!B9+'Dados 2023'!C9 -> 0 | D9: ='Dados 2023'!F9 -> 1 | E9: =0 -> 0 | F9: =SUM(B9:E9) -> 7 | G9: =IF(F9=0,"–",B9/F9) -> 0.85714286
A10: ='Dados 2023'!A10 -> 230850 Mombaça | B10: ='Dados 2023'!D10+'Dados 2023'!E10+'Dados 2023'!G10 -> 3 | C10: ='Dados 2023'!B10+'Dados 2023'!C10 -> 0 | D10: ='Dados 2023'!F10 -> 2 | E10: =0 -> 0 | F10: =SUM(B10:E10) -> 5 | G10: =IF(F10=0,"–",B10/F10) -> 0.6
A11: ='Dados 2023'!A11 -> 231090 Piquet Carneiro | B11: ='Dados 2023'!D11+'Dados 2023'!E11+'Dados 2023'!G11 -> 1 | C11: ='Dados 2023'!B11+'Dados 2023'!C11 -> 0 | D11: ='Dados 2023'!F11 -> 1 | E11: =0 -> 0 | F11: =SUM(B11:E11) -> 2 | G11: =IF(F11=0,"–",B11/F11) -> 0.5
A12: ='Dados 2023'!A12 -> 231135 Quixelô | B12: ='Dados 2023'!D12+'Dados 2023'!E12+'Dados 2023'!G12 -> 4 | C12: ='Dados 2023'!B12+'Dados 2023'!C12 -> 0 | D12: ='Dados 2023'!F12 -> 0 | E12: =0 -> 0 | F12: =SUM(B12:E12) -> 4 | G12: =IF(F12=0,"–",B12/F12) -> 1
A13: ='Dados 2023'!A13 -> 231190 Saboeiro | B13: ='Dados 2023'!D13+'Dados 2023'!E13+'Dados 2023'!G13 -> 1 | C13: ='Dados 2023'!B13+'Dados 2023'!C13 -> 0 | D13: ='Dados 2023'!F13 -> 0 | E13: =0 -> 0 | F13: =SUM(B13:E13) -> 1 | G13: =IF(F13=0,"–",B13/F13) -> 1
A14: Total | B14: =SUM(B4:B13) -> 35 | C14: =SUM(C4:C13) -> 2 | D14: =SUM(D4:D13) -> 4 | E14: =SUM(E4:E13) -> 0 | F14: =SUM(F4:F13) -> 41 | G14: =IF(F14=0,"–",B14/F14) -> 0.85365854
A16: ¹ Evitáveis: Cap. X, XVI, XX (infecciosas, respiratório, perinatais e causas externas, conforme presentes no ano).
A17: ² A classificar: Cap. III, VI — parcialmente evitáveis, dependem do código CID-10.
A18: ³ Não evitáveis (demais causas): Cap. XVII.
A19: ⁴ Mal definidas: Cap. —.
A20: Classificação aproximada por capítulo, com base na Lista Brasileira de Causas de Mortes Evitáveis por Intervenções do SUS (menores de 5 anos, Malta et al.).
A21: Fonte: SIM/DATASUS. Todos os municípios registraram óbitos infantis em 2023.

Sheet Dados 2023
A1: Óbitos em menores de 5 anos por capítulo CID-10, segundo município de residência – 18ª Região de Saúde, 2023
A3: Município de residência | B3: Cap. III | C3: Cap. VI | D3: Cap. X | E3: Cap. XVI | F3: Cap. XVII | G3: Cap. XX | H3: Total
A4: 230030 Acopiara | B4: 1 | C4: 0 | D4: 0 | E4: 1 | F4: 0 | G4: 0 | H4: =SUM(B4:G4) -> 2
A5: 230330 Cariús | B5: 0 | C5: 0 | D5: 0 | E5: 2 | F5: 0 | G5: 0 | H5: =SUM(B5:G5) -> 2
A6: 230360 Catarina | B6: 0 | C6: 0 | D6: 1 | E6: 0 | F6: 0 | G6: 0 | H6: =SUM(B6:G6) -> 1
A7: 230426 Deputado Irapuan Pinheiro | B7: 0 | C7: 0 | D7: 0 | E7: 1 | F7: 0 | G7: 0 | H7: =SUM(B7:G7) -> 1
A8: 230550 Iguatu | B8: 0 | C8: 1 | D8: 3 | E8: 11 | F8: 0 | G8: 1 | H8: =SUM(B8:G8) -> 16
A9: 230740 Jucás | B9: 0 | C9: 0 | D9: 1 | E9: 5 | F9: 1 | G9: 0 | H9: =SUM(B9:G9) -> 7
A10: 230850 Mombaça | B10: 0 | C10: 0 | D10: 0 | E10: 3 | F10: 2 | G10: 0 | H10: =SUM(B10:G10) -> 5
A11: 231090 Piquet Carneiro | B11: 0 | C11: 0 | D11: 0 | E11: 1 | F11: 1 | G11: 0 | H11: =SUM(B11:G11) -> 2
A12: 231135 Quixelô | B12: 0 | C12: 0 | D12: 0 | E12: 4 | F12: 0 | G12: 0 | H12: =SUM(B12:G12) -> 4
A13: 231190 Saboeiro | B13: 0 | C13: 0 | D13: 0 | E13: 1 | F13: 0 | G13: 0 | H13: =SUM(B13:G13) -> 1
A14: Total | B14: =SUM(B4:B13) -> 1 | C14: =SUM(C4:C13) -> 1 | D14: =SUM(D4:D13) -> 5 | E14: =SUM(E4:E13) -> 29 | F14: =SUM(F4:F13) -> 4 | G14: =SUM(G4:G13) -> 1 | H14: =SUM(H4:H13) -> 41
A16: Fonte: SIM/DATASUS (tabulação informada pela usuária). Todos os municípios registraram óbitos infantis em 2023.
A17: Valores em azul são dados de entrada; totais calculados por fórmula.

Sheet Evitabilidade 2024
A1: Óbitos em menores de 5 anos por evitabilidade, segundo município de residência – 18ª Região de Saúde (Iguatu), 2024
A3: Município de residência | B3: Evitáveis¹ | C3: A classificar² | D3: Não evitáveis³ | E3: Mal definidas⁴ | F3: Total | G3: % Evitáveis | I3: Indicadores regionais
A4: ='Dados 2024'!A4 -> 230030 Acopiara | B4: ='Dados 2024'!B4+'Dados 2024'!D4+'Dados 2024'!E4+'Dados 2024'!H4 -> 7 | C4: ='Dados 2024'!C4 -> 0 | D4: ='Dados 2024'!F4 -> 2 | E4: ='Dados 2024'!G4 -> 0 | F4: =SUM(B4:E4) -> 9 | G4: =IF(F4=0,"–",B4/F4) -> 0.77777778 | I4: % evitáveis (mínimo) | J4: =B14/F14 -> 0.57894737
A5: ='Dados 2024'!A5 -> 230330 Cariús | B5: ='Dados 2024'!B5+'Dados 2024'!D5+'Dados 2024'!E5+'Dados 2024'!H5 -> 1 | C5: ='Dados 2024'!C5 -> 1 | D5: ='Dados 2024'!F5 -> 0 | E5: ='Dados 2024'!G5 -> 0 | F5: =SUM(B5:E5) -> 2 | G5: =IF(F5=0,"–",B5/F5) -> 0.5 | I5: % evitáveis (máximo, se 'a classificar' forem evitáveis) | J5: =(B14+C14)/F14 -> 0.63157895
A6: ='Dados 2024'!A6 -> 230360 Catarina | B6: ='Dados 2024'!B6+'Dados 2024'!D6+'Dados 2024'!E6+'Dados 2024'!H6 -> 0 | C6: ='Dados 2024'!C6 -> 0 | D6: ='Dados 2024'!F6 -> 0 | E6: ='Dados 2024'!G6 -> 0 | F6: =SUM(B6:E6) -> 0 | G6: =IF(F6=0,"–",B6/F6) -> – | I6: Óbitos perinatais (Cap. XVI) entre os evitáveis | J6: ='Dados 2024'!E14/B14 -> 0.68181818
A7: ='Dados 2024'!A7 -> 230426 Deputado Irapuan Pinheiro | B7: ='Dados 2024'!B7+'Dados 2024'!D7+'Dados 2024'!E7+'Dados 2024'!H7 -> 0 | C7: ='Dados 2024'!C7 -> 0 | D7: ='Dados 2024'!F7 -> 1 | E7: ='Dados 2024'!G7 -> 0 | F7: =SUM(B7:E7) -> 1 | G7: =IF(F7=0,"–",B7/F7) -> 0 | I7: Participação de Iguatu nos evitáveis | J7: =B8/B14 -> 0.31818182
A8: ='Dados 2024'!A8 -> 230550 Iguatu | B8: ='Dados 2024'!B8+'Dados 2024'!D8+'Dados 2024'!E8+'Dados 2024'!H8 -> 7 | C8: ='Dados 2024'!C8 -> 1 | D8: ='Dados 2024'!F8 -> 4 | E8: ='Dados 2024'!G8 -> 0 | F8: =SUM(B8:E8) -> 12 | G8: =IF(F8=0,"–",B8/F8) -> 0.58333333
A9: ='Dados 2024'!A9 -> 230740 Jucás | B9: ='Dados 2024'!B9+'Dados 2024'!D9+'Dados 2024'!E9+'Dados 2024'!H9 -> 4 | C9: ='Dados 2024'!C9 -> 0 | D9: ='Dados 2024'!F9 -> 1 | E9: ='Dados 2024'!G9 -> 0 | F9: =SUM(B9:E9) -> 5 | G9: =IF(F9=0,"–",B9/F9) -> 0.8
A10: ='Dados 2024'!A10 -> 230850 Mombaça | B10: ='Dados 2024'!B10+'Dados 2024'!D10+'Dados 2024'!E10+'Dados 2024'!H10 -> 1 | C10: ='Dados 2024'!C10 -> 0 | D10: ='Dados 2024'!F10 -> 4 | E10: ='Dados 2024'!G10 -> 1 | F10: =SUM(B10:E10) -> 6 | G10: =IF(F10=0,"–",B10/F10) -> 0.16666667
A11: ='Dados 2024'!A11 -> 231090 Piquet Carneiro | B11: ='Dados 2024'!B11+'Dados 2024'!D11+'Dados 2024'!E11+'Dados 2024'!H11 -> 0 | C11: ='Dados 2024'!C11 -> 0 | D11: ='Dados 2024'!F11 -> 1 | E11: ='Dados 2024'!G11 -> 0 | F11: =SUM(B11:E11) -> 1 | G11: =IF(F11=0,"–",B11/F11) -> 0
A12: ='Dados 2024'!A12 -> 231135 Quixelô | B12: ='Dados 2024'!B12+'Dados 2024'!D12+'Dados 2024'!E12+'Dados 2024'!H12 -> 1 | C12: ='Dados 2024'!C12 -> 0 | D12: ='Dados 2024'!F12 -> 0 | E12: ='Dados 2024'!G12 -> 0 | F12: =SUM(B12:E12) -> 1 | G12: =IF(F12=0,"–",B12/F12) -> 1
A13: ='Dados 2024'!A13 -> 231190 Saboeiro | B13: ='Dados 2024'!B13+'Dados 2024'!D13+'Dados 2024'!E13+'Dados 2024'!H13 -> 1 | C13: ='Dados 2024'!C13 -> 0 | D13: ='Dados 2024'!F13 -> 0 | E13: ='Dados 2024'!G13 -> 0 | F13: =SUM(B13:E13) -> 1 | G13: =IF(F13=0,"–",B13/F13) -> 1
A14: Total | B14: =SUM(B4:B13) -> 22 | C14: =SUM(C4:C13) -> 2 | D14: =SUM(D4:D13) -> 13 | E14: =SUM(E4:E13) -> 1 | F14: =SUM(F4:F13) -> 38 | G14: =IF(F14=0,"–",B14/F14) -> 0.57894737
A16: ¹ Evitáveis: Cap. I, X, XVI, XX (infecciosas, respiratório, perinatais e causas externas, conforme presentes no ano).
A17: ² A classificar: Cap. III — parcialmente evitáveis, dependem do código CID-10.
A18: ³ Não evitáveis (demais causas): Cap. XVII.
A19: ⁴ Mal definidas: Cap. XVIII.
A20: Classificação aproximada por capítulo, com base na Lista Brasileira de Causas de Mortes Evitáveis por Intervenções do SUS (menores de 5 anos, Malta et al.).
A21: Fonte: SIM/DATASUS. Catarina não registrou óbitos infantis em 2024 (não aparece na tabulação original).

Sheet Dados 2024
A1: Óbitos em menores de 5 anos por capítulo CID-10, segundo município de residência – 18ª Região de Saúde, 2024
A3: Município de residência | B3: Cap. I | C3: Cap. III | D3: Cap. X | E3: Cap. XVI | F3: Cap. XVII | G3: Cap. XVIII | H3: Cap. XX | I3: Total
A4: 230030 Acopiara | B4: 0 | C4: 0 | D4: 1 | E4: 5 | F4: 2 | G4: 0 | H4: 1 | I4: =SUM(B4:H4) -> 9
A5: 230330 Cariús | B5: 0 | C5: 1 | D5: 0 | E5: 0 | F5: 0 | G5: 0 | H5: 1 | I5: =SUM(B5:H5) -> 2
A6: 230360 Catarina | B6: 0 | C6: 0 | D6: 0 | E6: 0 | F6: 0 | G6: 0 | H6: 0 | I6: =SUM(B6:H6) -> 0
A7: 230426 Deputado Irapuan Pinheiro | B7: 0 | C7: 0 | D7: 0 | E7: 0 | F7: 1 | G7: 0 | H7: 0 | I7: =SUM(B7:H7) -> 1
A8: 230550 Iguatu | B8: 0 | C8: 1 | D8: 1 | E8: 6 | F8: 4 | G8: 0 | H8: 0 | I8: =SUM(B8:H8) -> 12
A9: 230740 Jucás | B9: 1 | C9: 0 | D9: 0 | E9: 2 | F9: 1 | G9: 0 | H9: 1 | I9: =SUM(B9:H9) -> 5
A10: 230850 Mombaça | B10: 0 | C10: 0 | D10: 0 | E10: 1 | F10: 4 | G10: 1 | H10: 0 | I10: =SUM(B10:H10) -> 6
A11: 231090 Piquet Carneiro | B11: 0 | C11: 0 | D11: 0 | E11: 0 | F11: 1 | G11: 0 | H11: 0 | I11: =SUM(B11:H11) -> 1
A12: 231135 Quixelô | B12: 0 | C12: 0 | D12: 0 | E12: 1 | F12: 0 | G12: 0 | H12: 0 | I12: =SUM(B12:H12) -> 1
A13: 231190 Saboeiro | B13: 0 | C13: 0 | D13: 1 | E13: 0 | F13: 0 | G13: 0 | H13: 0 | I13: =SUM(B13:H13) -> 1
A14: Total | B14: =SUM(B4:B13) -> 1 | C14: =SUM(C4:C13) -> 2 | D14: =SUM(D4:D13) -> 3 | E14: =SUM(E4:E13) -> 15 | F14: =SUM(F4:F13) -> 13 | G14: =SUM(G4:G13) -> 1 | H14: =SUM(H4:H13) -> 3 | I14: =SUM(I4:I13) -> 38
A16: Fonte: SIM/DATASUS (tabulação informada pela usuária). Catarina não registrou óbitos infantis em 2024 (não aparece na tabulação original).
A17: Valores em azul são dados de entrada; totais calculados por fórmula.
