Workbook

Sheet Faixa etária 2019-2024
A1: ="Óbitos por município de residência e ano – "&B3&" – 18ª Região de Saúde (Iguatu), 2019 a 2024" -> Óbitos por município de residência e ano – Menor de 1 ano – 18ª Região de Saúde (Iguatu), 2019 a 2024
A3: Faixa etária (filtro): | B3: Menor de 1 ano | F3: ← clique na célula amarela e escolha a faixa etária
A5: Município de residência | B5: 2019 | C5: 2020 | D5: 2021 | E5: 2022 | F5: 2023 | G5: 2024 | H5: Total 2019-2024
A6: ='Base faixa etária'!A12 -> 230030 Acopiara | B6: =IF($B$3="Menor de 1 ano",'Base faixa etária'!B12,IF($B$3="1 a 4 anos",'Base faixa etária'!B27,'Base faixa etária'!B12+'Base faixa etária'!B27)) -> 4 | C6: =IF($B$3="Menor de 1 ano",'Base faixa etária'!C12,IF($B$3="1 a 4 anos",'Base faixa etária'!C27,'Base faixa etária'!C12+'Base faixa etária'!C27)) -> 11 | D6: =IF($B$3="Menor de 1 ano",'Base faixa etária'!D12,IF($B$3="1 a 4 anos",'Base faixa etária'!D27,'Base faixa etária'!D12+'Base faixa etária'!D27)) -> 6 | E6: =IF($B$3="Menor de 1 ano",'Base faixa etária'!E12,IF($B$3="1 a 4 anos",'Base faixa etária'!E27,'Base faixa etária'!E12+'Base faixa etária'!E27)) -> 6 | F6: =IF($B$3="Menor de 1 ano",'Base faixa etária'!F12,IF($B$3="1 a 4 anos",'Base faixa etária'!F27,'Base faixa etária'!F12+'Base faixa etária'!F27)) -> 2 | G6: =IF($B$3="Menor de 1 ano",'Base faixa etária'!G12,IF($B$3="1 a 4 anos",'Base faixa etária'!G27,'Base faixa etária'!G12+'Base faixa etária'!G27)) -> 8 | H6: =SUM(B6:G6) -> 37
A7: ='Base faixa etária'!A13 -> 230330 Cariús | B7: =IF($B$3="Menor de 1 ano",'Base faixa etária'!B13,IF($B$3="1 a 4 anos",'Base faixa etária'!B28,'Base faixa etária'!B13+'Base faixa etária'!B28)) -> 2 | C7: =IF($B$3="Menor de 1 ano",'Base faixa etária'!C13,IF($B$3="1 a 4 anos",'Base faixa etária'!C28,'Base faixa etária'!C13+'Base faixa etária'!C28)) -> 3 | D7: =IF($B$3="Menor de 1 ano",'Base faixa etária'!D13,IF($B$3="1 a 4 anos",'Base faixa etária'!D28,'Base faixa etária'!D13+'Base faixa etária'!D28)) -> 3 | E7: =IF($B$3="Menor de 1 ano",'Base faixa etária'!E13,IF($B$3="1 a 4 anos",'Base faixa etária'!E28,'Base faixa etária'!E13+'Base faixa etária'!E28)) -> 0 | F7: =IF($B$3="Menor de 1 ano",'Base faixa etária'!F13,IF($B$3="1 a 4 anos",'Base faixa etária'!F28,'Base faixa etária'!F13+'Base faixa etária'!F28)) -> 2 | G7: =IF($B$3="Menor de 1 ano",'Base faixa etária'!G13,IF($B$3="1 a 4 anos",'Base faixa etária'!G28,'Base faixa etária'!G13+'Base faixa etária'!G28)) -> 0 | H7: =SUM(B7:G7) -> 10
A8: ='Base faixa etária'!A14 -> 230360 Catarina | B8: =IF($B$3="Menor de 1 ano",'Base faixa etária'!B14,IF($B$3="1 a 4 anos",'Base faixa etária'!B29,'Base faixa etária'!B14+'Base faixa etária'!B29)) -> 3 | C8: =IF($B$3="Menor de 1 ano",'Base faixa etária'!C14,IF($B$3="1 a 4 anos",'Base faixa etária'!C29,'Base faixa etária'!C14+'Base faixa etária'!C29)) -> 1 | D8: =IF($B$3="Menor de 1 ano",'Base faixa etária'!D14,IF($B$3="1 a 4 anos",'Base faixa etária'!D29,'Base faixa etária'!D14+'Base faixa etária'!D29)) -> 1 | E8: =IF($B$3="Menor de 1 ano",'Base faixa etária'!E14,IF($B$3="1 a 4 anos",'Base faixa etária'!E29,'Base faixa etária'!E14+'Base faixa etária'!E29)) -> 2 | F8: =IF($B$3="Menor de 1 ano",'Base faixa etária'!F14,IF($B$3="1 a 4 anos",'Base faixa etária'!F29,'Base faixa etária'!F14+'Base faixa etária'!F29)) -> 1 | G8: =IF($B$3="Menor de 1 ano",'Base faixa etária'!G14,IF($B$3="1 a 4 anos",'Base faixa etária'!G29,'Base faixa etária'!G14+'Base faixa etária'!G29)) -> 0 | H8: =SUM(B8:G8) -> 8
A9: ='Base faixa etária'!A15 -> 230426 Deputado Irapuan Pinheiro | B9: =IF($B$3="Menor de 1 ano",'Base faixa etária'!B15,IF($B$3="1 a 4 anos",'Base faixa etária'!B30,'Base faixa etária'!B15+'Base faixa etária'!B30)) -> 1 | C9: =IF($B$3="Menor de 1 ano",'Base faixa etária'!C15,IF($B$3="1 a 4 anos",'Base faixa etária'!C30,'Base faixa etária'!C15+'Base faixa etária'!C30)) -> 0 | D9: =IF($B$3="Menor de 1 ano",'Base faixa etária'!D15,IF($B$3="1 a 4 anos",'Base faixa etária'!D30,'Base faixa etária'!D15+'Base faixa etária'!D30)) -> 3 | E9: =IF($B$3="Menor de 1 ano",'Base faixa etária'!E15,IF($B$3="1 a 4 anos",'Base faixa etária'!E30,'Base faixa etária'!E15+'Base faixa etária'!E30)) -> 0 | F9: =IF($B$3="Menor de 1 ano",'Base faixa etária'!F15,IF($B$3="1 a 4 anos",'Base faixa etária'!F30,'Base faixa etária'!F15+'Base faixa etária'!F30)) -> 1 | G9: =IF($B$3="Menor de 1 ano",'Base faixa etária'!G15,IF($B$3="1 a 4 anos",'Base faixa etária'!G30,'Base faixa etária'!G15+'Base faixa etária'!G30)) -> 1 | H9: =SUM(B9:G9) -> 6
A10: ='Base faixa etária'!A16 -> 230550 Iguatu | B10: =IF($B$3="Menor de 1 ano",'Base faixa etária'!B16,IF($B$3="1 a 4 anos",'Base faixa etária'!B31,'Base faixa etária'!B16+'Base faixa etária'!B31)) -> 12 | C10: =IF($B$3="Menor de 1 ano",'Base faixa etária'!C16,IF($B$3="1 a 4 anos",'Base faixa etária'!C31,'Base faixa etária'!C16+'Base faixa etária'!C31)) -> 14 | D10: =IF($B$3="Menor de 1 ano",'Base faixa etária'!D16,IF($B$3="1 a 4 anos",'Base faixa etária'!D31,'Base faixa etária'!D16+'Base faixa etária'!D31)) -> 15 | E10: =IF($B$3="Menor de 1 ano",'Base faixa etária'!E16,IF($B$3="1 a 4 anos",'Base faixa etária'!E31,'Base faixa etária'!E16+'Base faixa etária'!E31)) -> 13 | F10: =IF($B$3="Menor de 1 ano",'Base faixa etária'!F16,IF($B$3="1 a 4 anos",'Base faixa etária'!F31,'Base faixa etária'!F16+'Base faixa etária'!F31)) -> 14 | G10: =IF($B$3="Menor de 1 ano",'Base faixa etária'!G16,IF($B$3="1 a 4 anos",'Base faixa etária'!G31,'Base faixa etária'!G16+'Base faixa etária'!G31)) -> 12 | H10: =SUM(B10:G10) -> 80
A11: ='Base faixa etária'!A17 -> 230740 Jucás | B11: =IF($B$3="Menor de 1 ano",'Base faixa etária'!B17,IF($B$3="1 a 4 anos",'Base faixa etária'!B32,'Base faixa etária'!B17+'Base faixa etária'!B32)) -> 6 | C11: =IF($B$3="Menor de 1 ano",'Base faixa etária'!C17,IF($B$3="1 a 4 anos",'Base faixa etária'!C32,'Base faixa etária'!C17+'Base faixa etária'!C32)) -> 2 | D11: =IF($B$3="Menor de 1 ano",'Base faixa etária'!D17,IF($B$3="1 a 4 anos",'Base faixa etária'!D32,'Base faixa etária'!D17+'Base faixa etária'!D32)) -> 4 | E11: =IF($B$3="Menor de 1 ano",'Base faixa etária'!E17,IF($B$3="1 a 4 anos",'Base faixa etária'!E32,'Base faixa etária'!E17+'Base faixa etária'!E32)) -> 2 | F11: =IF($B$3="Menor de 1 ano",'Base faixa etária'!F17,IF($B$3="1 a 4 anos",'Base faixa etária'!F32,'Base faixa etária'!F17+'Base faixa etária'!F32)) -> 6 | G11: =IF($B$3="Menor de 1 ano",'Base faixa etária'!G17,IF($B$3="1 a 4 anos",'Base faixa etária'!G32,'Base faixa etária'!G17+'Base faixa etária'!G32)) -> 3 | H11: =SUM(B11:G11) -> 23
A12: ='Base faixa etária'!A18 -> 230850 Mombaça | B12: =IF($B$3="Menor de 1 ano",'Base faixa etária'!B18,IF($B$3="1 a 4 anos",'Base faixa etária'!B33,'Base faixa etária'!B18+'Base faixa etária'!B33)) -> 1 | C12: =IF($B$3="Menor de 1 ano",'Base faixa etária'!C18,IF($B$3="1 a 4 anos",'Base faixa etária'!C33,'Base faixa etária'!C18+'Base faixa etária'!C33)) -> 6 | D12: =IF($B$3="Menor de 1 ano",'Base faixa etária'!D18,IF($B$3="1 a 4 anos",'Base faixa etária'!D33,'Base faixa etária'!D18+'Base faixa etária'!D33)) -> 7 | E12: =IF($B$3="Menor de 1 ano",'Base faixa etária'!E18,IF($B$3="1 a 4 anos",'Base faixa etária'!E33,'Base faixa etária'!E18+'Base faixa etária'!E33)) -> 6 | F12: =IF($B$3="Menor de 1 ano",'Base faixa etária'!F18,IF($B$3="1 a 4 anos",'Base faixa etária'!F33,'Base faixa etária'!F18+'Base faixa etária'!F33)) -> 5 | G12: =IF($B$3="Menor de 1 ano",'Base faixa etária'!G18,IF($B$3="1 a 4 anos",'Base faixa etária'!G33,'Base faixa etária'!G18+'Base faixa etária'!G33)) -> 5 | H12: =SUM(B12:G12) -> 30
A13: ='Base faixa etária'!A19 -> 231090 Piquet Carneiro | B13: =IF($B$3="Menor de 1 ano",'Base faixa etária'!B19,IF($B$3="1 a 4 anos",'Base faixa etária'!B34,'Base faixa etária'!B19+'Base faixa etária'!B34)) -> 3 | C13: =IF($B$3="Menor de 1 ano",'Base faixa etária'!C19,IF($B$3="1 a 4 anos",'Base faixa etária'!C34,'Base faixa etária'!C19+'Base faixa etária'!C34)) -> 3 | D13: =IF($B$3="Menor de 1 ano",'Base faixa etária'!D19,IF($B$3="1 a 4 anos",'Base faixa etária'!D34,'Base faixa etária'!D19+'Base faixa etária'!D34)) -> 0 | E13: =IF($B$3="Menor de 1 ano",'Base faixa etária'!E19,IF($B$3="1 a 4 anos",'Base faixa etária'!E34,'Base faixa etária'!E19+'Base faixa etária'!E34)) -> 4 | F13: =IF($B$3="Menor de 1 ano",'Base faixa etária'!F19,IF($B$3="1 a 4 anos",'Base faixa etária'!F34,'Base faixa etária'!F19+'Base faixa etária'!F34)) -> 2 | G13: =IF($B$3="Menor de 1 ano",'Base faixa etária'!G19,IF($B$3="1 a 4 anos",'Base faixa etária'!G34,'Base faixa etária'!G19+'Base faixa etária'!G34)) -> 1 | H13: =SUM(B13:G13) -> 13
A14: ='Base faixa etária'!A20 -> 231135 Quixelô | B14: =IF($B$3="Menor de 1 ano",'Base faixa etária'!B20,IF($B$3="1 a 4 anos",'Base faixa etária'!B35,'Base faixa etária'!B20+'Base faixa etária'!B35)) -> 6 | C14: =IF($B$3="Menor de 1 ano",'Base faixa etária'!C20,IF($B$3="1 a 4 anos",'Base faixa etária'!C35,'Base faixa etária'!C20+'Base faixa etária'!C35)) -> 5 | D14: =IF($B$3="Menor de 1 ano",'Base faixa etária'!D20,IF($B$3="1 a 4 anos",'Base faixa etária'!D35,'Base faixa etária'!D20+'Base faixa etária'!D35)) -> 2 | E14: =IF($B$3="Menor de 1 ano",'Base faixa etária'!E20,IF($B$3="1 a 4 anos",'Base faixa etária'!E35,'Base faixa etária'!E20+'Base faixa etária'!E35)) -> 3 | F14: =IF($B$3="Menor de 1 ano",'Base faixa etária'!F20,IF($B$3="1 a 4 anos",'Base faixa etária'!F35,'Base faixa etária'!F20+'Base faixa etária'!F35)) -> 4 | G14: =IF($B$3="Menor de 1 ano",'Base faixa etária'!G20,IF($B$3="1 a 4 anos",'Base faixa etária'!G35,'Base faixa etária'!G20+'Base faixa etária'!G35)) -> 1 | H14: =SUM(B14:G14) -> 21
A15: ='Base faixa etária'!A21 -> 231190 Saboeiro | B15: =IF($B$3="Menor de 1 ano",'Base faixa etária'!B21,IF($B$3="1 a 4 anos",'Base faixa etária'!B36,'Base faixa etária'!B21+'Base faixa etária'!B36)) -> 0 | C15: =IF($B$3="Menor de 1 ano",'Base faixa etária'!C21,IF($B$3="1 a 4 anos",'Base faixa etária'!C36,'Base faixa etária'!C21+'Base faixa etária'!C36)) -> 1 | D15: =IF($B$3="Menor de 1 ano",'Base faixa etária'!D21,IF($B$3="1 a 4 anos",'Base faixa etária'!D36,'Base faixa etária'!D21+'Base faixa etária'!D36)) -> 1 | E15: =IF($B$3="Menor de 1 ano",'Base faixa etária'!E21,IF($B$3="1 a 4 anos",'Base faixa etária'!E36,'Base faixa etária'!E21+'Base faixa etária'!E36)) -> 0 | F15: =IF($B$3="Menor de 1 ano",'Base faixa etária'!F21,IF($B$3="1 a 4 anos",'Base faixa etária'!F36,'Base faixa etária'!F21+'Base faixa etária'!F36)) -> 1 | G15: =IF($B$3="Menor de 1 ano",'Base faixa etária'!G21,IF($B$3="1 a 4 anos",'Base faixa etária'!G36,'Base faixa etária'!G21+'Base faixa etária'!G36)) -> 1 | H15: =SUM(B15:G15) -> 4
A16: Total | B16: =SUM(B6:B15) -> 38 | C16: =SUM(C6:C15) -> 46 | D16: =SUM(D6:D15) -> 42 | E16: =SUM(E6:E15) -> 36 | F16: =SUM(F6:F15) -> 38 | G16: =SUM(G6:G15) -> 32 | H16: =SUM(H6:H15) -> 232
A18: Fonte: SIM/DATASUS – tabulações por faixa etária (FREQUENCIAFAIXAETARIA 2019 a 2024). Dados de origem na aba 'Base faixa etária'.
A19: Municípios ausentes na tabulação de um ano foram considerados com 0 óbitos.

Sheet Idade da mãe 2019-2024
A1: ="Óbitos em menores de 5 anos por município de residência e ano – idade da mãe: "&B3&" – 18ª Região de Saúde (Iguatu), 2019 a 2024" -> Óbitos em menores de 5 anos por município de residência e ano – idade da mãe: Todas as idades – 18ª Região de Saúde (Iguatu), 2019 a 2024
A3: Idade da mãe (filtro): | B3: Todas as idades | F3: ← clique na célula amarela e escolha a idade da mãe
A5: Município de residência | B5: 2019 | C5: 2020 | D5: 2021 | E5: 2022 | F5: 2023 | G5: 2024 | H5: Total 2019-2024
A6: 230030 Acopiara | B6: =IF($B$3="Todas as idades",SUMIFS('Base idade da mãe'!C$16:C$75,'Base idade da mãe'!$B$16:$B$75,$A6),SUMIFS('Base idade da mãe'!C$16:C$75,'Base idade da mãe'!$B$16:$B$75,$A6,'Base idade da mãe'!$A$16:$A$75,$B$3)) -> 5 | C6: =IF($B$3="Todas as idades",SUMIFS('Base idade da mãe'!D$16:D$75,'Base idade da mãe'!$B$16:$B$75,$A6),SUMIFS('Base idade da mãe'!D$16:D$75,'Base idade da mãe'!$B$16:$B$75,$A6,'Base idade da mãe'!$A$16:$A$75,$B$3)) -> 12 | D6: =IF($B$3="Todas as idades",SUMIFS('Base idade da mãe'!E$16:E$75,'Base idade da mãe'!$B$16:$B$75,$A6),SUMIFS('Base idade da mãe'!E$16:E$75,'Base idade da mãe'!$B$16:$B$75,$A6,'Base idade da mãe'!$A$16:$A$75,$B$3)) -> 8 | E6: =IF($B$3="Todas as idades",SUMIFS('Base idade da mãe'!F$16:F$75,'Base idade da mãe'!$B$16:$B$75,$A6),SUMIFS('Base idade da mãe'!F$16:F$75,'Base idade da mãe'!$B$16:$B$75,$A6,'Base idade da mãe'!$A$16:$A$75,$B$3)) -> 8 | F6: =IF($B$3="Todas as idades",SUMIFS('Base idade da mãe'!G$16:G$75,'Base idade da mãe'!$B$16:$B$75,$A6),SUMIFS('Base idade da mãe'!G$16:G$75,'Base idade da mãe'!$B$16:$B$75,$A6,'Base idade da mãe'!$A$16:$A$75,$B$3)) -> 2 | G6: =IF($B$3="Todas as idades",SUMIFS('Base idade da mãe'!H$16:H$75,'Base idade da mãe'!$B$16:$B$75,$A6),SUMIFS('Base idade da mãe'!H$16:H$75,'Base idade da mãe'!$B$16:$B$75,$A6,'Base idade da mãe'!$A$16:$A$75,$B$3)) -> 9 | H6: =SUM(B6:G6) -> 44
A7: 230330 Cariús | B7: =IF($B$3="Todas as idades",SUMIFS('Base idade da mãe'!C$16:C$75,'Base idade da mãe'!$B$16:$B$75,$A7),SUMIFS('Base idade da mãe'!C$16:C$75,'Base idade da mãe'!$B$16:$B$75,$A7,'Base idade da mãe'!$A$16:$A$75,$B$3)) -> 2 | C7: =IF($B$3="Todas as idades",SUMIFS('Base idade da mãe'!D$16:D$75,'Base idade da mãe'!$B$16:$B$75,$A7),SUMIFS('Base idade da mãe'!D$16:D$75,'Base idade da mãe'!$B$16:$B$75,$A7,'Base idade da mãe'!$A$16:$A$75,$B$3)) -> 3 | D7: =IF($B$3="Todas as idades",SUMIFS('Base idade da mãe'!E$16:E$75,'Base idade da mãe'!$B$16:$B$75,$A7),SUMIFS('Base idade da mãe'!E$16:E$75,'Base idade da mãe'!$B$16:$B$75,$A7,'Base idade da mãe'!$A$16:$A$75,$B$3)) -> 3 | E7: =IF($B$3="Todas as idades",SUMIFS('Base idade da mãe'!F$16:F$75,'Base idade da mãe'!$B$16:$B$75,$A7),SUMIFS('Base idade da mãe'!F$16:F$75,'Base idade da mãe'!$B$16:$B$75,$A7,'Base idade da mãe'!$A$16:$A$75,$B$3)) -> 1 | F7: =IF($B$3="Todas as idades",SUMIFS('Base idade da mãe'!G$16:G$75,'Base idade da mãe'!$B$16:$B$75,$A7),SUMIFS('Base idade da mãe'!G$16:G$75,'Base idade da mãe'!$B$16:$B$75,$A7,'Base idade da mãe'!$A$16:$A$75,$B$3)) -> 2 | G7: =IF($B$3="Todas as idades",SUMIFS('Base idade da mãe'!H$16:H$75,'Base idade da mãe'!$B$16:$B$75,$A7),SUMIFS('Base idade da mãe'!H$16:H$75,'Base idade da mãe'!$B$16:$B$75,$A7,'Base idade da mãe'!$A$16:$A$75,$B$3)) -> 2 | H7: =SUM(B7:G7) -> 13
A8: 230360 Catarina | B8: =IF($B$3="Todas as idades",SUMIFS('Base idade da mãe'!C$16:C$75,'Base idade da mãe'!$B$16:$B$75,$A8),SUMIFS('Base idade da mãe'!C$16:C$75,'Base idade da mãe'!$B$16:$B$75,$A8,'Base idade da mãe'!$A$16:$A$75,$B$3)) -> 3 | C8: =IF($B$3="Todas as idades",SUMIFS('Base idade da mãe'!D$16:D$75,'Base idade da mãe'!$B$16:$B$75,$A8),SUMIFS('Base idade da mãe'!D$16:D$75,'Base idade da mãe'!$B$16:$B$75,$A8,'Base idade da mãe'!$A$16:$A$75,$B$3)) -> 2 | D8: =IF($B$3="Todas as idades",SUMIFS('Base idade da mãe'!E$16:E$75,'Base idade da mãe'!$B$16:$B$75,$A8),SUMIFS('Base idade da mãe'!E$16:E$75,'Base idade da mãe'!$B$16:$B$75,$A8,'Base idade da mãe'!$A$16:$A$75,$B$3)) -> 1 | E8: =IF($B$3="Todas as idades",SUMIFS('Base idade da mãe'!F$16:F$75,'Base idade da mãe'!$B$16:$B$75,$A8),SUMIFS('Base idade da mãe'!F$16:F$75,'Base idade da mãe'!$B$16:$B$75,$A8,'Base idade da mãe'!$A$16:$A$75,$B$3)) -> 2 | F8: =IF($B$3="Todas as idades",SUMIFS('Base idade da mãe'!G$16:G$75,'Base idade da mãe'!$B$16:$B$75,$A8),SUMIFS('Base idade da mãe'!G$16:G$75,'Base idade da mãe'!$B$16:$B$75,$A8,'Base idade da mãe'!$A$16:$A$75,$B$3)) -> 1 | G8: =IF($B$3="Todas as idades",SUMIFS('Base idade da mãe'!H$16:H$75,'Base idade da mãe'!$B$16:$B$75,$A8),SUMIFS('Base idade da mãe'!H$16:H$75,'Base idade da mãe'!$B$16:$B$75,$A8,'Base idade da mãe'!$A$16:$A$75,$B$3)) -> 0 | H8: =SUM(B8:G8) -> 9
A9: 230426 Deputado Irapuan Pinheiro | B9: =IF($B$3="Todas as idades",SUMIFS('Base idade da mãe'!C$16:C$75,'Base idade da mãe'!$B$16:$B$75,$A9),SUMIFS('Base idade da mãe'!C$16:C$75,'Base idade da mãe'!$B$16:$B$75,$A9,'Base idade da mãe'!$A$16:$A$75,$B$3)) -> 1 | C9: =IF($B$3="Todas as idades",SUMIFS('Base idade da mãe'!D$16:D$75,'Base idade da mãe'!$B$16:$B$75,$A9),SUMIFS('Base idade da mãe'!D$16:D$75,'Base idade da mãe'!$B$16:$B$75,$A9,'Base idade da mãe'!$A$16:$A$75,$B$3)) -> 0 | D9: =IF($B$3="Todas as idades",SUMIFS('Base idade da mãe'!E$16:E$75,'Base idade da mãe'!$B$16:$B$75,$A9),SUMIFS('Base idade da mãe'!E$16:E$75,'Base idade da mãe'!$B$16:$B$75,$A9,'Base idade da mãe'!$A$16:$A$75,$B$3)) -> 3 | E9: =IF($B$3="Todas as idades",SUMIFS('Base idade da mãe'!F$16:F$75,'Base idade da mãe'!$B$16:$B$75,$A9),SUMIFS('Base idade da mãe'!F$16:F$75,'Base idade da mãe'!$B$16:$B$75,$A9,'Base idade da mãe'!$A$16:$A$75,$B$3)) -> 1 | F9: =IF($B$3="Todas as idades",SUMIFS('Base idade da mãe'!G$16:G$75,'Base idade da mãe'!$B$16:$B$75,$A9),SUMIFS('Base idade da mãe'!G$16:G$75,'Base idade da mãe'!$B$16:$B$75,$A9,'Base idade da mãe'!$A$16:$A$75,$B$3)) -> 1 | G9: =IF($B$3="Todas as idades",SUMIFS('Base idade da mãe'!H$16:H$75,'Base idade da mãe'!$B$16:$B$75,$A9),SUMIFS('Base idade da mãe'!H$16:H$75,'Base idade da mãe'!$B$16:$B$75,$A9,'Base idade da mãe'!$A$16:$A$75,$B$3)) -> 1 | H9: =SUM(B9:G9) -> 7
A10: 230550 Iguatu | B10: =IF($B$3="Todas as idades",SUMIFS('Base idade da mãe'!C$16:C$75,'Base idade da mãe'!$B$16:$B$75,$A10),SUMIFS('Base idade da mãe'!C$16:C$75,'Base idade da mãe'!$B$16:$B$75,$A10,'Base idade da mãe'!$A$16:$A$75,$B$3)) -> 13 | C10: =IF($B$3="Todas as idades",SUMIFS('Base idade da mãe'!D$16:D$75,'Base idade da mãe'!$B$16:$B$75,$A10),SUMIFS('Base idade da mãe'!D$16:D$75,'Base idade da mãe'!$B$16:$B$75,$A10,'Base idade da mãe'!$A$16:$A$75,$B$3)) -> 15 | D10: =IF($B$3="Todas as idades",SUMIFS('Base idade da mãe'!E$16:E$75,'Base idade da mãe'!$B$16:$B$75,$A10),SUMIFS('Base idade da mãe'!E$16:E$75,'Base idade da mãe'!$B$16:$B$75,$A10,'Base idade da mãe'!$A$16:$A$75,$B$3)) -> 17 | E10: =IF($B$3="Todas as idades",SUMIFS('Base idade da mãe'!F$16:F$75,'Base idade da mãe'!$B$16:$B$75,$A10),SUMIFS('Base idade da mãe'!F$16:F$75,'Base idade da mãe'!$B$16:$B$75,$A10,'Base idade da mãe'!$A$16:$A$75,$B$3)) -> 13 | F10: =IF($B$3="Todas as idades",SUMIFS('Base idade da mãe'!G$16:G$75,'Base idade da mãe'!$B$16:$B$75,$A10),SUMIFS('Base idade da mãe'!G$16:G$75,'Base idade da mãe'!$B$16:$B$75,$A10,'Base idade da mãe'!$A$16:$A$75,$B$3)) -> 16 | G10: =IF($B$3="Todas as idades",SUMIFS('Base idade da mãe'!H$16:H$75,'Base idade da mãe'!$B$16:$B$75,$A10),SUMIFS('Base idade da mãe'!H$16:H$75,'Base idade da mãe'!$B$16:$B$75,$A10,'Base idade da mãe'!$A$16:$A$75,$B$3)) -> 12 | H10: =SUM(B10:G10) -> 86
A11: 230740 Jucás | B11: =IF($B$3="Todas as idades",SUMIFS('Base idade da mãe'!C$16:C$75,'Base idade da mãe'!$B$16:$B$75,$A11),SUMIFS('Base idade da mãe'!C$16:C$75,'Base idade da mãe'!$B$16:$B$75,$A11,'Base idade da mãe'!$A$16:$A$75,$B$3)) -> 7 | C11: =IF($B$3="Todas as idades",SUMIFS('Base idade da mãe'!D$16:D$75,'Base idade da mãe'!$B$16:$B$75,$A11),SUMIFS('Base idade da mãe'!D$16:D$75,'Base idade da mãe'!$B$16:$B$75,$A11,'Base idade da mãe'!$A$16:$A$75,$B$3)) -> 2 | D11: =IF($B$3="Todas as idades",SUMIFS('Base idade da mãe'!E$16:E$75,'Base idade da mãe'!$B$16:$B$75,$A11),SUMIFS('Base idade da mãe'!E$16:E$75,'Base idade da mãe'!$B$16:$B$75,$A11,'Base idade da mãe'!$A$16:$A$75,$B$3)) -> 6 | E11: =IF($B$3="Todas as idades",SUMIFS('Base idade da mãe'!F$16:F$75,'Base idade da mãe'!$B$16:$B$75,$A11),SUMIFS('Base idade da mãe'!F$16:F$75,'Base idade da mãe'!$B$16:$B$75,$A11,'Base idade da mãe'!$A$16:$A$75,$B$3)) -> 2 | F11: =IF($B$3="Todas as idades",SUMIFS('Base idade da mãe'!G$16:G$75,'Base idade da mãe'!$B$16:$B$75,$A11),SUMIFS('Base idade da mãe'!G$16:G$75,'Base idade da mãe'!$B$16:$B$75,$A11,'Base idade da mãe'!$A$16:$A$75,$B$3)) -> 7 | G11: =IF($B$3="Todas as idades",SUMIFS('Base idade da mãe'!H$16:H$75,'Base idade da mãe'!$B$16:$B$75,$A11),SUMIFS('Base idade da mãe'!H$16:H$75,'Base idade da mãe'!$B$16:$B$75,$A11,'Base idade da mãe'!$A$16:$A$75,$B$3)) -> 5 | H11: =SUM(B11:G11) -> 29
A12: 230850 Mombaça | B12: =IF($B$3="Todas as idades",SUMIFS('Base idade da mãe'!C$16:C$75,'Base idade da mãe'!$B$16:$B$75,$A12),SUMIFS('Base idade da mãe'!C$16:C$75,'Base idade da mãe'!$B$16:$B$75,$A12,'Base idade da mãe'!$A$16:$A$75,$B$3)) -> 1 | C12: =IF($B$3="Todas as idades",SUMIFS('Base idade da mãe'!D$16:D$75,'Base idade da mãe'!$B$16:$B$75,$A12),SUMIFS('Base idade da mãe'!D$16:D$75,'Base idade da mãe'!$B$16:$B$75,$A12,'Base idade da mãe'!$A$16:$A$75,$B$3)) -> 6 | D12: =IF($B$3="Todas as idades",SUMIFS('Base idade da mãe'!E$16:E$75,'Base idade da mãe'!$B$16:$B$75,$A12),SUMIFS('Base idade da mãe'!E$16:E$75,'Base idade da mãe'!$B$16:$B$75,$A12,'Base idade da mãe'!$A$16:$A$75,$B$3)) -> 7 | E12: =IF($B$3="Todas as idades",SUMIFS('Base idade da mãe'!F$16:F$75,'Base idade da mãe'!$B$16:$B$75,$A12),SUMIFS('Base idade da mãe'!F$16:F$75,'Base idade da mãe'!$B$16:$B$75,$A12,'Base idade da mãe'!$A$16:$A$75,$B$3)) -> 7 | F12: =IF($B$3="Todas as idades",SUMIFS('Base idade da mãe'!G$16:G$75,'Base idade da mãe'!$B$16:$B$75,$A12),SUMIFS('Base idade da mãe'!G$16:G$75,'Base idade da mãe'!$B$16:$B$75,$A12,'Base idade da mãe'!$A$16:$A$75,$B$3)) -> 5 | G12: =IF($B$3="Todas as idades",SUMIFS('Base idade da mãe'!H$16:H$75,'Base idade da mãe'!$B$16:$B$75,$A12),SUMIFS('Base idade da mãe'!H$16:H$75,'Base idade da mãe'!$B$16:$B$75,$A12,'Base idade da mãe'!$A$16:$A$75,$B$3)) -> 6 | H12: =SUM(B12:G12) -> 32
A13: 231090 Piquet Carneiro | B13: =IF($B$3="Todas as idades",SUMIFS('Base idade da mãe'!C$16:C$75,'Base idade da mãe'!$B$16:$B$75,$A13),SUMIFS('Base idade da mãe'!C$16:C$75,'Base idade da mãe'!$B$16:$B$75,$A13,'Base idade da mãe'!$A$16:$A$75,$B$3)) -> 3 | C13: =IF($B$3="Todas as idades",SUMIFS('Base idade da mãe'!D$16:D$75,'Base idade da mãe'!$B$16:$B$75,$A13),SUMIFS('Base idade da mãe'!D$16:D$75,'Base idade da mãe'!$B$16:$B$75,$A13,'Base idade da mãe'!$A$16:$A$75,$B$3)) -> 3 | D13: =IF($B$3="Todas as idades",SUMIFS('Base idade da mãe'!E$16:E$75,'Base idade da mãe'!$B$16:$B$75,$A13),SUMIFS('Base idade da mãe'!E$16:E$75,'Base idade da mãe'!$B$16:$B$75,$A13,'Base idade da mãe'!$A$16:$A$75,$B$3)) -> 0 | E13: =IF($B$3="Todas as idades",SUMIFS('Base idade da mãe'!F$16:F$75,'Base idade da mãe'!$B$16:$B$75,$A13),SUMIFS('Base idade da mãe'!F$16:F$75,'Base idade da mãe'!$B$16:$B$75,$A13,'Base idade da mãe'!$A$16:$A$75,$B$3)) -> 5 | F13: =IF($B$3="Todas as idades",SUMIFS('Base idade da mãe'!G$16:G$75,'Base idade da mãe'!$B$16:$B$75,$A13),SUMIFS('Base idade da mãe'!G$16:G$75,'Base idade da mãe'!$B$16:$B$75,$A13,'Base idade da mãe'!$A$16:$A$75,$B$3)) -> 2 | G13: =IF($B$3="Todas as idades",SUMIFS('Base idade da mãe'!H$16:H$75,'Base idade da mãe'!$B$16:$B$75,$A13),SUMIFS('Base idade da mãe'!H$16:H$75,'Base idade da mãe'!$B$16:$B$75,$A13,'Base idade da mãe'!$A$16:$A$75,$B$3)) -> 1 | H13: =SUM(B13:G13) -> 14
A14: 231135 Quixelô | B14: =IF($B$3="Todas as idades",SUMIFS('Base idade da mãe'!C$16:C$75,'Base idade da mãe'!$B$16:$B$75,$A14),SUMIFS('Base idade da mãe'!C$16:C$75,'Base idade da mãe'!$B$16:$B$75,$A14,'Base idade da mãe'!$A$16:$A$75,$B$3)) -> 7 | C14: =IF($B$3="Todas as idades",SUMIFS('Base idade da mãe'!D$16:D$75,'Base idade da mãe'!$B$16:$B$75,$A14),SUMIFS('Base idade da mãe'!D$16:D$75,'Base idade da mãe'!$B$16:$B$75,$A14,'Base idade da mãe'!$A$16:$A$75,$B$3)) -> 6 | D14: =IF($B$3="Todas as idades",SUMIFS('Base idade da mãe'!E$16:E$75,'Base idade da mãe'!$B$16:$B$75,$A14),SUMIFS('Base idade da mãe'!E$16:E$75,'Base idade da mãe'!$B$16:$B$75,$A14,'Base idade da mãe'!$A$16:$A$75,$B$3)) -> 3 | E14: =IF($B$3="Todas as idades",SUMIFS('Base idade da mãe'!F$16:F$75,'Base idade da mãe'!$B$16:$B$75,$A14),SUMIFS('Base idade da mãe'!F$16:F$75,'Base idade da mãe'!$B$16:$B$75,$A14,'Base idade da mãe'!$A$16:$A$75,$B$3)) -> 3 | F14: =IF($B$3="Todas as idades",SUMIFS('Base idade da mãe'!G$16:G$75,'Base idade da mãe'!$B$16:$B$75,$A14),SUMIFS('Base idade da mãe'!G$16:G$75,'Base idade da mãe'!$B$16:$B$75,$A14,'Base idade da mãe'!$A$16:$A$75,$B$3)) -> 4 | G14: =IF($B$3="Todas as idades",SUMIFS('Base idade da mãe'!H$16:H$75,'Base idade da mãe'!$B$16:$B$75,$A14),SUMIFS('Base idade da mãe'!H$16:H$75,'Base idade da mãe'!$B$16:$B$75,$A14,'Base idade da mãe'!$A$16:$A$75,$B$3)) -> 1 | H14: =SUM(B14:G14) -> 24
A15: 231190 Saboeiro | B15: =IF($B$3="Todas as idades",SUMIFS('Base idade da mãe'!C$16:C$75,'Base idade da mãe'!$B$16:$B$75,$A15),SUMIFS('Base idade da mãe'!C$16:C$75,'Base idade da mãe'!$B$16:$B$75,$A15,'Base idade da mãe'!$A$16:$A$75,$B$3)) -> 0 | C15: =IF($B$3="Todas as idades",SUMIFS('Base idade da mãe'!D$16:D$75,'Base idade da mãe'!$B$16:$B$75,$A15),SUMIFS('Base idade da mãe'!D$16:D$75,'Base idade da mãe'!$B$16:$B$75,$A15,'Base idade da mãe'!$A$16:$A$75,$B$3)) -> 1 | D15: =IF($B$3="Todas as idades",SUMIFS('Base idade da mãe'!E$16:E$75,'Base idade da mãe'!$B$16:$B$75,$A15),SUMIFS('Base idade da mãe'!E$16:E$75,'Base idade da mãe'!$B$16:$B$75,$A15,'Base idade da mãe'!$A$16:$A$75,$B$3)) -> 1 | E15: =IF($B$3="Todas as idades",SUMIFS('Base idade da mãe'!F$16:F$75,'Base idade da mãe'!$B$16:$B$75,$A15),SUMIFS('Base idade da mãe'!F$16:F$75,'Base idade da mãe'!$B$16:$B$75,$A15,'Base idade da mãe'!$A$16:$A$75,$B$3)) -> 2 | F15: =IF($B$3="Todas as idades",SUMIFS('Base idade da mãe'!G$16:G$75,'Base idade da mãe'!$B$16:$B$75,$A15),SUMIFS('Base idade da mãe'!G$16:G$75,'Base idade da mãe'!$B$16:$B$75,$A15,'Base idade da mãe'!$A$16:$A$75,$B$3)) -> 1 | G15: =IF($B$3="Todas as idades",SUMIFS('Base idade da mãe'!H$16:H$75,'Base idade da mãe'!$B$16:$B$75,$A15),SUMIFS('Base idade da mãe'!H$16:H$75,'Base idade da mãe'!$B$16:$B$75,$A15,'Base idade da mãe'!$A$16:$A$75,$B$3)) -> 1 | H15: =SUM(B15:G15) -> 6
A16: Total | B16: =SUM(B6:B15) -> 42 | C16: =SUM(C6:C15) -> 50 | D16: =SUM(D6:D15) -> 49 | E16: =SUM(E6:E15) -> 44 | F16: =SUM(F6:F15) -> 41 | G16: =SUM(G6:G15) -> 38 | H16: =SUM(H6:H15) -> 264
A18: Fonte: SIM/DATASUS – tabulações por idade da mãe (FREQUENCIAIDADEMAE 2019 a 2024). Dados de origem na aba 'Base idade da mãe'.
A19: Municípios ou faixas ausentes na tabulação de um ano foram considerados com 0 óbitos.

Sheet Escolaridade mãe 2019-2024
A1: ="Óbitos em menores de 5 anos por município de residência e ano – escolaridade da mãe: "&B3&" – 18ª Região de Saúde (Iguatu), 2019 a 2024" -> Óbitos em menores de 5 anos por município de residência e ano – escolaridade da mãe: Todas – 18ª Região de Saúde (Iguatu), 2019 a 2024
A3: Escolaridade da mãe (filtro): | B3: Todas | F3: ← clique na célula amarela e escolha a categoria
A5: Município de residência | B5: 2019 | C5: 2020 | D5: 2021 | E5: 2022 | F5: 2023 | G5: 2024 | H5: Total 2019-2024
A6: 230030 Acopiara | B6: =IF($B$3="Todas",SUMIFS('Base escolaridade da mãe'!C$17:C$86,'Base escolaridade da mãe'!$B$17:$B$86,$A6),SUMIFS('Base escolaridade da mãe'!C$17:C$86,'Base escolaridade da mãe'!$B$17:$B$86,$A6,'Base escolaridade da mãe'!$A$17:$A$86,$B$3)) -> 5 | C6: =IF($B$3="Todas",SUMIFS('Base escolaridade da mãe'!D$17:D$86,'Base escolaridade da mãe'!$B$17:$B$86,$A6),SUMIFS('Base escolaridade da mãe'!D$17:D$86,'Base escolaridade da mãe'!$B$17:$B$86,$A6,'Base escolaridade da mãe'!$A$17:$A$86,$B$3)) -> 12 | D6: =IF($B$3="Todas",SUMIFS('Base escolaridade da mãe'!E$17:E$86,'Base escolaridade da mãe'!$B$17:$B$86,$A6),SUMIFS('Base escolaridade da mãe'!E$17:E$86,'Base escolaridade da mãe'!$B$17:$B$86,$A6,'Base escolaridade da mãe'!$A$17:$A$86,$B$3)) -> 8 | E6: =IF($B$3="Todas",SUMIFS('Base escolaridade da mãe'!F$17:F$86,'Base escolaridade da mãe'!$B$17:$B$86,$A6),SUMIFS('Base escolaridade da mãe'!F$17:F$86,'Base escolaridade da mãe'!$B$17:$B$86,$A6,'Base escolaridade da mãe'!$A$17:$A$86,$B$3)) -> 8 | F6: =IF($B$3="Todas",SUMIFS('Base escolaridade da mãe'!G$17:G$86,'Base escolaridade da mãe'!$B$17:$B$86,$A6),SUMIFS('Base escolaridade da mãe'!G$17:G$86,'Base escolaridade da mãe'!$B$17:$B$86,$A6,'Base escolaridade da mãe'!$A$17:$A$86,$B$3)) -> 2 | G6: =IF($B$3="Todas",SUMIFS('Base escolaridade da mãe'!H$17:H$86,'Base escolaridade da mãe'!$B$17:$B$86,$A6),SUMIFS('Base escolaridade da mãe'!H$17:H$86,'Base escolaridade da mãe'!$B$17:$B$86,$A6,'Base escolaridade da mãe'!$A$17:$A$86,$B$3)) -> 9 | H6: =SUM(B6:G6) -> 44
A7: 230330 Cariús | B7: =IF($B$3="Todas",SUMIFS('Base escolaridade da mãe'!C$17:C$86,'Base escolaridade da mãe'!$B$17:$B$86,$A7),SUMIFS('Base escolaridade da mãe'!C$17:C$86,'Base escolaridade da mãe'!$B$17:$B$86,$A7,'Base escolaridade da mãe'!$A$17:$A$86,$B$3)) -> 2 | C7: =IF($B$3="Todas",SUMIFS('Base escolaridade da mãe'!D$17:D$86,'Base escolaridade da mãe'!$B$17:$B$86,$A7),SUMIFS('Base escolaridade da mãe'!D$17:D$86,'Base escolaridade da mãe'!$B$17:$B$86,$A7,'Base escolaridade da mãe'!$A$17:$A$86,$B$3)) -> 3 | D7: =IF($B$3="Todas",SUMIFS('Base escolaridade da mãe'!E$17:E$86,'Base escolaridade da mãe'!$B$17:$B$86,$A7),SUMIFS('Base escolaridade da mãe'!E$17:E$86,'Base escolaridade da mãe'!$B$17:$B$86,$A7,'Base escolaridade da mãe'!$A$17:$A$86,$B$3)) -> 3 | E7: =IF($B$3="Todas",SUMIFS('Base escolaridade da mãe'!F$17:F$86,'Base escolaridade da mãe'!$B$17:$B$86,$A7),SUMIFS('Base escolaridade da mãe'!F$17:F$86,'Base escolaridade da mãe'!$B$17:$B$86,$A7,'Base escolaridade da mãe'!$A$17:$A$86,$B$3)) -> 1 | F7: =IF($B$3="Todas",SUMIFS('Base escolaridade da mãe'!G$17:G$86,'Base escolaridade da mãe'!$B$17:$B$86,$A7),SUMIFS('Base escolaridade da mãe'!G$17:G$86,'Base escolaridade da mãe'!$B$17:$B$86,$A7,'Base escolaridade da mãe'!$A$17:$A$86,$B$3)) -> 2 | G7: =IF($B$3="Todas",SUMIFS('Base escolaridade da mãe'!H$17:H$86,'Base escolaridade da mãe'!$B$17:$B$86,$A7),SUMIFS('Base escolaridade da mãe'!H$17:H$86,'Base escolaridade da mãe'!$B$17:$B$86,$A7,'Base escolaridade da mãe'!$A$17:$A$86,$B$3)) -> 2 | H7: =SUM(B7:G7) -> 13
A8: 230360 Catarina | B8: =IF($B$3="Todas",SUMIFS('Base escolaridade da mãe'!C$17:C$86,'Base escolaridade da mãe'!$B$17:$B$86,$A8),SUMIFS('Base escolaridade da mãe'!C$17:C$86,'Base escolaridade da mãe'!$B$17:$B$86,$A8,'Base escolaridade da mãe'!$A$17:$A$86,$B$3)) -> 3 | C8: =IF($B$3="Todas",SUMIFS('Base escolaridade da mãe'!D$17:D$86,'Base escolaridade da mãe'!$B$17:$B$86,$A8),SUMIFS('Base escolaridade da mãe'!D$17:D$86,'Base escolaridade da mãe'!$B$17:$B$86,$A8,'Base escolaridade da mãe'!$A$17:$A$86,$B$3)) -> 2 | D8: =IF($B$3="Todas",SUMIFS('Base escolaridade da mãe'!E$17:E$86,'Base escolaridade da mãe'!$B$17:$B$86,$A8),SUMIFS('Base escolaridade da mãe'!E$17:E$86,'Base escolaridade da mãe'!$B$17:$B$86,$A8,'Base escolaridade da mãe'!$A$17:$A$86,$B$3)) -> 1 | E8: =IF($B$3="Todas",SUMIFS('Base escolaridade da mãe'!F$17:F$86,'Base escolaridade da mãe'!$B$17:$B$86,$A8),SUMIFS('Base escolaridade da mãe'!F$17:F$86,'Base escolaridade da mãe'!$B$17:$B$86,$A8,'Base escolaridade da mãe'!$A$17:$A$86,$B$3)) -> 2 | F8: =IF($B$3="Todas",SUMIFS('Base escolaridade da mãe'!G$17:G$86,'Base escolaridade da mãe'!$B$17:$B$86,$A8),SUMIFS('Base escolaridade da mãe'!G$17:G$86,'Base escolaridade da mãe'!$B$17:$B$86,$A8,'Base escolaridade da mãe'!$A$17:$A$86,$B$3)) -> 1 | G8: =IF($B$3="Todas",SUMIFS('Base escolaridade da mãe'!H$17:H$86,'Base escolaridade da mãe'!$B$17:$B$86,$A8),SUMIFS('Base escolaridade da mãe'!H$17:H$86,'Base escolaridade da mãe'!$B$17:$B$86,$A8,'Base escolaridade da mãe'!$A$17:$A$86,$B$3)) -> 0 | H8: =SUM(B8:G8) -> 9
A9: 230426 Deputado Irapuan Pinheiro | B9: =IF($B$3="Todas",SUMIFS('Base escolaridade da mãe'!C$17:C$86,'Base escolaridade da mãe'!$B$17:$B$86,$A9),SUMIFS('Base escolaridade da mãe'!C$17:C$86,'Base escolaridade da mãe'!$B$17:$B$86,$A9,'Base escolaridade da mãe'!$A$17:$A$86,$B$3)) -> 1 | C9: =IF($B$3="Todas",SUMIFS('Base escolaridade da mãe'!D$17:D$86,'Base escolaridade da mãe'!$B$17:$B$86,$A9),SUMIFS('Base escolaridade da mãe'!D$17:D$86,'Base escolaridade da mãe'!$B$17:$B$86,$A9,'Base escolaridade da mãe'!$A$17:$A$86,$B$3)) -> 0 | D9: =IF($B$3="Todas",SUMIFS('Base escolaridade da mãe'!E$17:E$86,'Base escolaridade da mãe'!$B$17:$B$86,$A9),SUMIFS('Base escolaridade da mãe'!E$17:E$86,'Base escolaridade da mãe'!$B$17:$B$86,$A9,'Base escolaridade da mãe'!$A$17:$A$86,$B$3)) -> 3 | E9: =IF($B$3="Todas",SUMIFS('Base escolaridade da mãe'!F$17:F$86,'Base escolaridade da mãe'!$B$17:$B$86,$A9),SUMIFS('Base escolaridade da mãe'!F$17:F$86,'Base escolaridade da mãe'!$B$17:$B$86,$A9,'Base escolaridade da mãe'!$A$17:$A$86,$B$3)) -> 1 | F9: =IF($B$3="Todas",SUMIFS('Base escolaridade da mãe'!G$17:G$86,'Base escolaridade da mãe'!$B$17:$B$86,$A9),SUMIFS('Base escolaridade da mãe'!G$17:G$86,'Base escolaridade da mãe'!$B$17:$B$86,$A9,'Base escolaridade da mãe'!$A$17:$A$86,$B$3)) -> 1 | G9: =IF($B$3="Todas",SUMIFS('Base escolaridade da mãe'!H$17:H$86,'Base escolaridade da mãe'!$B$17:$B$86,$A9),SUMIFS('Base escolaridade da mãe'!H$17:H$86,'Base escolaridade da mãe'!$B$17:$B$86,$A9,'Base escolaridade da mãe'!$A$17:$A$86,$B$3)) -> 1 | H9: =SUM(B9:G9) -> 7
A10: 230550 Iguatu | B10: =IF($B$3="Todas",SUMIFS('Base escolaridade da mãe'!C$17:C$86,'Base escolaridade da mãe'!$B$17:$B$86,$A10),SUMIFS('Base escolaridade da mãe'!C$17:C$86,'Base escolaridade da mãe'!$B$17:$B$86,$A10,'Base escolaridade da mãe'!$A$17:$A$86,$B$3)) -> 13 | C10: =IF($B$3="Todas",SUMIFS('Base escolaridade da mãe'!D$17:D$86,'Base escolaridade da mãe'!$B$17:$B$86,$A10),SUMIFS('Base escolaridade da mãe'!D$17:D$86,'Base escolaridade da mãe'!$B$17:$B$86,$A10,'Base escolaridade da mãe'!$A$17:$A$86,$B$3)) -> 15 | D10: =IF($B$3="Todas",SUMIFS('Base escolaridade da mãe'!E$17:E$86,'Base escolaridade da mãe'!$B$17:$B$86,$A10),SUMIFS('Base escolaridade da mãe'!E$17:E$86,'Base escolaridade da mãe'!$B$17:$B$86,$A10,'Base escolaridade da mãe'!$A$17:$A$86,$B$3)) -> 17 | E10: =IF($B$3="Todas",SUMIFS('Base escolaridade da mãe'!F$17:F$86,'Base escolaridade da mãe'!$B$17:$B$86,$A10),SUMIFS('Base escolaridade da mãe'!F$17:F$86,'Base escolaridade da mãe'!$B$17:$B$86,$A10,'Base escolaridade da mãe'!$A$17:$A$86,$B$3)) -> 13 | F10: =IF($B$3="Todas",SUMIFS('Base escolaridade da mãe'!G$17:G$86,'Base escolaridade da mãe'!$B$17:$B$86,$A10),SUMIFS('Base escolaridade da mãe'!G$17:G$86,'Base escolaridade da mãe'!$B$17:$B$86,$A10,'Base escolaridade da mãe'!$A$17:$A$86,$B$3)) -> 16 | G10: =IF($B$3="Todas",SUMIFS('Base escolaridade da mãe'!H$17:H$86,'Base escolaridade da mãe'!$B$17:$B$86,$A10),SUMIFS('Base escolaridade da mãe'!H$17:H$86,'Base escolaridade da mãe'!$B$17:$B$86,$A10,'Base escolaridade da mãe'!$A$17:$A$86,$B$3)) -> 12 | H10: =SUM(B10:G10) -> 86
A11: 230740 Jucás | B11: =IF($B$3="Todas",SUMIFS('Base escolaridade da mãe'!C$17:C$86,'Base escolaridade da mãe'!$B$17:$B$86,$A11),SUMIFS('Base escolaridade da mãe'!C$17:C$86,'Base escolaridade da mãe'!$B$17:$B$86,$A11,'Base escolaridade da mãe'!$A$17:$A$86,$B$3)) -> 7 | C11: =IF($B$3="Todas",SUMIFS('Base escolaridade da mãe'!D$17:D$86,'Base escolaridade da mãe'!$B$17:$B$86,$A11),SUMIFS('Base escolaridade da mãe'!D$17:D$86,'Base escolaridade da mãe'!$B$17:$B$86,$A11,'Base escolaridade da mãe'!$A$17:$A$86,$B$3)) -> 2 | D11: =IF($B$3="Todas",SUMIFS('Base escolaridade da mãe'!E$17:E$86,'Base escolaridade da mãe'!$B$17:$B$86,$A11),SUMIFS('Base escolaridade da mãe'!E$17:E$86,'Base escolaridade da mãe'!$B$17:$B$86,$A11,'Base escolaridade da mãe'!$A$17:$A$86,$B$3)) -> 6 | E11: =IF($B$3="Todas",SUMIFS('Base escolaridade da mãe'!F$17:F$86,'Base escolaridade da mãe'!$B$17:$B$86,$A11),SUMIFS('Base escolaridade da mãe'!F$17:F$86,'Base escolaridade da mãe'!$B$17:$B$86,$A11,'Base escolaridade da mãe'!$A$17:$A$86,$B$3)) -> 2 | F11: =IF($B$3="Todas",SUMIFS('Base escolaridade da mãe'!G$17:G$86,'Base escolaridade da mãe'!$B$17:$B$86,$A11),SUMIFS('Base escolaridade da mãe'!G$17:G$86,'Base escolaridade da mãe'!$B$17:$B$86,$A11,'Base escolaridade da mãe'!$A$17:$A$86,$B$3)) -> 7 | G11: =IF($B$3="Todas",SUMIFS('Base escolaridade da mãe'!H$17:H$86,'Base escolaridade da mãe'!$B$17:$B$86,$A11),SUMIFS('Base escolaridade da mãe'!H$17:H$86,'Base escolaridade da mãe'!$B$17:$B$86,$A11,'Base escolaridade da mãe'!$A$17:$A$86,$B$3)) -> 5 | H11: =SUM(B11:G11) -> 29
A12: 230850 Mombaça | B12: =IF($B$3="Todas",SUMIFS('Base escolaridade da mãe'!C$17:C$86,'Base escolaridade da mãe'!$B$17:$B$86,$A12),SUMIFS('Base escolaridade da mãe'!C$17:C$86,'Base escolaridade da mãe'!$B$17:$B$86,$A12,'Base escolaridade da mãe'!$A$17:$A$86,$B$3)) -> 1 | C12: =IF($B$3="Todas",SUMIFS('Base escolaridade da mãe'!D$17:D$86,'Base escolaridade da mãe'!$B$17:$B$86,$A12),SUMIFS('Base escolaridade da mãe'!D$17:D$86,'Base escolaridade da mãe'!$B$17:$B$86,$A12,'Base escolaridade da mãe'!$A$17:$A$86,$B$3)) -> 6 | D12: =IF($B$3="Todas",SUMIFS('Base escolaridade da mãe'!E$17:E$86,'Base escolaridade da mãe'!$B$17:$B$86,$A12),SUMIFS('Base escolaridade da mãe'!E$17:E$86,'Base escolaridade da mãe'!$B$17:$B$86,$A12,'Base escolaridade da mãe'!$A$17:$A$86,$B$3)) -> 7 | E12: =IF($B$3="Todas",SUMIFS('Base escolaridade da mãe'!F$17:F$86,'Base escolaridade da mãe'!$B$17:$B$86,$A12),SUMIFS('Base escolaridade da mãe'!F$17:F$86,'Base escolaridade da mãe'!$B$17:$B$86,$A12,'Base escolaridade da mãe'!$A$17:$A$86,$B$3)) -> 7 | F12: =IF($B$3="Todas",SUMIFS('Base escolaridade da mãe'!G$17:G$86,'Base escolaridade da mãe'!$B$17:$B$86,$A12),SUMIFS('Base escolaridade da mãe'!G$17:G$86,'Base escolaridade da mãe'!$B$17:$B$86,$A12,'Base escolaridade da mãe'!$A$17:$A$86,$B$3)) -> 5 | G12: =IF($B$3="Todas",SUMIFS('Base escolaridade da mãe'!H$17:H$86,'Base escolaridade da mãe'!$B$17:$B$86,$A12),SUMIFS('Base escolaridade da mãe'!H$17:H$86,'Base escolaridade da mãe'!$B$17:$B$86,$A12,'Base escolaridade da mãe'!$A$17:$A$86,$B$3)) -> 6 | H12: =SUM(B12:G12) -> 32
A13: 231090 Piquet Carneiro | B13: =IF($B$3="Todas",SUMIFS('Base escolaridade da mãe'!C$17:C$86,'Base escolaridade da mãe'!$B$17:$B$86,$A13),SUMIFS('Base escolaridade da mãe'!C$17:C$86,'Base escolaridade da mãe'!$B$17:$B$86,$A13,'Base escolaridade da mãe'!$A$17:$A$86,$B$3)) -> 3 | C13: =IF($B$3="Todas",SUMIFS('Base escolaridade da mãe'!D$17:D$86,'Base escolaridade da mãe'!$B$17:$B$86,$A13),SUMIFS('Base escolaridade da mãe'!D$17:D$86,'Base escolaridade da mãe'!$B$17:$B$86,$A13,'Base escolaridade da mãe'!$A$17:$A$86,$B$3)) -> 3 | D13: =IF($B$3="Todas",SUMIFS('Base escolaridade da mãe'!E$17:E$86,'Base escolaridade da mãe'!$B$17:$B$86,$A13),SUMIFS('Base escolaridade da mãe'!E$17:E$86,'Base escolaridade da mãe'!$B$17:$B$86,$A13,'Base escolaridade da mãe'!$A$17:$A$86,$B$3)) -> 0 | E13: =IF($B$3="Todas",SUMIFS('Base escolaridade da mãe'!F$17:F$86,'Base escolaridade da mãe'!$B$17:$B$86,$A13),SUMIFS('Base escolaridade da mãe'!F$17:F$86,'Base escolaridade da mãe'!$B$17:$B$86,$A13,'Base escolaridade da mãe'!$A$17:$A$86,$B$3)) -> 5 | F13: =IF($B$3="Todas",SUMIFS('Base escolaridade da mãe'!G$17:G$86,'Base escolaridade da mãe'!$B$17:$B$86,$A13),SUMIFS('Base escolaridade da mãe'!G$17:G$86,'Base escolaridade da mãe'!$B$17:$B$86,$A13,'Base escolaridade da mãe'!$A$17:$A$86,$B$3)) -> 2 | G13: =IF($B$3="Todas",SUMIFS('Base escolaridade da mãe'!H$17:H$86,'Base escolaridade da mãe'!$B$17:$B$86,$A13),SUMIFS('Base escolaridade da mãe'!H$17:H$86,'Base escolaridade da mãe'!$B$17:$B$86,$A13,'Base escolaridade da mãe'!$A$17:$A$86,$B$3)) -> 1 | H13: =SUM(B13:G13) -> 14
A14: 231135 Quixelô | B14: =IF($B$3="Todas",SUMIFS('Base escolaridade da mãe'!C$17:C$86,'Base escolaridade da mãe'!$B$17:$B$86,$A14),SUMIFS('Base escolaridade da mãe'!C$17:C$86,'Base escolaridade da mãe'!$B$17:$B$86,$A14,'Base escolaridade da mãe'!$A$17:$A$86,$B$3)) -> 7 | C14: =IF($B$3="Todas",SUMIFS('Base escolaridade da mãe'!D$17:D$86,'Base escolaridade da mãe'!$B$17:$B$86,$A14),SUMIFS('Base escolaridade da mãe'!D$17:D$86,'Base escolaridade da mãe'!$B$17:$B$86,$A14,'Base escolaridade da mãe'!$A$17:$A$86,$B$3)) -> 6 | D14: =IF($B$3="Todas",SUMIFS('Base escolaridade da mãe'!E$17:E$86,'Base escolaridade da mãe'!$B$17:$B$86,$A14),SUMIFS('Base escolaridade da mãe'!E$17:E$86,'Base escolaridade da mãe'!$B$17:$B$86,$A14,'Base escolaridade da mãe'!$A$17:$A$86,$B$3)) -> 3 | E14: =IF($B$3="Todas",SUMIFS('Base escolaridade da mãe'!F$17:F$86,'Base escolaridade da mãe'!$B$17:$B$86,$A14),SUMIFS('Base escolaridade da mãe'!F$17:F$86,'Base escolaridade da mãe'!$B$17:$B$86,$A14,'Base escolaridade da mãe'!$A$17:$A$86,$B$3)) -> 3 | F14: =IF($B$3="Todas",SUMIFS('Base escolaridade da mãe'!G$17:G$86,'Base escolaridade da mãe'!$B$17:$B$86,$A14),SUMIFS('Base escolaridade da mãe'!G$17:G$86,'Base escolaridade da mãe'!$B$17:$B$86,$A14,'Base escolaridade da mãe'!$A$17:$A$86,$B$3)) -> 4 | G14: =IF($B$3="Todas",SUMIFS('Base escolaridade da mãe'!H$17:H$86,'Base escolaridade da mãe'!$B$17:$B$86,$A14),SUMIFS('Base escolaridade da mãe'!H$17:H$86,'Base escolaridade da mãe'!$B$17:$B$86,$A14,'Base escolaridade da mãe'!$A$17:$A$86,$B$3)) -> 1 | H14: =SUM(B14:G14) -> 24
A15: 231190 Saboeiro | B15: =IF($B$3="Todas",SUMIFS('Base escolaridade da mãe'!C$17:C$86,'Base escolaridade da mãe'!$B$17:$B$86,$A15),SUMIFS('Base escolaridade da mãe'!C$17:C$86,'Base escolaridade da mãe'!$B$17:$B$86,$A15,'Base escolaridade da mãe'!$A$17:$A$86,$B$3)) -> 0 | C15: =IF($B$3="Todas",SUMIFS('Base escolaridade da mãe'!D$17:D$86,'Base escolaridade da mãe'!$B$17:$B$86,$A15),SUMIFS('Base escolaridade da mãe'!D$17:D$86,'Base escolaridade da mãe'!$B$17:$B$86,$A15,'Base escolaridade da mãe'!$A$17:$A$86,$B$3)) -> 1 | D15: =IF($B$3="Todas",SUMIFS('Base escolaridade da mãe'!E$17:E$86,'Base escolaridade da mãe'!$B$17:$B$86,$A15),SUMIFS('Base escolaridade da mãe'!E$17:E$86,'Base escolaridade da mãe'!$B$17:$B$86,$A15,'Base escolaridade da mãe'!$A$17:$A$86,$B$3)) -> 1 | E15: =IF($B$3="Todas",SUMIFS('Base escolaridade da mãe'!F$17:F$86,'Base escolaridade da mãe'!$B$17:$B$86,$A15),SUMIFS('Base escolaridade da mãe'!F$17:F$86,'Base escolaridade da mãe'!$B$17:$B$86,$A15,'Base escolaridade da mãe'!$A$17:$A$86,$B$3)) -> 2 | F15: =IF($B$3="Todas",SUMIFS('Base escolaridade da mãe'!G$17:G$86,'Base escolaridade da mãe'!$B$17:$B$86,$A15),SUMIFS('Base escolaridade da mãe'!G$17:G$86,'Base escolaridade da mãe'!$B$17:$B$86,$A15,'Base escolaridade da mãe'!$A$17:$A$86,$B$3)) -> 1 | G15: =IF($B$3="Todas",SUMIFS('Base escolaridade da mãe'!H$17:H$86,'Base escolaridade da mãe'!$B$17:$B$86,$A15),SUMIFS('Base escolaridade da mãe'!H$17:H$86,'Base escolaridade da mãe'!$B$17:$B$86,$A15,'Base escolaridade da mãe'!$A$17:$A$86,$B$3)) -> 1 | H15: =SUM(B15:G15) -> 6
A16: Total | B16: =SUM(B6:B15) -> 42 | C16: =SUM(C6:C15) -> 50 | D16: =SUM(D6:D15) -> 49 | E16: =SUM(E6:E15) -> 44 | F16: =SUM(F6:F15) -> 41 | G16: =SUM(G6:G15) -> 38 | H16: =SUM(H6:H15) -> 264
A18: Fonte: SIM/DATASUS – tabulações por escolaridade da mãe (FREQescolaridadeMAE 2019 a 2024). Dados de origem na aba 'Base escolaridade da mãe'.
A19: Municípios ou categorias ausentes na tabulação de um ano foram considerados com 0 óbitos.

Sheet Raça-cor 2019-2024
A1: ="Óbitos em menores de 5 anos por município de residência e ano – raça/cor: "&B3&" – 18ª Região de Saúde (Iguatu), 2019 a 2024" -> Óbitos em menores de 5 anos por município de residência e ano – raça/cor: Todas – 18ª Região de Saúde (Iguatu), 2019 a 2024
A3: Raça/cor (filtro): | B3: Todas | F3: ← clique na célula amarela e escolha a categoria
A5: Município de residência | B5: 2019 | C5: 2020 | D5: 2021 | E5: 2022 | F5: 2023 | G5: 2024 | H5: Total 2019-2024
A6: 230030 Acopiara | B6: =IF($B$3="Todas",SUMIFS('Base raça-cor'!C$15:C$64,'Base raça-cor'!$B$15:$B$64,$A6),SUMIFS('Base raça-cor'!C$15:C$64,'Base raça-cor'!$B$15:$B$64,$A6,'Base raça-cor'!$A$15:$A$64,$B$3)) -> 5 | C6: =IF($B$3="Todas",SUMIFS('Base raça-cor'!D$15:D$64,'Base raça-cor'!$B$15:$B$64,$A6),SUMIFS('Base raça-cor'!D$15:D$64,'Base raça-cor'!$B$15:$B$64,$A6,'Base raça-cor'!$A$15:$A$64,$B$3)) -> 12 | D6: =IF($B$3="Todas",SUMIFS('Base raça-cor'!E$15:E$64,'Base raça-cor'!$B$15:$B$64,$A6),SUMIFS('Base raça-cor'!E$15:E$64,'Base raça-cor'!$B$15:$B$64,$A6,'Base raça-cor'!$A$15:$A$64,$B$3)) -> 8 | E6: =IF($B$3="Todas",SUMIFS('Base raça-cor'!F$15:F$64,'Base raça-cor'!$B$15:$B$64,$A6),SUMIFS('Base raça-cor'!F$15:F$64,'Base raça-cor'!$B$15:$B$64,$A6,'Base raça-cor'!$A$15:$A$64,$B$3)) -> 8 | F6: =IF($B$3="Todas",SUMIFS('Base raça-cor'!G$15:G$64,'Base raça-cor'!$B$15:$B$64,$A6),SUMIFS('Base raça-cor'!G$15:G$64,'Base raça-cor'!$B$15:$B$64,$A6,'Base raça-cor'!$A$15:$A$64,$B$3)) -> 2 | G6: =IF($B$3="Todas",SUMIFS('Base raça-cor'!H$15:H$64,'Base raça-cor'!$B$15:$B$64,$A6),SUMIFS('Base raça-cor'!H$15:H$64,'Base raça-cor'!$B$15:$B$64,$A6,'Base raça-cor'!$A$15:$A$64,$B$3)) -> 9 | H6: =SUM(B6:G6) -> 44
A7: 230330 Cariús | B7: =IF($B$3="Todas",SUMIFS('Base raça-cor'!C$15:C$64,'Base raça-cor'!$B$15:$B$64,$A7),SUMIFS('Base raça-cor'!C$15:C$64,'Base raça-cor'!$B$15:$B$64,$A7,'Base raça-cor'!$A$15:$A$64,$B$3)) -> 2 | C7: =IF($B$3="Todas",SUMIFS('Base raça-cor'!D$15:D$64,'Base raça-cor'!$B$15:$B$64,$A7),SUMIFS('Base raça-cor'!D$15:D$64,'Base raça-cor'!$B$15:$B$64,$A7,'Base raça-cor'!$A$15:$A$64,$B$3)) -> 3 | D7: =IF($B$3="Todas",SUMIFS('Base raça-cor'!E$15:E$64,'Base raça-cor'!$B$15:$B$64,$A7),SUMIFS('Base raça-cor'!E$15:E$64,'Base raça-cor'!$B$15:$B$64,$A7,'Base raça-cor'!$A$15:$A$64,$B$3)) -> 3 | E7: =IF($B$3="Todas",SUMIFS('Base raça-cor'!F$15:F$64,'Base raça-cor'!$B$15:$B$64,$A7),SUMIFS('Base raça-cor'!F$15:F$64,'Base raça-cor'!$B$15:$B$64,$A7,'Base raça-cor'!$A$15:$A$64,$B$3)) -> 1 | F7: =IF($B$3="Todas",SUMIFS('Base raça-cor'!G$15:G$64,'Base raça-cor'!$B$15:$B$64,$A7),SUMIFS('Base raça-cor'!G$15:G$64,'Base raça-cor'!$B$15:$B$64,$A7,'Base raça-cor'!$A$15:$A$64,$B$3)) -> 2 | G7: =IF($B$3="Todas",SUMIFS('Base raça-cor'!H$15:H$64,'Base raça-cor'!$B$15:$B$64,$A7),SUMIFS('Base raça-cor'!H$15:H$64,'Base raça-cor'!$B$15:$B$64,$A7,'Base raça-cor'!$A$15:$A$64,$B$3)) -> 2 | H7: =SUM(B7:G7) -> 13
A8: 230360 Catarina | B8: =IF($B$3="Todas",SUMIFS('Base raça-cor'!C$15:C$64,'Base raça-cor'!$B$15:$B$64,$A8),SUMIFS('Base raça-cor'!C$15:C$64,'Base raça-cor'!$B$15:$B$64,$A8,'Base raça-cor'!$A$15:$A$64,$B$3)) -> 3 | C8: =IF($B$3="Todas",SUMIFS('Base raça-cor'!D$15:D$64,'Base raça-cor'!$B$15:$B$64,$A8),SUMIFS('Base raça-cor'!D$15:D$64,'Base raça-cor'!$B$15:$B$64,$A8,'Base raça-cor'!$A$15:$A$64,$B$3)) -> 2 | D8: =IF($B$3="Todas",SUMIFS('Base raça-cor'!E$15:E$64,'Base raça-cor'!$B$15:$B$64,$A8),SUMIFS('Base raça-cor'!E$15:E$64,'Base raça-cor'!$B$15:$B$64,$A8,'Base raça-cor'!$A$15:$A$64,$B$3)) -> 1 | E8: =IF($B$3="Todas",SUMIFS('Base raça-cor'!F$15:F$64,'Base raça-cor'!$B$15:$B$64,$A8),SUMIFS('Base raça-cor'!F$15:F$64,'Base raça-cor'!$B$15:$B$64,$A8,'Base raça-cor'!$A$15:$A$64,$B$3)) -> 2 | F8: =IF($B$3="Todas",SUMIFS('Base raça-cor'!G$15:G$64,'Base raça-cor'!$B$15:$B$64,$A8),SUMIFS('Base raça-cor'!G$15:G$64,'Base raça-cor'!$B$15:$B$64,$A8,'Base raça-cor'!$A$15:$A$64,$B$3)) -> 1 | G8: =IF($B$3="Todas",SUMIFS('Base raça-cor'!H$15:H$64,'Base raça-cor'!$B$15:$B$64,$A8),SUMIFS('Base raça-cor'!H$15:H$64,'Base raça-cor'!$B$15:$B$64,$A8,'Base raça-cor'!$A$15:$A$64,$B$3)) -> 0 | H8: =SUM(B8:G8) -> 9
A9: 230426 Deputado Irapuan Pinheiro | B9: =IF($B$3="Todas",SUMIFS('Base raça-cor'!C$15:C$64,'Base raça-cor'!$B$15:$B$64,$A9),SUMIFS('Base raça-cor'!C$15:C$64,'Base raça-cor'!$B$15:$B$64,$A9,'Base raça-cor'!$A$15:$A$64,$B$3)) -> 1 | C9: =IF($B$3="Todas",SUMIFS('Base raça-cor'!D$15:D$64,'Base raça-cor'!$B$15:$B$64,$A9),SUMIFS('Base raça-cor'!D$15:D$64,'Base raça-cor'!$B$15:$B$64,$A9,'Base raça-cor'!$A$15:$A$64,$B$3)) -> 0 | D9: =IF($B$3="Todas",SUMIFS('Base raça-cor'!E$15:E$64,'Base raça-cor'!$B$15:$B$64,$A9),SUMIFS('Base raça-cor'!E$15:E$64,'Base raça-cor'!$B$15:$B$64,$A9,'Base raça-cor'!$A$15:$A$64,$B$3)) -> 3 | E9: =IF($B$3="Todas",SUMIFS('Base raça-cor'!F$15:F$64,'Base raça-cor'!$B$15:$B$64,$A9),SUMIFS('Base raça-cor'!F$15:F$64,'Base raça-cor'!$B$15:$B$64,$A9,'Base raça-cor'!$A$15:$A$64,$B$3)) -> 1 | F9: =IF($B$3="Todas",SUMIFS('Base raça-cor'!G$15:G$64,'Base raça-cor'!$B$15:$B$64,$A9),SUMIFS('Base raça-cor'!G$15:G$64,'Base raça-cor'!$B$15:$B$64,$A9,'Base raça-cor'!$A$15:$A$64,$B$3)) -> 1 | G9: =IF($B$3="Todas",SUMIFS('Base raça-cor'!H$15:H$64,'Base raça-cor'!$B$15:$B$64,$A9),SUMIFS('Base raça-cor'!H$15:H$64,'Base raça-cor'!$B$15:$B$64,$A9,'Base raça-cor'!$A$15:$A$64,$B$3)) -> 1 | H9: =SUM(B9:G9) -> 7
A10: 230550 Iguatu | B10: =IF($B$3="Todas",SUMIFS('Base raça-cor'!C$15:C$64,'Base raça-cor'!$B$15:$B$64,$A10),SUMIFS('Base raça-cor'!C$15:C$64,'Base raça-cor'!$B$15:$B$64,$A10,'Base raça-cor'!$A$15:$A$64,$B$3)) -> 13 | C10: =IF($B$3="Todas",SUMIFS('Base raça-cor'!D$15:D$64,'Base raça-cor'!$B$15:$B$64,$A10),SUMIFS('Base raça-cor'!D$15:D$64,'Base raça-cor'!$B$15:$B$64,$A10,'Base raça-cor'!$A$15:$A$64,$B$3)) -> 15 | D10: =IF($B$3="Todas",SUMIFS('Base raça-cor'!E$15:E$64,'Base raça-cor'!$B$15:$B$64,$A10),SUMIFS('Base raça-cor'!E$15:E$64,'Base raça-cor'!$B$15:$B$64,$A10,'Base raça-cor'!$A$15:$A$64,$B$3)) -> 17 | E10: =IF($B$3="Todas",SUMIFS('Base raça-cor'!F$15:F$64,'Base raça-cor'!$B$15:$B$64,$A10),SUMIFS('Base raça-cor'!F$15:F$64,'Base raça-cor'!$B$15:$B$64,$A10,'Base raça-cor'!$A$15:$A$64,$B$3)) -> 13 | F10: =IF($B$3="Todas",SUMIFS('Base raça-cor'!G$15:G$64,'Base raça-cor'!$B$15:$B$64,$A10),SUMIFS('Base raça-cor'!G$15:G$64,'Base raça-cor'!$B$15:$B$64,$A10,'Base raça-cor'!$A$15:$A$64,$B$3)) -> 16 | G10: =IF($B$3="Todas",SUMIFS('Base raça-cor'!H$15:H$64,'Base raça-cor'!$B$15:$B$64,$A10),SUMIFS('Base raça-cor'!H$15:H$64,'Base raça-cor'!$B$15:$B$64,$A10,'Base raça-cor'!$A$15:$A$64,$B$3)) -> 12 | H10: =SUM(B10:G10) -> 86
A11: 230740 Jucás | B11: =IF($B$3="Todas",SUMIFS('Base raça-cor'!C$15:C$64,'Base raça-cor'!$B$15:$B$64,$A11),SUMIFS('Base raça-cor'!C$15:C$64,'Base raça-cor'!$B$15:$B$64,$A11,'Base raça-cor'!$A$15:$A$64,$B$3)) -> 7 | C11: =IF($B$3="Todas",SUMIFS('Base raça-cor'!D$15:D$64,'Base raça-cor'!$B$15:$B$64,$A11),SUMIFS('Base raça-cor'!D$15:D$64,'Base raça-cor'!$B$15:$B$64,$A11,'Base raça-cor'!$A$15:$A$64,$B$3)) -> 2 | D11: =IF($B$3="Todas",SUMIFS('Base raça-cor'!E$15:E$64,'Base raça-cor'!$B$15:$B$64,$A11),SUMIFS('Base raça-cor'!E$15:E$64,'Base raça-cor'!$B$15:$B$64,$A11,'Base raça-cor'!$A$15:$A$64,$B$3)) -> 6 | E11: =IF($B$3="Todas",SUMIFS('Base raça-cor'!F$15:F$64,'Base raça-cor'!$B$15:$B$64,$A11),SUMIFS('Base raça-cor'!F$15:F$64,'Base raça-cor'!$B$15:$B$64,$A11,'Base raça-cor'!$A$15:$A$64,$B$3)) -> 2 | F11: =IF($B$3="Todas",SUMIFS('Base raça-cor'!G$15:G$64,'Base raça-cor'!$B$15:$B$64,$A11),SUMIFS('Base raça-cor'!G$15:G$64,'Base raça-cor'!$B$15:$B$64,$A11,'Base raça-cor'!$A$15:$A$64,$B$3)) -> 7 | G11: =IF($B$3="Todas",SUMIFS('Base raça-cor'!H$15:H$64,'Base raça-cor'!$B$15:$B$64,$A11),SUMIFS('Base raça-cor'!H$15:H$64,'Base raça-cor'!$B$15:$B$64,$A11,'Base raça-cor'!$A$15:$A$64,$B$3)) -> 5 | H11: =SUM(B11:G11) -> 29
A12: 230850 Mombaça | B12: =IF($B$3="Todas",SUMIFS('Base raça-cor'!C$15:C$64,'Base raça-cor'!$B$15:$B$64,$A12),SUMIFS('Base raça-cor'!C$15:C$64,'Base raça-cor'!$B$15:$B$64,$A12,'Base raça-cor'!$A$15:$A$64,$B$3)) -> 1 | C12: =IF($B$3="Todas",SUMIFS('Base raça-cor'!D$15:D$64,'Base raça-cor'!$B$15:$B$64,$A12),SUMIFS('Base raça-cor'!D$15:D$64,'Base raça-cor'!$B$15:$B$64,$A12,'Base raça-cor'!$A$15:$A$64,$B$3)) -> 6 | D12: =IF($B$3="Todas",SUMIFS('Base raça-cor'!E$15:E$64,'Base raça-cor'!$B$15:$B$64,$A12),SUMIFS('Base raça-cor'!E$15:E$64,'Base raça-cor'!$B$15:$B$64,$A12,'Base raça-cor'!$A$15:$A$64,$B$3)) -> 7 | E12: =IF($B$3="Todas",SUMIFS('Base raça-cor'!F$15:F$64,'Base raça-cor'!$B$15:$B$64,$A12),SUMIFS('Base raça-cor'!F$15:F$64,'Base raça-cor'!$B$15:$B$64,$A12,'Base raça-cor'!$A$15:$A$64,$B$3)) -> 7 | F12: =IF($B$3="Todas",SUMIFS('Base raça-cor'!G$15:G$64,'Base raça-cor'!$B$15:$B$64,$A12),SUMIFS('Base raça-cor'!G$15:G$64,'Base raça-cor'!$B$15:$B$64,$A12,'Base raça-cor'!$A$15:$A$64,$B$3)) -> 5 | G12: =IF($B$3="Todas",SUMIFS('Base raça-cor'!H$15:H$64,'Base raça-cor'!$B$15:$B$64,$A12),SUMIFS('Base raça-cor'!H$15:H$64,'Base raça-cor'!$B$15:$B$64,$A12,'Base raça-cor'!$A$15:$A$64,$B$3)) -> 6 | H12: =SUM(B12:G12) -> 32
A13: 231090 Piquet Carneiro | B13: =IF($B$3="Todas",SUMIFS('Base raça-cor'!C$15:C$64,'Base raça-cor'!$B$15:$B$64,$A13),SUMIFS('Base raça-cor'!C$15:C$64,'Base raça-cor'!$B$15:$B$64,$A13,'Base raça-cor'!$A$15:$A$64,$B$3)) -> 3 | C13: =IF($B$3="Todas",SUMIFS('Base raça-cor'!D$15:D$64,'Base raça-cor'!$B$15:$B$64,$A13),SUMIFS('Base raça-cor'!D$15:D$64,'Base raça-cor'!$B$15:$B$64,$A13,'Base raça-cor'!$A$15:$A$64,$B$3)) -> 3 | D13: =IF($B$3="Todas",SUMIFS('Base raça-cor'!E$15:E$64,'Base raça-cor'!$B$15:$B$64,$A13),SUMIFS('Base raça-cor'!E$15:E$64,'Base raça-cor'!$B$15:$B$64,$A13,'Base raça-cor'!$A$15:$A$64,$B$3)) -> 0 | E13: =IF($B$3="Todas",SUMIFS('Base raça-cor'!F$15:F$64,'Base raça-cor'!$B$15:$B$64,$A13),SUMIFS('Base raça-cor'!F$15:F$64,'Base raça-cor'!$B$15:$B$64,$A13,'Base raça-cor'!$A$15:$A$64,$B$3)) -> 5 | F13: =IF($B$3="Todas",SUMIFS('Base raça-cor'!G$15:G$64,'Base raça-cor'!$B$15:$B$64,$A13),SUMIFS('Base raça-cor'!G$15:G$64,'Base raça-cor'!$B$15:$B$64,$A13,'Base raça-cor'!$A$15:$A$64,$B$3)) -> 2 | G13: =IF($B$3="Todas",SUMIFS('Base raça-cor'!H$15:H$64,'Base raça-cor'!$B$15:$B$64,$A13),SUMIFS('Base raça-cor'!H$15:H$64,'Base raça-cor'!$B$15:$B$64,$A13,'Base raça-cor'!$A$15:$A$64,$B$3)) -> 1 | H13: =SUM(B13:G13) -> 14
A14: 231135 Quixelô | B14: =IF($B$3="Todas",SUMIFS('Base raça-cor'!C$15:C$64,'Base raça-cor'!$B$15:$B$64,$A14),SUMIFS('Base raça-cor'!C$15:C$64,'Base raça-cor'!$B$15:$B$64,$A14,'Base raça-cor'!$A$15:$A$64,$B$3)) -> 7 | C14: =IF($B$3="Todas",SUMIFS('Base raça-cor'!D$15:D$64,'Base raça-cor'!$B$15:$B$64,$A14),SUMIFS('Base raça-cor'!D$15:D$64,'Base raça-cor'!$B$15:$B$64,$A14,'Base raça-cor'!$A$15:$A$64,$B$3)) -> 6 | D14: =IF($B$3="Todas",SUMIFS('Base raça-cor'!E$15:E$64,'Base raça-cor'!$B$15:$B$64,$A14),SUMIFS('Base raça-cor'!E$15:E$64,'Base raça-cor'!$B$15:$B$64,$A14,'Base raça-cor'!$A$15:$A$64,$B$3)) -> 3 | E14: =IF($B$3="Todas",SUMIFS('Base raça-cor'!F$15:F$64,'Base raça-cor'!$B$15:$B$64,$A14),SUMIFS('Base raça-cor'!F$15:F$64,'Base raça-cor'!$B$15:$B$64,$A14,'Base raça-cor'!$A$15:$A$64,$B$3)) -> 3 | F14: =IF($B$3="Todas",SUMIFS('Base raça-cor'!G$15:G$64,'Base raça-cor'!$B$15:$B$64,$A14),SUMIFS('Base raça-cor'!G$15:G$64,'Base raça-cor'!$B$15:$B$64,$A14,'Base raça-cor'!$A$15:$A$64,$B$3)) -> 4 | G14: =IF($B$3="Todas",SUMIFS('Base raça-cor'!H$15:H$64,'Base raça-cor'!$B$15:$B$64,$A14),SUMIFS('Base raça-cor'!H$15:H$64,'Base raça-cor'!$B$15:$B$64,$A14,'Base raça-cor'!$A$15:$A$64,$B$3)) -> 1 | H14: =SUM(B14:G14) -> 24
A15: 231190 Saboeiro | B15: =IF($B$3="Todas",SUMIFS('Base raça-cor'!C$15:C$64,'Base raça-cor'!$B$15:$B$64,$A15),SUMIFS('Base raça-cor'!C$15:C$64,'Base raça-cor'!$B$15:$B$64,$A15,'Base raça-cor'!$A$15:$A$64,$B$3)) -> 0 | C15: =IF($B$3="Todas",SUMIFS('Base raça-cor'!D$15:D$64,'Base raça-cor'!$B$15:$B$64,$A15),SUMIFS('Base raça-cor'!D$15:D$64,'Base raça-cor'!$B$15:$B$64,$A15,'Base raça-cor'!$A$15:$A$64,$B$3)) -> 1 | D15: =IF($B$3="Todas",SUMIFS('Base raça-cor'!E$15:E$64,'Base raça-cor'!$B$15:$B$64,$A15),SUMIFS('Base raça-cor'!E$15:E$64,'Base raça-cor'!$B$15:$B$64,$A15,'Base raça-cor'!$A$15:$A$64,$B$3)) -> 1 | E15: =IF($B$3="Todas",SUMIFS('Base raça-cor'!F$15:F$64,'Base raça-cor'!$B$15:$B$64,$A15),SUMIFS('Base raça-cor'!F$15:F$64,'Base raça-cor'!$B$15:$B$64,$A15,'Base raça-cor'!$A$15:$A$64,$B$3)) -> 2 | F15: =IF($B$3="Todas",SUMIFS('Base raça-cor'!G$15:G$64,'Base raça-cor'!$B$15:$B$64,$A15),SUMIFS('Base raça-cor'!G$15:G$64,'Base raça-cor'!$B$15:$B$64,$A15,'Base raça-cor'!$A$15:$A$64,$B$3)) -> 1 | G15: =IF($B$3="Todas",SUMIFS('Base raça-cor'!H$15:H$64,'Base raça-cor'!$B$15:$B$64,$A15),SUMIFS('Base raça-cor'!H$15:H$64,'Base raça-cor'!$B$15:$B$64,$A15,'Base raça-cor'!$A$15:$A$64,$B$3)) -> 1 | H15: =SUM(B15:G15) -> 6
A16: Total | B16: =SUM(B6:B15) -> 42 | C16: =SUM(C6:C15) -> 50 | D16: =SUM(D6:D15) -> 49 | E16: =SUM(E6:E15) -> 44 | F16: =SUM(F6:F15) -> 41 | G16: =SUM(G6:G15) -> 38 | H16: =SUM(H6:H15) -> 264
A18: Fonte: SIM/DATASUS – tabulações por raça/cor (FREQra_acor 2019 a 2024). Nenhum óbito de raça/cor amarela no período. Dados de origem na aba 'Base raça-cor'.
A19: Municípios ou categorias ausentes na tabulação de um ano foram considerados com 0 óbitos.

Sheet Comparativo 2019-2024
A1: Óbitos em menores de 5 anos evitáveis por município – 18ª Região de Saúde, 2019 a 2024
A3: Município de residência | B3: Evitáveis 2019 | C3: Total 2019 | D3: % Evitáveis 2019 | E3: Evitáveis 2020 | F3: Total 2020 | G3: % Evitáveis 2020 | H3: Evitáveis 2021 | I3: Total 2021 | J3: % Evitáveis 2021 | K3: Evitáveis 2022 | L3: Total 2022 | M3: % Evitáveis 2022 | N3: Evitáveis 2023 | O3: Total 2023 | P3: % Evitáveis 2023 | Q3: Evitáveis 2024 | R3: Total 2024 | S3: % Evitáveis 2024 | T3: Evitáveis 2019-2024 | U3: Total 2019-2024 | V3: % Evitáveis 2019-2024
A4: ='Evitabilidade 2019'!A4 -> 230030 Acopiara | B4: ='Evitabilidade 2019'!B4 -> 3 | C4: ='Evitabilidade 2019'!F4 -> 5 | D4: ='Evitabilidade 2019'!G4 -> 0.6 | E4: ='Evitabilidade 2020'!B4 -> 8 | F4: ='Evitabilidade 2020'!F4 -> 12 | G4: ='Evitabilidade 2020'!G4 -> 0.66666667 | H4: ='Evitabilidade 2021'!B4 -> 6 | I4: ='Evitabilidade 2021'!F4 -> 8 | J4: ='Evitabilidade 2021'!G4 -> 0.75 | K4: ='Evitabilidade 2022'!B4 -> 7 | L4: ='Evitabilidade 2022'!F4 -> 8 | M4: ='Evitabilidade 2022'!G4 -> 0.875 | N4: ='Evitabilidade 2023'!B4 -> 1 | O4: ='Evitabilidade 2023'!F4 -> 2 | P4: ='Evitabilidade 2023'!G4 -> 0.5 | Q4: ='Evitabilidade 2024'!B4 -> 7 | R4: ='Evitabilidade 2024'!F4 -> 9 | S4: ='Evitabilidade 2024'!G4 -> 0.77777778 | T4: =B4+E4+H4+K4+N4+Q4 -> 32 | U4: =C4+F4+I4+L4+O4+R4 -> 44 | V4: =IF(U4=0,"–",T4/U4) -> 0.72727273
A5: ='Evitabilidade 2019'!A5 -> 230330 Cariús | B5: ='Evitabilidade 2019'!B5 -> 1 | C5: ='Evitabilidade 2019'!F5 -> 2 | D5: ='Evitabilidade 2019'!G5 -> 0.5 | E5: ='Evitabilidade 2020'!B5 -> 2 | F5: ='Evitabilidade 2020'!F5 -> 3 | G5: ='Evitabilidade 2020'!G5 -> 0.66666667 | H5: ='Evitabilidade 2021'!B5 -> 3 | I5: ='Evitabilidade 2021'!F5 -> 3 | J5: ='Evitabilidade 2021'!G5 -> 1 | K5: ='Evitabilidade 2022'!B5 -> 1 | L5: ='Evitabilidade 2022'!F5 -> 1 | M5: ='Evitabilidade 2022'!G5 -> 1 | N5: ='Evitabilidade 2023'!B5 -> 2 | O5: ='Evitabilidade 2023'!F5 -> 2 | P5: ='Evitabilidade 2023'!G5 -> 1 | Q5: ='Evitabilidade 2024'!B5 -> 1 | R5: ='Evitabilidade 2024'!F5 -> 2 | S5: ='Evitabilidade 2024'!G5 -> 0.5 | T5: =B5+E5+H5+K5+N5+Q5 -> 10 | U5: =C5+F5+I5+L5+O5+R5 -> 13 | V5: =IF(U5=0,"–",T5/U5) -> 0.76923077
A6: ='Evitabilidade 2019'!A6 -> 230360 Catarina | B6: ='Evitabilidade 2019'!B6 -> 3 | C6: ='Evitabilidade 2019'!F6 -> 3 | D6: ='Evitabilidade 2019'!G6 -> 1 | E6: ='Evitabilidade 2020'!B6 -> 1 | F6: ='Evitabilidade 2020'!F6 -> 2 | G6: ='Evitabilidade 2020'!G6 -> 0.5 | H6: ='Evitabilidade 2021'!B6 -> 1 | I6: ='Evitabilidade 2021'!F6 -> 1 | J6: ='Evitabilidade 2021'!G6 -> 1 | K6: ='Evitabilidade 2022'!B6 -> 2 | L6: ='Evitabilidade 2022'!F6 -> 2 | M6: ='Evitabilidade 2022'!G6 -> 1 | N6: ='Evitabilidade 2023'!B6 -> 1 | O6: ='Evitabilidade 2023'!F6 -> 1 | P6: ='Evitabilidade 2023'!G6 -> 1 | Q6: ='Evitabilidade 2024'!B6 -> 0 | R6: ='Evitabilidade 2024'!F6 -> 0 | S6: ='Evitabilidade 2024'!G6 -> – | T6: =B6+E6+H6+K6+N6+Q6 -> 8 | U6: =C6+F6+I6+L6+O6+R6 -> 9 | V6: =IF(U6=0,"–",T6/U6) -> 0.88888889
A7: ='Evitabilidade 2019'!A7 -> 230426 Deputado Irapuan Pinheiro | B7: ='Evitabilidade 2019'!B7 -> 1 | C7: ='Evitabilidade 2019'!F7 -> 1 | D7: ='Evitabilidade 2019'!G7 -> 1 | E7: ='Evitabilidade 2020'!B7 -> 0 | F7: ='Evitabilidade 2020'!F7 -> 0 | G7: ='Evitabilidade 2020'!G7 -> – | H7: ='Evitabilidade 2021'!B7 -> 2 | I7: ='Evitabilidade 2021'!F7 -> 3 | J7: ='Evitabilidade 2021'!G7 -> 0.66666667 | K7: ='Evitabilidade 2022'!B7 -> 1 | L7: ='Evitabilidade 2022'!F7 -> 1 | M7: ='Evitabilidade 2022'!G7 -> 1 | N7: ='Evitabilidade 2023'!B7 -> 1 | O7: ='Evitabilidade 2023'!F7 -> 1 | P7: ='Evitabilidade 2023'!G7 -> 1 | Q7: ='Evitabilidade 2024'!B7 -> 0 | R7: ='Evitabilidade 2024'!F7 -> 1 | S7: ='Evitabilidade 2024'!G7 -> 0 | T7: =B7+E7+H7+K7+N7+Q7 -> 5 | U7: =C7+F7+I7+L7+O7+R7 -> 7 | V7: =IF(U7=0,"–",T7/U7) -> 0.71428571
